Workbook
Name Data_Table_1: 'Table 1'!$H$21:$L$264
Name Data_Table_2: 'Table 2'!$H$21:$L$29
Name Data_Table_3: 'Table 3'!$I$21:$S$264
Name Data_Table_3_1: 'Table 3.1'!$I$21:$S$264
Name Data_Table_3_2: 'Table 3.2'!$I$21:$S$264
Name Data_Table_3_2_1: 'Table 3.2.1'!$I$21:$S$264
Name Data_Table_3_2_2: 'Table 3.2.2'!$I$21:$S$264
Name Data_Table_4: 'Table 4'!$H$21:$L$264
Name Data_Table_5: 'Table 5'!$I$21:$P$262,'Table 5'!$I$264:$P$264
Name Data_Table_5_1: 'Table 5.1'!$I$21:$P$262,'Table 5.1'!$I$264:$P$264
Name Data_Table_5_2: 'Table 5.2'!$I$21:$P$262,'Table 5.2'!$I$264:$P$264
Name Data_Table_5_2_1: 'Table 5.2.1'!$I$21:$P$262,'Table 5.2.1'!$I$264:$P$264
Name Data_Table_5_2_2: 'Table 5.2.2'!$I$21:$P$262,'Table 5.2.2'!$I$264:$P$264
Name Data_Table_7: 'Table 7'!$H$21:$L$264
Name Range_ReportControl: 'Report Form'!$A$1:$B$1
Name Report_Version_Number: 'Report Form'!$A$3
Name Report_Version_Tag: 'Report Form'!$A$1
Name Reporting_Country_Code: 'Index Page'!$G$4
Name Reporting_Country_Name: 'Index Page'!$E$4
Name Reporting_Currency_Code: 'Index Page'!$G$5
Name Reporting_Currency_Name: 'Index Page'!$E$6
Name Reporting_Period_Code: 'Index Page'!$E$5
Name Reporting_Scale_Name: 'Index Page'!$E$7

Sheet General Instructions
C2: International Monetary Fund
C3: Coordinated Portfolio Investment Survey (CPIS)
C5: Instructions to the Compiler
C7: i. | D7: The concepts and principles underlying the collection and compilation of positions on portfolio investment (equity and investment fund shares, and long- and short-term debt securities) in the CPIS are identified in: | G7: The IMF’s Balance of Payments and International Investment Position Manual, sixth edition (BPM6)
C8: ii. | D8: The collection methods for the survey, as well as other practical issues are outlined in: | G8: The Coordinated Portfolio Investment Survey Guide (second edition, 2002)
C9: iii. | D9: Please also see: | G9: The CPIS Frequently Asked Questions (FAQs)
C10: iv. | D10: For questions regarding this survey, please send an email to cpis@imf.org.
C11: What to fill out
C12: 1 | E12: Core Items | F12: - | G12: The core items include a breakdown of portfolio investment positions by instrument (equity and investment fund shares, and long- and short-term debt securities); and with the securities geographically allocated by the economy of residence of the issuer, by type of security.
C13: 2 | E13: Encouraged Data (Assets) | F13: - | G13: i) currency of denomination of the securities held; ii) a breakdown by the institutional sector of the resident holder; iii) a breakdown by the institutional sector of the nonresident issuer (of the security); iv) a breakdown by institutional sector of the resident holder cross-classified by the institutional sector of the nonresident issuer for specified economies; and v) the separate reporting of short or negative positions.
C14: 3 | E14: Encouraged Data (Liabilities) | F14: - | G14: The CPIS also collects as an encouraged item, portfolio investment liabilities.
C15: How to fill out the report forms
C16: 4 | E16: Reporting unit | F16: - | G16: The preferred reporting unit is Million.
C17: 5 | E17: Reporting currency | F17: - | G17: The reporting currency is either Domestic currency, Euros or USD.
C18: 6 | E18: Zero Values | F18: - | G18: Zero values are observations actually collected, which are either zero (0) or below the level of relevance for the scale of the questionnaire (any data below the 0.5 unit). They should not be confused with not available data.
C19: 7 | E19: Not Available Data | F19: - | G19: Not available or missing values are data, which are not collected, and refer to lack of data, but not that the data is “0”.
C20: 8 | E20: Rounding | F20: - | G20: Rounding up to the next unit when decimals are equal to or larger than 0.5; otherwise they are rounded to zero (“0”).
C21: 9 | E21: Confidential Data | F21: - | G21: Confidential data should be reported with the symbol "c".
C22: 10 | E22: Not Specified (including Confidential) | F22: - | G22: The sheets with the geographical breakdown include a line for "Not specified (including Confidential)". This line refers to data that cannot be allocated for confidentiality reasons and holdings against unknown/unspecified counterparts.
C23: 11 | E23: No Links | F23: - | G23: Do not link to other files in the template. Otherwise all the data will not be uploaded.
C24: What to check for
C25: 12 | E25: Totals | F25: - | G25: For new data, the totals are the sum of related components. For revised data, there are no aggregation formulas. These totals are provided as they exist in our database.
C26: 13 | E26: Cross Checks | F26: - | G26: The report forms contain cross-checks for each instrument that has components, and are provided for consistency checks only, and will not be updated in our database.
C27: 14 | E27: Validation Checks | F27: - | G27: “Residual Disclosure” will appear if only a total or one of its components is reported as “c” confidential data making it possible to derive.

Sheet Index Page
A1: Domestic Currency | B1: 2
A2: US Dollars | B2: 1
A3: Euros | B3: 6
D4: Declaring country | E4: Cayman Islands | G4: 377
A5: Unit | B5: 1 | D5: Year | E5: 2021S2 | F5: =IF(RIGHT(T(E5),2)="S1"," As of end-June "&LEFT(T(E5),4),IF(RIGHT(T(E5),2)="S2"," As of end-December "&LEFT(T(E5),4),"")) -> As of end-December 2021 | G5: =VLOOKUP(Reporting_Currency_Name,$A$1:$B$3,2,FALSE) -> 1
A6: Thousand | B6: 3 | D6: Currency | E6: US Dollars
A7: Million | B7: 6 | D7: Scale | E7: Million
A8: Billion | B8: 9
A9: Trillion | B9: 12
H10: v1.0

Sheet Table 1
H1: Table 1: CPIS: Total Portfolio Investment Assets: Core 1
G4: Reporting Economy | H4: =Reporting_Country_Name -> Cayman Islands | J4: Country Code: | K4: =Reporting_Country_Code -> 377 | L4: Reference Date: | M4: =Reporting_Period_Code -> 2021S2
G7: Reporting Currency | H7: =Reporting_Currency_Name -> US Dollars | J7: Currency Code: | K7: =Reporting_Currency_Code -> 1 | L7: Scale | M7: =Reporting_Scale_Name -> Million
H13: Data Reported by Holder
F14: Code | M14: Residual Disclosure (Confidential value may be deducted through reported data) | N14: Cross-Check: Calculated Total = (I + J)-H | O14: Cross-Check: Calculated Total Debt Securities =(K + L)-J
H15: TOTAL ASSETS
E16: No. | G16: Economy of Nonresident Issuer | I16: Equiity Securities2 | J16: Total Debt Securities3 | K16: Long-term Debt Securities | L16: Short-term Debt Securities
B17: PPP | D17: Sector PPP | H17: .8B9999.A | I17: .8BA000.A | J17: .8BB000.A | K17: .8BB000.A | L17: .8BB000.A
H18: .A | I18: .A | J18: .A | K18: .A | L18: .A
G19: Maturity | H19: .A. | I19: .A. | J19: .A. | K19: .L. | L19: .S.
B20: PPP | C20: Of Which Currency | D20: Partner Sector | G20: Partner Sector
B21: .512 | D21: .A | E21: 1 | F21: AF | G21: Afghanistan, Islamic State of | H21: =IF(AND(I21="",J21=""),"",IF(OR(I21="c",J21="c"),"c",SUM(I21,J21))) -> 0 | I21: ='[1]Table 1'!$B2 -> 0 | J21: =IF(AND(K21="",L21=""),"",IF(OR(K21="c",L21="c"),"c",SUM(K21,L21))) -> 0 | K21: ='[1]Table 1'!$C2 -> 0 | L21: ='[1]Table 1'!$D2 -> 0 | M21: =IF(AND(SUM(COUNTIF(K21:L21,"c"),(COUNTIF(J21,"c")))=1,AND(K21<>"",L21<>"",J21<>"")),"Residual Disclosure",IF(AND(SUM(COUNTIF(I21:J21,"c"),(COUNTIF(H21,"c")))=1,AND(I21<>"",J21<>"",H21<>"")),"Residual Disclosure","")) | N21: =IF(M21<>"","",IF(OR(AND(H21="c",OR(J21="c",I21="c")),AND(H21<>"",I21="c",J21="c"),AND(H21<>"",J21="",I21="")),"",IF(OR(I21="c",J21="c"),"c",IF(ABS(SUM(I21,J21)-SUM(H21))>0.9,SUM(I21,J21)-SUM(H21),"")))) | O21: =IF(M21<>"","",IF(OR(AND(J21="c",OR(L21="c",K21="c")),AND(J21<>"",K21="c",L21="c"),AND(J21<>"",L21="",K21="")),"",IF(COUNTIF(K21:L21,"c")>1,"",IF(ABS(SUM(K21,L21)-SUM(J21))>0.9,SUM(K21,L21)-SUM(J21),""))))
B22: .914 | D22: .A | E22: 2 | F22: AL | G22: Albania | H22: =IF(AND(I22="",J22=""),"",IF(OR(I22="c",J22="c"),"c",SUM(I22,J22))) -> 0 | I22: ='[1]Table 1'!$B3 -> 0 | J22: =IF(AND(K22="",L22=""),"",IF(OR(K22="c",L22="c"),"c",SUM(K22,L22))) -> 0 | K22: ='[1]Table 1'!$C3 -> 0 | L22: ='[1]Table 1'!$D3 -> 0 | M22: =IF(AND(SUM(COUNTIF(K22:L22,"c"),(COUNTIF(J22,"c")))=1,AND(K22<>"",L22<>"",J22<>"")),"Residual Disclosure",IF(AND(SUM(COUNTIF(I22:J22,"c"),(COUNTIF(H22,"c")))=1,AND(I22<>"",J22<>"",H22<>"")),"Residual Disclosure","")) | N22: =IF(M22<>"","",IF(OR(AND(H22="c",OR(J22="c",I22="c")),AND(H22<>"",I22="c",J22="c"),AND(H22<>"",J22="",I22="")),"",IF(OR(I22="c",J22="c"),"c",IF(ABS(SUM(I22,J22)-SUM(H22))>0.9,SUM(I22,J22)-SUM(H22),"")))) | O22: =IF(M22<>"","",IF(OR(AND(J22="c",OR(L22="c",K22="c")),AND(J22<>"",K22="c",L22="c"),AND(J22<>"",L22="",K22="")),"",IF(COUNTIF(K22:L22,"c")>1,"",IF(ABS(SUM(K22,L22)-SUM(J22))>0.9,SUM(K22,L22)-SUM(J22),""))))
B23: .612 | D23: .A | E23: 3 | F23: DZ | G23: Algeria | H23: =IF(AND(I23="",J23=""),"",IF(OR(I23="c",J23="c"),"c",SUM(I23,J23))) -> 0 | I23: ='[1]Table 1'!$B4 -> 0 | J23: =IF(AND(K23="",L23=""),"",IF(OR(K23="c",L23="c"),"c",SUM(K23,L23))) -> 0 | K23: ='[1]Table 1'!$C4 -> 0 | L23: ='[1]Table 1'!$D4 -> 0 | M23: =IF(AND(SUM(COUNTIF(K23:L23,"c"),(COUNTIF(J23,"c")))=1,AND(K23<>"",L23<>"",J23<>"")),"Residual Disclosure",IF(AND(SUM(COUNTIF(I23:J23,"c"),(COUNTIF(H23,"c")))=1,AND(I23<>"",J23<>"",H23<>"")),"Residual Disclosure","")) | N23: =IF(M23<>"","",IF(OR(AND(H23="c",OR(J23="c",I23="c")),AND(H23<>"",I23="c",J23="c"),AND(H23<>"",J23="",I23="")),"",IF(OR(I23="c",J23="c"),"c",IF(ABS(SUM(I23,J23)-SUM(H23))>0.9,SUM(I23,J23)-SUM(H23),"")))) | O23: =IF(M23<>"","",IF(OR(AND(J23="c",OR(L23="c",K23="c")),AND(J23<>"",K23="c",L23="c"),AND(J23<>"",L23="",K23="")),"",IF(COUNTIF(K23:L23,"c")>1,"",IF(ABS(SUM(K23,L23)-SUM(J23))>0.9,SUM(K23,L23)-SUM(J23),""))))
B24: .859 | D24: .A | E24: 4 | F24: AS | G24: American Samoa | H24: =IF(AND(I24="",J24=""),"",IF(OR(I24="c",J24="c"),"c",SUM(I24,J24))) -> 0 | I24: ='[1]Table 1'!$B5 -> 0 | J24: =IF(AND(K24="",L24=""),"",IF(OR(K24="c",L24="c"),"c",SUM(K24,L24))) -> 0 | K24: ='[1]Table 1'!$C5 -> 0 | L24: ='[1]Table 1'!$D5 -> 0 | M24: =IF(AND(SUM(COUNTIF(K24:L24,"c"),(COUNTIF(J24,"c")))=1,AND(K24<>"",L24<>"",J24<>"")),"Residual Disclosure",IF(AND(SUM(COUNTIF(I24:J24,"c"),(COUNTIF(H24,"c")))=1,AND(I24<>"",J24<>"",H24<>"")),"Residual Disclosure","")) | N24: =IF(M24<>"","",IF(OR(AND(H24="c",OR(J24="c",I24="c")),AND(H24<>"",I24="c",J24="c"),AND(H24<>"",J24="",I24="")),"",IF(OR(I24="c",J24="c"),"c",IF(ABS(SUM(I24,J24)-SUM(H24))>0.9,SUM(I24,J24)-SUM(H24),"")))) | O24: =IF(M24<>"","",IF(OR(AND(J24="c",OR(L24="c",K24="c")),AND(J24<>"",K24="c",L24="c"),AND(J24<>"",L24="",K24="")),"",IF(COUNTIF(K24:L24,"c")>1,"",IF(ABS(SUM(K24,L24)-SUM(J24))>0.9,SUM(K24,L24)-SUM(J24),""))))
B25: .171 | D25: .A | E25: 5 | F25: AD | G25: Andorra | H25: =IF(AND(I25="",J25=""),"",IF(OR(I25="c",J25="c"),"c",SUM(I25,J25))) -> 0 | I25: ='[1]Table 1'!$B6 -> 0 | J25: =IF(AND(K25="",L25=""),"",IF(OR(K25="c",L25="c"),"c",SUM(K25,L25))) -> 0 | K25: ='[1]Table 1'!$C6 -> 0 | L25: ='[1]Table 1'!$D6 -> 0 | M25: =IF(AND(SUM(COUNTIF(K25:L25,"c"),(COUNTIF(J25,"c")))=1,AND(K25<>"",L25<>"",J25<>"")),"Residual Disclosure",IF(AND(SUM(COUNTIF(I25:J25,"c"),(COUNTIF(H25,"c")))=1,AND(I25<>"",J25<>"",H25<>"")),"Residual Disclosure","")) | N25: =IF(M25<>"","",IF(OR(AND(H25="c",OR(J25="c",I25="c")),AND(H25<>"",I25="c",J25="c"),AND(H25<>"",J25="",I25="")),"",IF(OR(I25="c",J25="c"),"c",IF(ABS(SUM(I25,J25)-SUM(H25))>0.9,SUM(I25,J25)-SUM(H25),"")))) | O25: =IF(M25<>"","",IF(OR(AND(J25="c",OR(L25="c",K25="c")),AND(J25<>"",K25="c",L25="c"),AND(J25<>"",L25="",K25="")),"",IF(COUNTIF(K25:L25,"c")>1,"",IF(ABS(SUM(K25,L25)-SUM(J25))>0.9,SUM(K25,L25)-SUM(J25),""))))
B26: .614 | D26: .A | E26: 6 | F26: AO | G26: Angola | H26: =IF(AND(I26="",J26=""),"",IF(OR(I26="c",J26="c"),"c",SUM(I26,J26))) -> 166.69408 | I26: ='[1]Table 1'!$B7 -> 0 | J26: =IF(AND(K26="",L26=""),"",IF(OR(K26="c",L26="c"),"c",SUM(K26,L26))) -> 166.69408 | K26: ='[1]Table 1'!$C7 -> 166.69408 | L26: ='[1]Table 1'!$D7 -> 0 | M26: =IF(AND(SUM(COUNTIF(K26:L26,"c"),(COUNTIF(J26,"c")))=1,AND(K26<>"",L26<>"",J26<>"")),"Residual Disclosure",IF(AND(SUM(COUNTIF(I26:J26,"c"),(COUNTIF(H26,"c")))=1,AND(I26<>"",J26<>"",H26<>"")),"Residual Disclosure","")) | N26: =IF(M26<>"","",IF(OR(AND(H26="c",OR(J26="c",I26="c")),AND(H26<>"",I26="c",J26="c"),AND(H26<>"",J26="",I26="")),"",IF(OR(I26="c",J26="c"),"c",IF(ABS(SUM(I26,J26)-SUM(H26))>0.9,SUM(I26,J26)-SUM(H26),"")))) | O26: =IF(M26<>"","",IF(OR(AND(J26="c",OR(L26="c",K26="c")),AND(J26<>"",K26="c",L26="c"),AND(J26<>"",L26="",K26="")),"",IF(COUNTIF(K26:L26,"c")>1,"",IF(ABS(SUM(K26,L26)-SUM(J26))>0.9,SUM(K26,L26)-SUM(J26),""))))
B27: .312 | D27: .A | E27: 7 | F27: AI | G27: Anguilla | H27: =IF(AND(I27="",J27=""),"",IF(OR(I27="c",J27="c"),"c",SUM(I27,J27))) -> 205.40712 | I27: ='[1]Table 1'!$B8 -> 205.40712 | J27: =IF(AND(K27="",L27=""),"",IF(OR(K27="c",L27="c"),"c",SUM(K27,L27))) -> 0 | K27: ='[1]Table 1'!$C8 -> 0 | L27: ='[1]Table 1'!$D8 -> 0 | M27: =IF(AND(SUM(COUNTIF(K27:L27,"c"),(COUNTIF(J27,"c")))=1,AND(K27<>"",L27<>"",J27<>"")),"Residual Disclosure",IF(AND(SUM(COUNTIF(I27:J27,"c"),(COUNTIF(H27,"c")))=1,AND(I27<>"",J27<>"",H27<>"")),"Residual Disclosure","")) | N27: =IF(M27<>"","",IF(OR(AND(H27="c",OR(J27="c",I27="c")),AND(H27<>"",I27="c",J27="c"),AND(H27<>"",J27="",I27="")),"",IF(OR(I27="c",J27="c"),"c",IF(ABS(SUM(I27,J27)-SUM(H27))>0.9,SUM(I27,J27)-SUM(H27),"")))) | O27: =IF(M27<>"","",IF(OR(AND(J27="c",OR(L27="c",K27="c")),AND(J27<>"",K27="c",L27="c"),AND(J27<>"",L27="",K27="")),"",IF(COUNTIF(K27:L27,"c")>1,"",IF(ABS(SUM(K27,L27)-SUM(J27))>0.9,SUM(K27,L27)-SUM(J27),""))))
B28: .311 | D28: .A | E28: 8 | F28: AG | G28: Antigua and Barbuda | H28: =IF(AND(I28="",J28=""),"",IF(OR(I28="c",J28="c"),"c",SUM(I28,J28))) -> 6.923839 | I28: ='[1]Table 1'!$B9 -> 0 | J28: =IF(AND(K28="",L28=""),"",IF(OR(K28="c",L28="c"),"c",SUM(K28,L28))) -> 6.923839 | K28: ='[1]Table 1'!$C9 -> 0 | L28: ='[1]Table 1'!$D9 -> 6.923839 | M28: =IF(AND(SUM(COUNTIF(K28:L28,"c"),(COUNTIF(J28,"c")))=1,AND(K28<>"",L28<>"",J28<>"")),"Residual Disclosure",IF(AND(SUM(COUNTIF(I28:J28,"c"),(COUNTIF(H28,"c")))=1,AND(I28<>"",J28<>"",H28<>"")),"Residual Disclosure","")) | N28: =IF(M28<>"","",IF(OR(AND(H28="c",OR(J28="c",I28="c")),AND(H28<>"",I28="c",J28="c"),AND(H28<>"",J28="",I28="")),"",IF(OR(I28="c",J28="c"),"c",IF(ABS(SUM(I28,J28)-SUM(H28))>0.9,SUM(I28,J28)-SUM(H28),"")))) | O28: =IF(M28<>"","",IF(OR(AND(J28="c",OR(L28="c",K28="c")),AND(J28<>"",K28="c",L28="c"),AND(J28<>"",L28="",K28="")),"",IF(COUNTIF(K28:L28,"c")>1,"",IF(ABS(SUM(K28,L28)-SUM(J28))>0.9,SUM(K28,L28)-SUM(J28),""))))
B29: .213 | D29: .A | E29: 9 | F29: AR | G29: Argentina | H29: =IF(AND(I29="",J29=""),"",IF(OR(I29="c",J29="c"),"c",SUM(I29,J29))) -> 3669.4002 | I29: ='[1]Table 1'!$B10 -> 139.01634 | J29: =IF(AND(K29="",L29=""),"",IF(OR(K29="c",L29="c"),"c",SUM(K29,L29))) -> 3530.3838 | K29: ='[1]Table 1'!$C10 -> 3508.2089 | L29: ='[1]Table 1'!$D10 -> 22.174898 | M29: =IF(AND(SUM(COUNTIF(K29:L29,"c"),(COUNTIF(J29,"c")))=1,AND(K29<>"",L29<>"",J29<>"")),"Residual Disclosure",IF(AND(SUM(COUNTIF(I29:J29,"c"),(COUNTIF(H29,"c")))=1,AND(I29<>"",J29<>"",H29<>"")),"Residual Disclosure","")) | N29: =IF(M29<>"","",IF(OR(AND(H29="c",OR(J29="c",I29="c")),AND(H29<>"",I29="c",J29="c"),AND(H29<>"",J29="",I29="")),"",IF(OR(I29="c",J29="c"),"c",IF(ABS(SUM(I29,J29)-SUM(H29))>0.9,SUM(I29,J29)-SUM(H29),"")))) | O29: =IF(M29<>"","",IF(OR(AND(J29="c",OR(L29="c",K29="c")),AND(J29<>"",K29="c",L29="c"),AND(J29<>"",L29="",K29="")),"",IF(COUNTIF(K29:L29,"c")>1,"",IF(ABS(SUM(K29,L29)-SUM(J29))>0.9,SUM(K29,L29)-SUM(J29),""))))
B30: .911 | D30: .A | E30: 10 | F30: AM | G30: Armenia | H30: =IF(AND(I30="",J30=""),"",IF(OR(I30="c",J30="c"),"c",SUM(I30,J30))) -> 2.69832 | I30: ='[1]Table 1'!$B11 -> 0 | J30: =IF(AND(K30="",L30=""),"",IF(OR(K30="c",L30="c"),"c",SUM(K30,L30))) -> 2.69832 | K30: ='[1]Table 1'!$C11 -> 2.583725 | L30: ='[1]Table 1'!$D11 -> 0.114595 | M30: =IF(AND(SUM(COUNTIF(K30:L30,"c"),(COUNTIF(J30,"c")))=1,AND(K30<>"",L30<>"",J30<>"")),"Residual Disclosure",IF(AND(SUM(COUNTIF(I30:J30,"c"),(COUNTIF(H30,"c")))=1,AND(I30<>"",J30<>"",H30<>"")),"Residual Disclosure","")) | N30: =IF(M30<>"","",IF(OR(AND(H30="c",OR(J30="c",I30="c")),AND(H30<>"",I30="c",J30="c"),AND(H30<>"",J30="",I30="")),"",IF(OR(I30="c",J30="c"),"c",IF(ABS(SUM(I30,J30)-SUM(H30))>0.9,SUM(I30,J30)-SUM(H30),"")))) | O30: =IF(M30<>"","",IF(OR(AND(J30="c",OR(L30="c",K30="c")),AND(J30<>"",K30="c",L30="c"),AND(J30<>"",L30="",K30="")),"",IF(COUNTIF(K30:L30,"c")>1,"",IF(ABS(SUM(K30,L30)-SUM(J30))>0.9,SUM(K30,L30)-SUM(J30),""))))
B31: .314 | D31: .A | E31: 11 | F31: AW | G31: Aruba | H31: =IF(AND(I31="",J31=""),"",IF(OR(I31="c",J31="c"),"c",SUM(I31,J31))) -> 30.479599 | I31: ='[1]Table 1'!$B12 -> 0 | J31: =IF(AND(K31="",L31=""),"",IF(OR(K31="c",L31="c"),"c",SUM(K31,L31))) -> 30.479599 | K31: ='[1]Table 1'!$C12 -> 25.479599 | L31: ='[1]Table 1'!$D12 -> 5 | M31: =IF(AND(SUM(COUNTIF(K31:L31,"c"),(COUNTIF(J31,"c")))=1,AND(K31<>"",L31<>"",J31<>"")),"Residual Disclosure",IF(AND(SUM(COUNTIF(I31:J31,"c"),(COUNTIF(H31,"c")))=1,AND(I31<>"",J31<>"",H31<>"")),"Residual Disclosure","")) | N31: =IF(M31<>"","",IF(OR(AND(H31="c",OR(J31="c",I31="c")),AND(H31<>"",I31="c",J31="c"),AND(H31<>"",J31="",I31="")),"",IF(OR(I31="c",J31="c"),"c",IF(ABS(SUM(I31,J31)-SUM(H31))>0.9,SUM(I31,J31)-SUM(H31),"")))) | O31: =IF(M31<>"","",IF(OR(AND(J31="c",OR(L31="c",K31="c")),AND(J31<>"",K31="c",L31="c"),AND(J31<>"",L31="",K31="")),"",IF(COUNTIF(K31:L31,"c")>1,"",IF(ABS(SUM(K31,L31)-SUM(J31))>0.9,SUM(K31,L31)-SUM(J31),""))))
B32: .193 | D32: .A | E32: 12 | F32: AU | G32: Australia | H32: =IF(AND(I32="",J32=""),"",IF(OR(I32="c",J32="c"),"c",SUM(I32,J32))) -> 13909.867 | I32: ='[1]Table 1'!$B13 -> 2877.8676 | J32: =IF(AND(K32="",L32=""),"",IF(OR(K32="c",L32="c"),"c",SUM(K32,L32))) -> 11031.999 | K32: ='[1]Table 1'!$C13 -> 10430.684 | L32: ='[1]Table 1'!$D13 -> 601.31528 | M32: =IF(AND(SUM(COUNTIF(K32:L32,"c"),(COUNTIF(J32,"c")))=1,AND(K32<>"",L32<>"",J32<>"")),"Residual Disclosure",IF(AND(SUM(COUNTIF(I32:J32,"c"),(COUNTIF(H32,"c")))=1,AND(I32<>"",J32<>"",H32<>"")),"Residual Disclosure","")) | N32: =IF(M32<>"","",IF(OR(AND(H32="c",OR(J32="c",I32="c")),AND(H32<>"",I32="c",J32="c"),AND(H32<>"",J32="",I32="")),"",IF(OR(I32="c",J32="c"),"c",IF(ABS(SUM(I32,J32)-SUM(H32))>0.9,SUM(I32,J32)-SUM(H32),"")))) | O32: =IF(M32<>"","",IF(OR(AND(J32="c",OR(L32="c",K32="c")),AND(J32<>"",K32="c",L32="c"),AND(J32<>"",L32="",K32="")),"",IF(COUNTIF(K32:L32,"c")>1,"",IF(ABS(SUM(K32,L32)-SUM(J32))>0.9,SUM(K32,L32)-SUM(J32),""))))
... B58: .156 | D58: .A | E58: 38 | F58: CA | G58: Canada | H58: =IF(AND(I58="",J58=""),"",IF(OR(I58="c",J58="c"),"c",SUM(I58,J58))) -> 53041.761 | I58: ='[1]Table 1'!$B39 -> 24016.644 | J58: =IF(AND(K58="",L58=""),"",IF(OR(K58="c",L58="c"),"c",SUM(K58,L58))) -> 29025.116 | K58: ='[1]Table 1'!$C39 -> 21359.246 | L58: ='[1]Table 1'!$D39 -> 7665.8702 | M58: =IF(AND(SUM(COUNTIF(K58:L58,"c"),(COUNTIF(J58,"c")))=1,AND(K58<>"",L58<>"",J58<>"")),"Residual Disclosure",IF(AND(SUM(COUNTIF(I58:J58,"c"),(COUNTIF(H58,"c")))=1,AND(I58<>"",J58<>"",H58<>"")),"Residual Disclosure","")) | N58: =IF(M58<>"","",IF(OR(AND(H58="c",OR(J58="c",I58="c")),AND(H58<>"",I58="c",J58="c"),AND(H58<>"",J58="",I58="")),"",IF(OR(I58="c",J58="c"),"c",IF(ABS(SUM(I58,J58)-SUM(H58))>0.9,SUM(I58,J58)-SUM(H58),"")))) | O58: =IF(M58<>"","",IF(OR(AND(J58="c",OR(L58="c",K58="c")),AND(J58<>"",K58="c",L58="c"),AND(J58<>"",L58="",K58="")),"",IF(COUNTIF(K58:L58,"c")>1,"",IF(ABS(SUM(K58,L58)-SUM(J58))>0.9,SUM(K58,L58)-SUM(J58),""))))
B59: .377 | D59: .A | E59: 39 | F59: KY | G59: Cayman Islands | H59: =IF(AND(I59="",J59=""),"",IF(OR(I59="c",J59="c"),"c",SUM(I59,J59))) -> 0 | I59: 0 | J59: =IF(AND(K59="",L59=""),"",IF(OR(K59="c",L59="c"),"c",SUM(K59,L59))) -> 0 | K59: 0 | L59: 0 | M59: =IF(AND(SUM(COUNTIF(K59:L59,"c"),(COUNTIF(J59,"c")))=1,AND(K59<>"",L59<>"",J59<>"")),"Residual Disclosure",IF(AND(SUM(COUNTIF(I59:J59,"c"),(COUNTIF(H59,"c")))=1,AND(I59<>"",J59<>"",H59<>"")),"Residual Disclosure","")) | N59: =IF(M59<>"","",IF(OR(AND(H59="c",OR(J59="c",I59="c")),AND(H59<>"",I59="c",J59="c"),AND(H59<>"",J59="",I59="")),"",IF(OR(I59="c",J59="c"),"c",IF(ABS(SUM(I59,J59)-SUM(H59))>0.9,SUM(I59,J59)-SUM(H59),"")))) | O59: =IF(M59<>"","",IF(OR(AND(J59="c",OR(L59="c",K59="c")),AND(J59<>"",K59="c",L59="c"),AND(J59<>"",L59="",K59="")),"",IF(COUNTIF(K59:L59,"c")>1,"",IF(ABS(SUM(K59,L59)-SUM(J59))>0.9,SUM(K59,L59)-SUM(J59),""))))
B60: .626 | D60: .A | E60: 40 | F60: CF | G60: Central African Republic | H60: =IF(AND(I60="",J60=""),"",IF(OR(I60="c",J60="c"),"c",SUM(I60,J60))) -> 0 | I60: ='[1]Table 1'!$B41 -> 0 | J60: =IF(AND(K60="",L60=""),"",IF(OR(K60="c",L60="c"),"c",SUM(K60,L60))) -> 0 | K60: ='[1]Table 1'!$C41 -> 0 | L60: ='[1]Table 1'!$D41 -> 0 | M60: =IF(AND(SUM(COUNTIF(K60:L60,"c"),(COUNTIF(J60,"c")))=1,AND(K60<>"",L60<>"",J60<>"")),"Residual Disclosure",IF(AND(SUM(COUNTIF(I60:J60,"c"),(COUNTIF(H60,"c")))=1,AND(I60<>"",J60<>"",H60<>"")),"Residual Disclosure","")) | N60: =IF(M60<>"","",IF(OR(AND(H60="c",OR(J60="c",I60="c")),AND(H60<>"",I60="c",J60="c"),AND(H60<>"",J60="",I60="")),"",IF(OR(I60="c",J60="c"),"c",IF(ABS(SUM(I60,J60)-SUM(H60))>0.9,SUM(I60,J60)-SUM(H60),"")))) | O60: =IF(M60<>"","",IF(OR(AND(J60="c",OR(L60="c",K60="c")),AND(J60<>"",K60="c",L60="c"),AND(J60<>"",L60="",K60="")),"",IF(COUNTIF(K60:L60,"c")>1,"",IF(ABS(SUM(K60,L60)-SUM(J60))>0.9,SUM(K60,L60)-SUM(J60),""))))
B61: .628 | D61: .A | E61: 41 | F61: TD | G61: Chad | H61: =IF(AND(I61="",J61=""),"",IF(OR(I61="c",J61="c"),"c",SUM(I61,J61))) -> 0 | I61: ='[1]Table 1'!$B42 -> 0 | J61: =IF(AND(K61="",L61=""),"",IF(OR(K61="c",L61="c"),"c",SUM(K61,L61))) -> 0 | K61: ='[1]Table 1'!$C42 -> 0 | L61: ='[1]Table 1'!$D42 -> 0 | M61: =IF(AND(SUM(COUNTIF(K61:L61,"c"),(COUNTIF(J61,"c")))=1,AND(K61<>"",L61<>"",J61<>"")),"Residual Disclosure",IF(AND(SUM(COUNTIF(I61:J61,"c"),(COUNTIF(H61,"c")))=1,AND(I61<>"",J61<>"",H61<>"")),"Residual Disclosure","")) | N61: =IF(M61<>"","",IF(OR(AND(H61="c",OR(J61="c",I61="c")),AND(H61<>"",I61="c",J61="c"),AND(H61<>"",J61="",I61="")),"",IF(OR(I61="c",J61="c"),"c",IF(ABS(SUM(I61,J61)-SUM(H61))>0.9,SUM(I61,J61)-SUM(H61),"")))) | O61: =IF(M61<>"","",IF(OR(AND(J61="c",OR(L61="c",K61="c")),AND(J61<>"",K61="c",L61="c"),AND(J61<>"",L61="",K61="")),"",IF(COUNTIF(K61:L61,"c")>1,"",IF(ABS(SUM(K61,L61)-SUM(J61))>0.9,SUM(K61,L61)-SUM(J61),""))))
B62: .228 | D62: .A | E62: 42 | F62: CL | G62: Chile | H62: =IF(AND(I62="",J62=""),"",IF(OR(I62="c",J62="c"),"c",SUM(I62,J62))) -> 486.88594 | I62: ='[1]Table 1'!$B43 -> 111.35633 | J62: =IF(AND(K62="",L62=""),"",IF(OR(K62="c",L62="c"),"c",SUM(K62,L62))) -> 375.52961 | K62: ='[1]Table 1'!$C43 -> 346.36421 | L62: ='[1]Table 1'!$D43 -> 29.165405 | M62: =IF(AND(SUM(COUNTIF(K62:L62,"c"),(COUNTIF(J62,"c")))=1,AND(K62<>"",L62<>"",J62<>"")),"Residual Disclosure",IF(AND(SUM(COUNTIF(I62:J62,"c"),(COUNTIF(H62,"c")))=1,AND(I62<>"",J62<>"",H62<>"")),"Residual Disclosure","")) | N62: =IF(M62<>"","",IF(OR(AND(H62="c",OR(J62="c",I62="c")),AND(H62<>"",I62="c",J62="c"),AND(H62<>"",J62="",I62="")),"",IF(OR(I62="c",J62="c"),"c",IF(ABS(SUM(I62,J62)-SUM(H62))>0.9,SUM(I62,J62)-SUM(H62),"")))) | O62: =IF(M62<>"","",IF(OR(AND(J62="c",OR(L62="c",K62="c")),AND(J62<>"",K62="c",L62="c"),AND(J62<>"",L62="",K62="")),"",IF(COUNTIF(K62:L62,"c")>1,"",IF(ABS(SUM(K62,L62)-SUM(J62))>0.9,SUM(K62,L62)-SUM(J62),""))))
B63: .532 | D63: .A | E63: 43 | F63: HK | G63: China, P.R.: Hong Kong | H63: =IF(AND(I63="",J63=""),"",IF(OR(I63="c",J63="c"),"c",SUM(I63,J63))) -> 22140.905 | I63: ='[1]Table 1'!$B44 -> 18500.467 | J63: =IF(AND(K63="",L63=""),"",IF(OR(K63="c",L63="c"),"c",SUM(K63,L63))) -> 3640.4374 | K63: ='[1]Table 1'!$C44 -> 3009.9211 | L63: ='[1]Table 1'!$D44 -> 630.51624 | M63: =IF(AND(SUM(COUNTIF(K63:L63,"c"),(COUNTIF(J63,"c")))=1,AND(K63<>"",L63<>"",J63<>"")),"Residual Disclosure",IF(AND(SUM(COUNTIF(I63:J63,"c"),(COUNTIF(H63,"c")))=1,AND(I63<>"",J63<>"",H63<>"")),"Residual Disclosure","")) | N63: =IF(M63<>"","",IF(OR(AND(H63="c",OR(J63="c",I63="c")),AND(H63<>"",I63="c",J63="c"),AND(H63<>"",J63="",I63="")),"",IF(OR(I63="c",J63="c"),"c",IF(ABS(SUM(I63,J63)-SUM(H63))>0.9,SUM(I63,J63)-SUM(H63),"")))) | O63: =IF(M63<>"","",IF(OR(AND(J63="c",OR(L63="c",K63="c")),AND(J63<>"",K63="c",L63="c"),AND(J63<>"",L63="",K63="")),"",IF(COUNTIF(K63:L63,"c")>1,"",IF(ABS(SUM(K63,L63)-SUM(J63))>0.9,SUM(K63,L63)-SUM(J63),""))))
B64: .546 | D64: .A | E64: 44 | F64: MO | G64: China, P.R.: Macao | H64: =IF(AND(I64="",J64=""),"",IF(OR(I64="c",J64="c"),"c",SUM(I64,J64))) -> 52.344986 | I64: ='[1]Table 1'!$B45 -> 0.629616 | J64: =IF(AND(K64="",L64=""),"",IF(OR(K64="c",L64="c"),"c",SUM(K64,L64))) -> 51.71537 | K64: ='[1]Table 1'!$C45 -> 51.71537 | L64: ='[1]Table 1'!$D45 -> 0 | M64: =IF(AND(SUM(COUNTIF(K64:L64,"c"),(COUNTIF(J64,"c")))=1,AND(K64<>"",L64<>"",J64<>"")),"Residual Disclosure",IF(AND(SUM(COUNTIF(I64:J64,"c"),(COUNTIF(H64,"c")))=1,AND(I64<>"",J64<>"",H64<>"")),"Residual Disclosure","")) | N64: =IF(M64<>"","",IF(OR(AND(H64="c",OR(J64="c",I64="c")),AND(H64<>"",I64="c",J64="c"),AND(H64<>"",J64="",I64="")),"",IF(OR(I64="c",J64="c"),"c",IF(ABS(SUM(I64,J64)-SUM(H64))>0.9,SUM(I64,J64)-SUM(H64),"")))) | O64: =IF(M64<>"","",IF(OR(AND(J64="c",OR(L64="c",K64="c")),AND(J64<>"",K64="c",L64="c"),AND(J64<>"",L64="",K64="")),"",IF(COUNTIF(K64:L64,"c")>1,"",IF(ABS(SUM(K64,L64)-SUM(J64))>0.9,SUM(K64,L64)-SUM(J64),""))))
B65: .924 | D65: .A | E65: 45 | F65: CN | G65: China, P.R.: Mainland | H65: =IF(AND(I65="",J65=""),"",IF(OR(I65="c",J65="c"),"c",SUM(I65,J65))) -> 145633.2 | I65: ='[1]Table 1'!$B46 -> 114322.28 | J65: =IF(AND(K65="",L65=""),"",IF(OR(K65="c",L65="c"),"c",SUM(K65,L65))) -> 31310.921 | K65: ='[1]Table 1'!$C46 -> 26948.108 | L65: ='[1]Table 1'!$D46 -> 4362.8136 | M65: =IF(AND(SUM(COUNTIF(K65:L65,"c"),(COUNTIF(J65,"c")))=1,AND(K65<>"",L65<>"",J65<>"")),"Residual Disclosure",IF(AND(SUM(COUNTIF(I65:J65,"c"),(COUNTIF(H65,"c")))=1,AND(I65<>"",J65<>"",H65<>"")),"Residual Disclosure","")) | N65: =IF(M65<>"","",IF(OR(AND(H65="c",OR(J65="c",I65="c")),AND(H65<>"",I65="c",J65="c"),AND(H65<>"",J65="",I65="")),"",IF(OR(I65="c",J65="c"),"c",IF(ABS(SUM(I65,J65)-SUM(H65))>0.9,SUM(I65,J65)-SUM(H65),"")))) | O65: =IF(M65<>"","",IF(OR(AND(J65="c",OR(L65="c",K65="c")),AND(J65<>"",K65="c",L65="c"),AND(J65<>"",L65="",K65="")),"",IF(COUNTIF(K65:L65,"c")>1,"",IF(ABS(SUM(K65,L65)-SUM(J65))>0.9,SUM(K65,L65)-SUM(J65),""))))
B66: .814 | D66: .A | E66: 46 | F66: CX | G66: Christmas Island | H66: =IF(AND(I66="",J66=""),"",IF(OR(I66="c",J66="c"),"c",SUM(I66,J66))) -> 25.679247 | I66: ='[1]Table 1'!$B47 -> 0 | J66: =IF(AND(K66="",L66=""),"",IF(OR(K66="c",L66="c"),"c",SUM(K66,L66))) -> 25.679247 | K66: ='[1]Table 1'!$C47 -> 0 | L66: ='[1]Table 1'!$D47 -> 25.679247 | M66: =IF(AND(SUM(COUNTIF(K66:L66,"c"),(COUNTIF(J66,"c")))=1,AND(K66<>"",L66<>"",J66<>"")),"Residual Disclosure",IF(AND(SUM(COUNTIF(I66:J66,"c"),(COUNTIF(H66,"c")))=1,AND(I66<>"",J66<>"",H66<>"")),"Residual Disclosure","")) | N66: =IF(M66<>"","",IF(OR(AND(H66="c",OR(J66="c",I66="c")),AND(H66<>"",I66="c",J66="c"),AND(H66<>"",J66="",I66="")),"",IF(OR(I66="c",J66="c"),"c",IF(ABS(SUM(I66,J66)-SUM(H66))>0.9,SUM(I66,J66)-SUM(H66),"")))) | O66: =IF(M66<>"","",IF(OR(AND(J66="c",OR(L66="c",K66="c")),AND(J66<>"",K66="c",L66="c"),AND(J66<>"",L66="",K66="")),"",IF(COUNTIF(K66:L66,"c")>1,"",IF(ABS(SUM(K66,L66)-SUM(J66))>0.9,SUM(K66,L66)-SUM(J66),""))))
B67: .865 | D67: .A | E67: 47 | F67: CC | G67: Cocos (Keeling) Islands | H67: =IF(AND(I67="",J67=""),"",IF(OR(I67="c",J67="c"),"c",SUM(I67,J67))) -> 0 | I67: ='[1]Table 1'!$B48 -> 0 | J67: =IF(AND(K67="",L67=""),"",IF(OR(K67="c",L67="c"),"c",SUM(K67,L67))) -> 0 | K67: ='[1]Table 1'!$C48 -> 0 | L67: ='[1]Table 1'!$D48 -> 0 | M67: =IF(AND(SUM(COUNTIF(K67:L67,"c"),(COUNTIF(J67,"c")))=1,AND(K67<>"",L67<>"",J67<>"")),"Residual Disclosure",IF(AND(SUM(COUNTIF(I67:J67,"c"),(COUNTIF(H67,"c")))=1,AND(I67<>"",J67<>"",H67<>"")),"Residual Disclosure","")) | N67: =IF(M67<>"","",IF(OR(AND(H67="c",OR(J67="c",I67="c")),AND(H67<>"",I67="c",J67="c"),AND(H67<>"",J67="",I67="")),"",IF(OR(I67="c",J67="c"),"c",IF(ABS(SUM(I67,J67)-SUM(H67))>0.9,SUM(I67,J67)-SUM(H67),"")))) | O67: =IF(M67<>"","",IF(OR(AND(J67="c",OR(L67="c",K67="c")),AND(J67<>"",K67="c",L67="c"),AND(J67<>"",L67="",K67="")),"",IF(COUNTIF(K67:L67,"c")>1,"",IF(ABS(SUM(K67,L67)-SUM(J67))>0.9,SUM(K67,L67)-SUM(J67),""))))
B68: .233 | D68: .A | E68: 48 | F68: CO | G68: Colombia | H68: =IF(AND(I68="",J68=""),"",IF(OR(I68="c",J68="c"),"c",SUM(I68,J68))) -> 14936.652 | I68: ='[1]Table 1'!$B49 -> 50.865903 | J68: =IF(AND(K68="",L68=""),"",IF(OR(K68="c",L68="c"),"c",SUM(K68,L68))) -> 14885.786 | K68: ='[1]Table 1'!$C49 -> 14857.02 | L68: ='[1]Table 1'!$D49 -> 28.76632 | M68: =IF(AND(SUM(COUNTIF(K68:L68,"c"),(COUNTIF(J68,"c")))=1,AND(K68<>"",L68<>"",J68<>"")),"Residual Disclosure",IF(AND(SUM(COUNTIF(I68:J68,"c"),(COUNTIF(H68,"c")))=1,AND(I68<>"",J68<>"",H68<>"")),"Residual Disclosure","")) | N68: =IF(M68<>"","",IF(OR(AND(H68="c",OR(J68="c",I68="c")),AND(H68<>"",I68="c",J68="c"),AND(H68<>"",J68="",I68="")),"",IF(OR(I68="c",J68="c"),"c",IF(ABS(SUM(I68,J68)-SUM(H68))>0.9,SUM(I68,J68)-SUM(H68),"")))) | O68: =IF(M68<>"","",IF(OR(AND(J68="c",OR(L68="c",K68="c")),AND(J68<>"",K68="c",L68="c"),AND(J68<>"",L68="",K68="")),"",IF(COUNTIF(K68:L68,"c")>1,"",IF(ABS(SUM(K68,L68)-SUM(J68))>0.9,SUM(K68,L68)-SUM(J68),""))))
B69: .632 | D69: .A | E69: 49 | F69: KM | G69: Comoros | H69: =IF(AND(I69="",J69=""),"",IF(OR(I69="c",J69="c"),"c",SUM(I69,J69))) -> 0 | I69: ='[1]Table 1'!$B50 -> 0 | J69: =IF(AND(K69="",L69=""),"",IF(OR(K69="c",L69="c"),"c",SUM(K69,L69))) -> 0 | K69: ='[1]Table 1'!$C50 -> 0 | L69: ='[1]Table 1'!$D50 -> 0 | M69: =IF(AND(SUM(COUNTIF(K69:L69,"c"),(COUNTIF(J69,"c")))=1,AND(K69<>"",L69<>"",J69<>"")),"Residual Disclosure",IF(AND(SUM(COUNTIF(I69:J69,"c"),(COUNTIF(H69,"c")))=1,AND(I69<>"",J69<>"",H69<>"")),"Residual Disclosure","")) | N69: =IF(M69<>"","",IF(OR(AND(H69="c",OR(J69="c",I69="c")),AND(H69<>"",I69="c",J69="c"),AND(H69<>"",J69="",I69="")),"",IF(OR(I69="c",J69="c"),"c",IF(ABS(SUM(I69,J69)-SUM(H69))>0.9,SUM(I69,J69)-SUM(H69),"")))) | O69: =IF(M69<>"","",IF(OR(AND(J69="c",OR(L69="c",K69="c")),AND(J69<>"",K69="c",L69="c"),AND(J69<>"",L69="",K69="")),"",IF(COUNTIF(K69:L69,"c")>1,"",IF(ABS(SUM(K69,L69)-SUM(J69))>0.9,SUM(K69,L69)-SUM(J69),""))))
B70: .636 | D70: .A | E70: 50 | F70: CD | G70: Congo, Dem. Rep. of | H70: =IF(AND(I70="",J70=""),"",IF(OR(I70="c",J70="c"),"c",SUM(I70,J70))) -> 20.089929 | I70: ='[1]Table 1'!$B51 -> 0 | J70: =IF(AND(K70="",L70=""),"",IF(OR(K70="c",L70="c"),"c",SUM(K70,L70))) -> 20.089929 | K70: ='[1]Table 1'!$C51 -> 0 | L70: ='[1]Table 1'!$D51 -> 20.089929 | M70: =IF(AND(SUM(COUNTIF(K70:L70,"c"),(COUNTIF(J70,"c")))=1,AND(K70<>"",L70<>"",J70<>"")),"Residual Disclosure",IF(AND(SUM(COUNTIF(I70:J70,"c"),(COUNTIF(H70,"c")))=1,AND(I70<>"",J70<>"",H70<>"")),"Residual Disclosure","")) | N70: =IF(M70<>"","",IF(OR(AND(H70="c",OR(J70="c",I70="c")),AND(H70<>"",I70="c",J70="c"),AND(H70<>"",J70="",I70="")),"",IF(OR(I70="c",J70="c"),"c",IF(ABS(SUM(I70,J70)-SUM(H70))>0.9,SUM(I70,J70)-SUM(H70),"")))) | O70: =IF(M70<>"","",IF(OR(AND(J70="c",OR(L70="c",K70="c")),AND(J70<>"",K70="c",L70="c"),AND(J70<>"",L70="",K70="")),"",IF(COUNTIF(K70:L70,"c")>1,"",IF(ABS(SUM(K70,L70)-SUM(J70))>0.9,SUM(K70,L70)-SUM(J70),""))))
B71: .634 | D71: .A | E71: 51 | F71: CG | G71: Congo, Rep. of | H71: =IF(AND(I71="",J71=""),"",IF(OR(I71="c",J71="c"),"c",SUM(I71,J71))) -> 0 | I71: ='[1]Table 1'!$B52 -> 0 | J71: =IF(AND(K71="",L71=""),"",IF(OR(K71="c",L71="c"),"c",SUM(K71,L71))) -> 0 | K71: ='[1]Table 1'!$C52 -> 0 | L71: ='[1]Table 1'!$D52 -> 0 | M71: =IF(AND(SUM(COUNTIF(K71:L71,"c"),(COUNTIF(J71,"c")))=1,AND(K71<>"",L71<>"",J71<>"")),"Residual Disclosure",IF(AND(SUM(COUNTIF(I71:J71,"c"),(COUNTIF(H71,"c")))=1,AND(I71<>"",J71<>"",H71<>"")),"Residual Disclosure","")) | N71: =IF(M71<>"","",IF(OR(AND(H71="c",OR(J71="c",I71="c")),AND(H71<>"",I71="c",J71="c"),AND(H71<>"",J71="",I71="")),"",IF(OR(I71="c",J71="c"),"c",IF(ABS(SUM(I71,J71)-SUM(H71))>0.9,SUM(I71,J71)-SUM(H71),"")))) | O71: =IF(M71<>"","",IF(OR(AND(J71="c",OR(L71="c",K71="c")),AND(J71<>"",K71="c",L71="c"),AND(J71<>"",L71="",K71="")),"",IF(COUNTIF(K71:L71,"c")>1,"",IF(ABS(SUM(K71,L71)-SUM(J71))>0.9,SUM(K71,L71)-SUM(J71),""))))
... B180: .849 | D180: .A | E180: 160 | F180: NF | G180: Norfolk Island | H180: =IF(AND(I180="",J180=""),"",IF(OR(I180="c",J180="c"),"c",SUM(I180,J180))) -> 0 | I180: ='[1]Table 1'!$B161 -> 0 | J180: =IF(AND(K180="",L180=""),"",IF(OR(K180="c",L180="c"),"c",SUM(K180,L180))) -> 0 | K180: ='[1]Table 1'!$C161 -> 0 | L180: ='[1]Table 1'!$D161 -> 0 | M180: =IF(AND(SUM(COUNTIF(K180:L180,"c"),(COUNTIF(J180,"c")))=1,AND(K180<>"",L180<>"",J180<>"")),"Residual Disclosure",IF(AND(SUM(COUNTIF(I180:J180,"c"),(COUNTIF(H180,"c")))=1,AND(I180<>"",J180<>"",H180<>"")),"Residual Disclosure","")) | N180: =IF(M180<>"","",IF(OR(AND(H180="c",OR(J180="c",I180="c")),AND(H180<>"",I180="c",J180="c"),AND(H180<>"",J180="",I180="")),"",IF(OR(I180="c",J180="c"),"c",IF(ABS(SUM(I180,J180)-SUM(H180))>0.9,SUM(I180,J180)-SUM(H180),"")))) | O180: =IF(M180<>"","",IF(OR(AND(J180="c",OR(L180="c",K180="c")),AND(J180<>"",K180="c",L180="c"),AND(J180<>"",L180="",K180="")),"",IF(COUNTIF(K180:L180,"c")>1,"",IF(ABS(SUM(K180,L180)-SUM(J180))>0.9,SUM(K180,L180)-SUM(J180),""))))
B181: .962 | D181: .A | E181: 161 | F181: MK | G181: North Macedonia, Republic of | H181: =IF(AND(I181="",J181=""),"",IF(OR(I181="c",J181="c"),"c",SUM(I181,J181))) -> 0 | I181: ='[1]Table 1'!$B162 -> 0 | J181: =IF(AND(K181="",L181=""),"",IF(OR(K181="c",L181="c"),"c",SUM(K181,L181))) -> 0 | K181: ='[1]Table 1'!$C162 -> 0 | L181: ='[1]Table 1'!$D162 -> 0 | N181: =IF(M181<>"","",IF(OR(AND(H181="c",OR(J181="c",I181="c")),AND(H181<>"",I181="c",J181="c"),AND(H181<>"",J181="",I181="")),"",IF(OR(I181="c",J181="c"),"c",IF(ABS(SUM(I181,J181)-SUM(H181))>0.9,SUM(I181,J181)-SUM(H181),"")))) | O181: =IF(M181<>"","",IF(OR(AND(J181="c",OR(L181="c",K181="c")),AND(J181<>"",K181="c",L181="c"),AND(J181<>"",L181="",K181="")),"",IF(COUNTIF(K181:L181,"c")>1,"",IF(ABS(SUM(K181,L181)-SUM(J181))>0.9,SUM(K181,L181)-SUM(J181),""))))
B182: .142 | D182: .A | E182: 162 | F182: NO | G182: Norway | H182: =IF(AND(I182="",J182=""),"",IF(OR(I182="c",J182="c"),"c",SUM(I182,J182))) -> 3498.6275 | I182: ='[1]Table 1'!$B163 -> 376.42638 | J182: =IF(AND(K182="",L182=""),"",IF(OR(K182="c",L182="c"),"c",SUM(K182,L182))) -> 3122.2012 | K182: ='[1]Table 1'!$C163 -> 3073.9675 | L182: ='[1]Table 1'!$D163 -> 48.233679 | M182: =IF(AND(SUM(COUNTIF(K182:L182,"c"),(COUNTIF(J182,"c")))=1,AND(K182<>"",L182<>"",J182<>"")),"Residual Disclosure",IF(AND(SUM(COUNTIF(I182:J182,"c"),(COUNTIF(H182,"c")))=1,AND(I182<>"",J182<>"",H182<>"")),"Residual Disclosure","")) | N182: =IF(M182<>"","",IF(OR(AND(H182="c",OR(J182="c",I182="c")),AND(H182<>"",I182="c",J182="c"),AND(H182<>"",J182="",I182="")),"",IF(OR(I182="c",J182="c"),"c",IF(ABS(SUM(I182,J182)-SUM(H182))>0.9,SUM(I182,J182)-SUM(H182),"")))) | O182: =IF(M182<>"","",IF(OR(AND(J182="c",OR(L182="c",K182="c")),AND(J182<>"",K182="c",L182="c"),AND(J182<>"",L182="",K182="")),"",IF(COUNTIF(K182:L182,"c")>1,"",IF(ABS(SUM(K182,L182)-SUM(J182))>0.9,SUM(K182,L182)-SUM(J182),""))))
...

Sheet Table 2
H1: Table 2: CPIS: Portfolio Investment Assets by Currency of Denomination of the Securities Held: Encouraged
G4: Reporting Economy | H4: =Reporting_Country_Name -> Cayman Islands | J4: Country Code: | K4: =Reporting_Country_Code -> 377 | L4: Reference Date: | M4: =Reporting_Period_Code -> 2021S2
G7: Reporting Currency | H7: =Reporting_Currency_Name -> US Dollars | J7: Currency Code: | K7: =Reporting_Currency_Code -> 1 | L7: Scale | M7: =Reporting_Scale_Name -> Million
H14: Data Reported by Holder
G15: Currency of denomination of the Securities Held | M15: Residual Disclosure (Confidential value may be deducted through reported data) | N15: Cross-Check: Calculated Total = (I + J)-H | O15: Cross-Check: Calculated Total Debt Securities =( K + L)-J
H16: TOTAL | I16: Equity Securities1 | J16: Total Debt Securities2 | K16: Long-term Debt Securities | L16: Short-term Debt Securities
G17: Timeseries code: | H17: .8B999 | I17: .8BA00 | J17: .8BB00 | K17: .8BB00 | L17: .8BB00
H18: .A | I18: .A | J18: .A | K18: .A | L18: .A
G19: Maturity | H19: .A. | I19: .A. | J19: .A. | K19: .L. | L19: .S.
B20: PPP | C20: Of Which Currency | D20: Partner Sector
A21: 1 | B21: .001 | C21: P.A | D21: .A | G21: US Dollar | H21: =IF(AND(I21="",J21=""),"",IF(OR(I21="c",J21="c"),"c",I21+J21)) -> 2436769.9 | I21: =(601135805+'[1]2. FAR CPIS BY CURRENCY BY COUN'!$I$508)/1000000+1505447.3-1495908 -> 1313321.3 | J21: =IF(AND(K21="",L21=""),"",IF(OR(K21="c",L21="c"),"c",K21+L21)) -> 1123448.6 | K21: =(139060013+'[1]2. FAR CPIS BY CURRENCY BY COUN'!$L$508)/1000000+97899.9-30493.75 -> 839663.43 | L21: =(2740608+'[1]2. FAR CPIS BY CURRENCY BY COUN'!$O$508)/1000000+11697.8-1851 -> 283785.15 | M21: =IF(AND(SUM(COUNTIF(K21:L21,"c"),(COUNTIF(J21,"c")))=1,AND(K21<>"",L21<>"",J21<>"")),"Residual Disclosure",IF(AND(SUM(COUNTIF(I21:J21,"c"),(COUNTIF(H21,"c")))=1,AND(I21<>"",J21<>"",H21<>"")),"Residual Disclosure","")) | N21: =IF(M21<>"","",IF(OR(AND(H21="c",OR(J21="c",I21="c")),AND(H21<>"",I21="c",J21="c"),AND(H21<>"",J21="",I21="")),"",IF(OR(I21="c",J21="c"),"c",IF(ABS(SUM(I21,J21)-SUM(H21))>1,SUM(I21,J21)-SUM(H21),"")))) | O21: =IF(M21<>"","",IF(OR(AND(J21="c",OR(L21="c",K21="c")),AND(J21<>"",K21="c",L21="c"),AND(J21<>"",L21="",K21="")),"",IF(COUNTIF(K21:L21,"c")>1,"",IF(ABS(SUM(K21,L21)-SUM(J21))>1,SUM(K21,L21)-SUM(J21),""))))
A22: 2 | B22: .001 | C22: Q.A | D22: .A | G22: Euro | H22: =IF(AND(I22="",J22=""),"",IF(OR(I22="c",J22="c"),"c",I22+J22)) -> 39540.136 | I22: =('[1]2. FAR CPIS BY CURRENCY BY COUN'!$I$498)/1000000 -> 21771.431 | J22: =IF(AND(K22="",L22=""),"",IF(OR(K22="c",L22="c"),"c",K22+L22)) -> 17768.705 | K22: =('[1]2. FAR CPIS BY CURRENCY BY COUN'!$L$498)/1000000 -> 16359.605 | L22: =('[1]2. FAR CPIS BY CURRENCY BY COUN'!$O$498)/1000000 -> 1409.0999 | M22: =IF(AND(SUM(COUNTIF(K22:L22,"c"),(COUNTIF(J22,"c")))=1,AND(K22<>"",L22<>"",J22<>"")),"Residual Disclosure",IF(AND(SUM(COUNTIF(I22:J22,"c"),(COUNTIF(H22,"c")))=1,AND(I22<>"",J22<>"",H22<>"")),"Residual Disclosure","")) | N22: =IF(M22<>"","",IF(OR(AND(H22="c",OR(J22="c",I22="c")),AND(H22<>"",I22="c",J22="c"),AND(H22<>"",J22="",I22="")),"",IF(OR(I22="c",J22="c"),"c",IF(ABS(SUM(I22,J22)-SUM(H22))>1,SUM(I22,J22)-SUM(H22),"")))) | O22: =IF(M22<>"","",IF(OR(AND(J22="c",OR(L22="c",K22="c")),AND(J22<>"",K22="c",L22="c"),AND(J22<>"",L22="",K22="")),"",IF(COUNTIF(K22:L22,"c")>1,"",IF(ABS(SUM(K22,L22)-SUM(J22))>1,SUM(K22,L22)-SUM(J22),""))))
A23: 3 | B23: .001 | C23: R.A | D23: .A | G23: British Pound | H23: =IF(AND(I23="",J23=""),"",IF(OR(I23="c",J23="c"),"c",I23+J23)) -> 7705.4588 | I23: =('[1]2. FAR CPIS BY CURRENCY BY COUN'!$I$499)/1000000 -> 5630.3241 | J23: =IF(AND(K23="",L23=""),"",IF(OR(K23="c",L23="c"),"c",K23+L23)) -> 2075.1347 | K23: =('[1]2. FAR CPIS BY CURRENCY BY COUN'!$L$499)/1000000 -> 1403.7242 | L23: =('[1]2. FAR CPIS BY CURRENCY BY COUN'!$O$499)/1000000 -> 671.41049 | M23: =IF(AND(SUM(COUNTIF(K23:L23,"c"),(COUNTIF(J23,"c")))=1,AND(K23<>"",L23<>"",J23<>"")),"Residual Disclosure",IF(AND(SUM(COUNTIF(I23:J23,"c"),(COUNTIF(H23,"c")))=1,AND(I23<>"",J23<>"",H23<>"")),"Residual Disclosure","")) | N23: =IF(M23<>"","",IF(OR(AND(H23="c",OR(J23="c",I23="c")),AND(H23<>"",I23="c",J23="c"),AND(H23<>"",J23="",I23="")),"",IF(OR(I23="c",J23="c"),"c",IF(ABS(SUM(I23,J23)-SUM(H23))>1,SUM(I23,J23)-SUM(H23),"")))) | O23: =IF(M23<>"","",IF(OR(AND(J23="c",OR(L23="c",K23="c")),AND(J23<>"",K23="c",L23="c"),AND(J23<>"",L23="",K23="")),"",IF(COUNTIF(K23:L23,"c")>1,"",IF(ABS(SUM(K23,L23)-SUM(J23))>1,SUM(K23,L23)-SUM(J23),""))))
A24: 4 | B24: .001 | C24: S.A | D24: .A | G24: Japanese Yen | H24: =IF(AND(I24="",J24=""),"",IF(OR(I24="c",J24="c"),"c",I24+J24)) -> 376556.57 | I24: =('[1]2. FAR CPIS BY CURRENCY BY COUN'!$I$502)/1000000 -> 52912.664 | J24: =IF(AND(K24="",L24=""),"",IF(OR(K24="c",L24="c"),"c",K24+L24)) -> 323643.9 | K24: =('[1]2. FAR CPIS BY CURRENCY BY COUN'!$L$502)/1000000 -> 310615.34 | L24: =('[1]2. FAR CPIS BY CURRENCY BY COUN'!$O$502)/1000000 -> 13028.56 | M24: =IF(AND(SUM(COUNTIF(K24:L24,"c"),(COUNTIF(J24,"c")))=1,AND(K24<>"",L24<>"",J24<>"")),"Residual Disclosure",IF(AND(SUM(COUNTIF(I24:J24,"c"),(COUNTIF(H24,"c")))=1,AND(I24<>"",J24<>"",H24<>"")),"Residual Disclosure","")) | N24: =IF(M24<>"","",IF(OR(AND(H24="c",OR(J24="c",I24="c")),AND(H24<>"",I24="c",J24="c"),AND(H24<>"",J24="",I24="")),"",IF(OR(I24="c",J24="c"),"c",IF(ABS(SUM(I24,J24)-SUM(H24))>1,SUM(I24,J24)-SUM(H24),"")))) | O24: =IF(M24<>"","",IF(OR(AND(J24="c",OR(L24="c",K24="c")),AND(J24<>"",K24="c",L24="c"),AND(J24<>"",L24="",K24="")),"",IF(COUNTIF(K24:L24,"c")>1,"",IF(ABS(SUM(K24,L24)-SUM(J24))>1,SUM(K24,L24)-SUM(J24),""))))
A25: 5 | B25: .001 | C25: T.A | D25: .A | G25: Swiss Franc | H25: =IF(AND(I25="",J25=""),"",IF(OR(I25="c",J25="c"),"c",I25+J25)) -> 831.01556 | I25: =('[1]2. FAR CPIS BY CURRENCY BY COUN'!$I$494)/1000000 -> 652.77691 | J25: =IF(AND(K25="",L25=""),"",IF(OR(K25="c",L25="c"),"c",K25+L25)) -> 178.23865 | K25: =('[1]2. FAR CPIS BY CURRENCY BY COUN'!$L$494)/1000000 -> 151.38204 | L25: =('[1]2. FAR CPIS BY CURRENCY BY COUN'!$O$494)/1000000 -> 26.85662 | M25: =IF(AND(SUM(COUNTIF(K25:L25,"c"),(COUNTIF(J25,"c")))=1,AND(K25<>"",L25<>"",J25<>"")),"Residual Disclosure",IF(AND(SUM(COUNTIF(I25:J25,"c"),(COUNTIF(H25,"c")))=1,AND(I25<>"",J25<>"",H25<>"")),"Residual Disclosure","")) | N25: =IF(M25<>"","",IF(OR(AND(H25="c",OR(J25="c",I25="c")),AND(H25<>"",I25="c",J25="c"),AND(H25<>"",J25="",I25="")),"",IF(OR(I25="c",J25="c"),"c",IF(ABS(SUM(I25,J25)-SUM(H25))>1,SUM(I25,J25)-SUM(H25),"")))) | O25: =IF(M25<>"","",IF(OR(AND(J25="c",OR(L25="c",K25="c")),AND(J25<>"",K25="c",L25="c"),AND(J25<>"",L25="",K25="")),"",IF(COUNTIF(K25:L25,"c")>1,"",IF(ABS(SUM(K25,L25)-SUM(J25))>1,SUM(K25,L25)-SUM(J25),""))))
B26: .001 | C26: V.A | D26: .A | G26: Chinese Renminbi | H26: =IF(AND(I26="",J26=""),"",IF(OR(I26="c",J26="c"),"c",I26+J26)) -> 783.36477 | I26: =('[1]2. FAR CPIS BY CURRENCY BY COUN'!$I$496)/1000000 -> 280.48293 | J26: =IF(AND(K26="",L26=""),"",IF(OR(K26="c",L26="c"),"c",K26+L26)) -> 502.88184 | K26: =('[1]2. FAR CPIS BY CURRENCY BY COUN'!$L$496)/1000000 -> 502.88184 | L26: =('[1]2. FAR CPIS BY CURRENCY BY COUN'!$O$496)/1000000 -> 0 | M26: =IF(AND(SUM(COUNTIF(K26:L26,"c"),(COUNTIF(J26,"c")))=1,AND(K26<>"",L26<>"",J26<>"")),"Residual Disclosure",IF(AND(SUM(COUNTIF(I26:J26,"c"),(COUNTIF(H26,"c")))=1,AND(I26<>"",J26<>"",H26<>"")),"Residual Disclosure","")) | N26: =IF(M26<>"","",IF(OR(AND(H26="c",OR(J26="c",I26="c")),AND(H26<>"",I26="c",J26="c"),AND(H26<>"",J26="",I26="")),"",IF(OR(I26="c",J26="c"),"c",IF(ABS(SUM(I26,J26)-SUM(H26))>1,SUM(I26,J26)-SUM(H26),"")))) | O26: =IF(M26<>"","",IF(OR(AND(J26="c",OR(L26="c",K26="c")),AND(J26<>"",K26="c",L26="c"),AND(J26<>"",L26="",K26="")),"",IF(COUNTIF(K26:L26,"c")>1,"",IF(ABS(SUM(K26,L26)-SUM(J26))>1,SUM(K26,L26)-SUM(J26),""))))
B27: .001 | C27: W.A | D27: .A | G27: Australian Dollar | H27: =IF(AND(I27="",J27=""),"",IF(OR(I27="c",J27="c"),"c",I27+J27)) -> 4380.9234 | I27: =('[1]2. FAR CPIS BY CURRENCY BY COUN'!$I$491)/1000000 -> 2593.6978 | J27: =IF(AND(K27="",L27=""),"",IF(OR(K27="c",L27="c"),"c",K27+L27)) -> 1787.2256 | K27: =('[1]2. FAR CPIS BY CURRENCY BY COUN'!$L$491)/1000000 -> 1700.5099 | L27: =('[1]2. FAR CPIS BY CURRENCY BY COUN'!$O$491)/1000000 -> 86.715659 | M27: =IF(AND(SUM(COUNTIF(K27:L27,"c"),(COUNTIF(J27,"c")))=1,AND(K27<>"",L27<>"",J27<>"")),"Residual Disclosure",IF(AND(SUM(COUNTIF(I27:J27,"c"),(COUNTIF(H27,"c")))=1,AND(I27<>"",J27<>"",H27<>"")),"Residual Disclosure","")) | N27: =IF(M27<>"","",IF(OR(AND(H27="c",OR(J27="c",I27="c")),AND(H27<>"",I27="c",J27="c"),AND(H27<>"",J27="",I27="")),"",IF(OR(I27="c",J27="c"),"c",IF(ABS(SUM(I27,J27)-SUM(H27))>1,SUM(I27,J27)-SUM(H27),"")))) | O27: =IF(M27<>"","",IF(OR(AND(J27="c",OR(L27="c",K27="c")),AND(J27<>"",K27="c",L27="c"),AND(J27<>"",L27="",K27="")),"",IF(COUNTIF(K27:L27,"c")>1,"",IF(ABS(SUM(K27,L27)-SUM(J27))>1,SUM(K27,L27)-SUM(J27),""))))
B28: .001 | C28: X.A | D28: .A | G28: Canadian Dollar | H28: =IF(AND(I28="",J28=""),"",IF(OR(I28="c",J28="c"),"c",I28+J28)) -> 7626.5374 | I28: =('[1]2. FAR CPIS BY CURRENCY BY COUN'!$I$493)/1000000 -> 2869.7346 | J28: =IF(AND(K28="",L28=""),"",IF(OR(K28="c",L28="c"),"c",K28+L28)) -> 4756.8028 | K28: =('[1]2. FAR CPIS BY CURRENCY BY COUN'!$L$493)/1000000 -> 3744.2987 | L28: =('[1]2. FAR CPIS BY CURRENCY BY COUN'!$O$493)/1000000 -> 1012.5041 | M28: =IF(AND(SUM(COUNTIF(K28:L28,"c"),(COUNTIF(J28,"c")))=1,AND(K28<>"",L28<>"",J28<>"")),"Residual Disclosure",IF(AND(SUM(COUNTIF(I28:J28,"c"),(COUNTIF(H28,"c")))=1,AND(I28<>"",J28<>"",H28<>"")),"Residual Disclosure","")) | N28: =IF(M28<>"","",IF(OR(AND(H28="c",OR(J28="c",I28="c")),AND(H28<>"",I28="c",J28="c"),AND(H28<>"",J28="",I28="")),"",IF(OR(I28="c",J28="c"),"c",IF(ABS(SUM(I28,J28)-SUM(H28))>1,SUM(I28,J28)-SUM(H28),"")))) | O28: =IF(M28<>"","",IF(OR(AND(J28="c",OR(L28="c",K28="c")),AND(J28<>"",K28="c",L28="c"),AND(J28<>"",L28="",K28="")),"",IF(COUNTIF(K28:L28,"c")>1,"",IF(ABS(SUM(K28,L28)-SUM(J28))>1,SUM(K28,L28)-SUM(J28),""))))
A29: 6 | B29: .001 | C29: U.A | D29: .A | G29: Other3 | H29: =IF(AND(I29="",J29=""),"",IF(OR(I29="c",J29="c"),"c",I29+J29)) -> 16993.185 | I29: =('[1]2. FAR CPIS BY CURRENCY BY COUN'!$I$492+'[1]2. FAR CPIS BY CURRENCY BY COUN'!$I$495+'[1]2. FAR CPIS BY CURRENCY BY COUN'!$I$497+'[1]2. FAR CPIS BY CURRENCY BY COUN'!$I$500+'[1]2. FAR CPIS BY CURRENCY BY COUN'!$I$501+'[1]2. FAR CPIS BY CURRENCY BY COUN'!$I$503+'[1]2. FAR CPIS BY CURRENCY BY COUN'!$I$504+'[1]2. FAR CPIS BY CURRENCY BY COUN'!$I$505+'[1]2. FAR CPIS BY CURRENCY BY COUN'!$I$506+'[1]2. FAR CPIS BY CURRENCY BY COUN'!$I$507)/1000000 -> 10662.668 | J29: =IF(AND(K29="",L29=""),"",IF(OR(K29="c",L29="c"),"c",K29+L29)) -> 6330.5166 | K29: =('[1]2. FAR CPIS BY CURRENCY BY COUN'!$L$492+'[1]2. FAR CPIS BY CURRENCY BY COUN'!$L$495+'[1]2. FAR CPIS BY CURRENCY BY COUN'!$L$497+'[1]2. FAR CPIS BY CURRENCY BY COUN'!$L$500+'[1]2. FAR CPIS BY CURRENCY BY COUN'!$L$501+'[1]2. FAR CPIS BY CURRENCY BY COUN'!$L$503+'[1]2. FAR CPIS BY CURRENCY BY COUN'!$L$504+'[1]2. FAR CPIS BY CURRENCY BY COUN'!$L$505+'[1]2. FAR CPIS BY CURRENCY BY COUN'!$L$506+'[1]2. FAR CPIS BY CURRENCY BY COUN'!$L$507)/1000000 -> 4579.9494 | L29: =(119841452+'[1]2. FAR CPIS BY CURRENCY BY COUN'!$O$492+'[1]2. FAR CPIS BY CURRENCY BY COUN'!$O$495+'[1]2. FAR CPIS BY CURRENCY BY COUN'!$O$497+'[1]2. FAR CPIS BY CURRENCY BY COUN'!$O$500+'[1]2. FAR CPIS BY CURRENCY BY COUN'!$O$501+'[1]2. FAR CPIS BY CURRENCY BY COUN'!$O$503+'[1]2. FAR CPIS BY CURRENCY BY COUN'!$O$504+'[1]2. FAR CPIS BY CURRENCY BY COUN'!$O$505+'[1]2. FAR CPIS BY CURRENCY BY COUN'!$O$506+'[1]2. FAR CPIS BY CURRENCY BY COUN'!$O$507)/1000000 -> 1750.5672 | M29: =IF(AND(SUM(COUNTIF(K29:L29,"c"),(COUNTIF(J29,"c")))=1,AND(K29<>"",L29<>"",J29<>"")),"Residual Disclosure",IF(AND(SUM(COUNTIF(I29:J29,"c"),(COUNTIF(H29,"c")))=1,AND(I29<>"",J29<>"",H29<>"")),"Residual Disclosure","")) | N29: =IF(M29<>"","",IF(OR(AND(H29="c",OR(J29="c",I29="c")),AND(H29<>"",I29="c",J29="c"),AND(H29<>"",J29="",I29="")),"",IF(OR(I29="c",J29="c"),"c",IF(ABS(SUM(I29,J29)-SUM(H29))>1,SUM(I29,J29)-SUM(H29),"")))) | O29: =IF(M29<>"","",IF(OR(AND(J29="c",OR(L29="c",K29="c")),AND(J29<>"",K29="c",L29="c"),AND(J29<>"",L29="",K29="")),"",IF(COUNTIF(K29:L29,"c")>1,"",IF(ABS(SUM(K29,L29)-SUM(J29))>1,SUM(K29,L29)-SUM(J29),""))))
A30: 7 | G30: Total value of investment | H30: =IF('Table 1'!H264="","",'Table 1'!H264) -> 2891083.1 | I30: =IF('Table 1'!I264="","",'Table 1'!I264) -> 1410686.1 | J30: =IF('Table 1'!J264="","",'Table 1'!J264) -> 1480397 | K30: =IF('Table 1'!K264="","",'Table 1'!K264) -> 1178626.1 | L30: =IF('Table 1'!L264="","",'Table 1'!L264) -> 301770.9 | M30: =IF(AND(SUM(COUNTIF(K30:L30,"c"),(COUNTIF(J30,"c")))=1,AND(K30<>"",L30<>"",J30<>"")),"Residual Disclosure",IF(AND(SUM(COUNTIF(I30:J30,"c"),(COUNTIF(H30,"c")))=1,AND(I30<>"",J30<>"",H30<>"")),"Residual Disclosure","")) | N30: =IF(M30<>"","",IF(OR(AND(H30="c",OR(J30="c",I30="c")),AND(H30<>"",I30="c",J30="c"),AND(H30<>"",J30="",I30="")),"",IF(OR(I30="c",J30="c"),"c",IF(ABS(SUM(I30,J30)-SUM(H30))>1,SUM(I30,J30)-SUM(H30),"")))) | O30: =IF(M30<>"","",IF(OR(AND(J30="c",OR(L30="c",K30="c")),AND(J30<>"",K30="c",L30="c"),AND(J30<>"",L30="",K30="")),"",IF(COUNTIF(K30:L30,"c")>1,"",IF(ABS(SUM(K30,L30)-SUM(J30))>1,SUM(K30,L30)-SUM(J30),""))))
G31: Cross-checks Total Value of Investment (SUM(21:29) - 30) | H31: =SUM(H21:H29)-SUM(H30) -> 103.98606 | I31: =SUM(I21:I29)-SUM(I30) -> 9.001687 | J31: =SUM(J21:J29)-SUM(J30) -> 94.984371 | K31: =SUM(K21:K29)-SUM(K30) -> 95.019712 | L31: =SUM(L21:L29)-SUM(L30) -> -0.035341
G33: Note: Data are reported by the economy of holder.
G34: 1/ Includes investment fund shares. The currency of denomination of equity and investment fund
G35: shares is generally the domestic currency of the economy in which the issuer is resident. However,
G36: when equity is issued in a currency other than the domestic currency, then that currency is the
G37: currency of denomination.
G38: 2/ Based on original maturity. Long-term is greater than one year, and short-term is one year or less.
G39: 3/ May include non-zero values for one or more of the listed currencies if reporting systems at the time
G40: of collection could not separately identify the currency detail.

Sheet Table 3
H1: Table 3: CPIS: Total Portfolio Investment Assets by Sector of Resident Holder: Encouraged
G4: Reporting Economy | H4: =Reporting_Country_Name -> Cayman Islands | J4: Country Code: | K4: =Reporting_Country_Code -> 377 | L4: Reference Date: | M4: =Reporting_Period_Code -> 2021S2
G7: Reporting Currency | H7: =Reporting_Currency_Name -> US Dollars | J7: Currency Code: | K7: =Reporting_Currency_Code -> 1 | L7: Scale | M7: =Reporting_Scale_Name -> Million
H12: IMPORTANT! The CPIS compiler is only expected to report data for sectors on an "as available" basis.
H13: Sector of Resident Holder (Data Reported by Holder) | T13: Residual Disclosure (Confidential value may be deducted through reported data) | U13: Cross-check: Total Holdings =(I+J+K+O+P)-H | V13: Cross-check: Calculated OFCs =(L+M+N)-K | W13: Cross-check: Calculated NFCs, Households and NPISHs (Q+R+S)-P
E14: No. | F14: Code | G14: Economy of nonresident issuer
I15: Central Bank(CB)1 | J15: Deposit-taking Corporations except the Central Bank
H16: TOTAL HOLDINGS | K16: Other Financial Corporations | L16: Insurance Corporations and Pension Funds | M16: Money Market Funds | N16: Other | O16: General Government | P16: Nonfinancial Corporations, Households, and NPISHs | Q16: Nonfinancial Corporations | R16: Households | S16: NPISHs2
B17: PPP | D17: Sector PPP | G17: Indicator | H17: .8B9999.A | I17: .8B9999.A | J17: .8B9999.A | K17: .8B9999.A | L17: .8B9999.A | M17: .8B9999.A | N17: .8B9999.A | O17: .8B9999.A | P17: .8B9999.A | Q17: .8B9999.A | R17: .8B9999.A | S17: .8B9999.A
G18: Sector | H18: .A | I18: .C | J18: .D | K18: .F | L18: .P | M18: .J | N18: .T | O18: .G | P18: .N | Q18: .R | R18: .H | S18: .S
G19: Maturity | H19: .A. | I19: .A. | J19: .A. | K19: .A. | L19: .A. | M19: .A. | N19: .A. | O19: .A. | P19: .A. | Q19: .A. | R19: .A. | S19: .A.
B20: PPP | C20: Of Which Currency | D20: Partner Sector | G20: Partner Sector
B21: .512 | D21: .A | E21: 1 | F21: AF | G21: Afghanistan, Islamic State of | H21: ='Table 1'!H21 -> 0 | J21: ='[1]Data CPIS- Banking'!$F2 -> 0 | K21: =IF(AND(L21="",M21="",N21=""),"",IF(OR(L21="c",M21="c",N21="c"),"c",SUM(L21:N21))) -> 0 | L21: ='[1]Data CPIS- Insurance'!$F2 -> 0 | N21: ='[1]Data CPIS-Securities'!$F2 -> 0 | P21: =IF(AND(Q21="",R21="",S21=""),"",IF(OR(Q21="c",R21="c",S21="c"),"c",SUM(Q21:S21))) | T21: =IF(AND(ISNUMBER(H21),SUM(COUNTIF(I21:K21,"c"),COUNTIF(O21:P21,"c"))=1),"Res Disc",IF(AND(H21="c",ISNUMBER(I21),ISNUMBER(J21),ISNUMBER(K21),ISNUMBER(O21),ISNUMBER(P21)),"Res Disc",IF(AND(COUNTIF(Q21:S21,"c")=1,ISNUMBER(P21)),"Res Disc",IF(AND(P21="c",ISNUMBER(Q21),ISNUMBER(R21),ISNUMBER(S21)),"Res Disc",IF(AND(K21="c",ISNUMBER(L21),ISNUMBER(M21),ISNUMBER(N21)),"Res Disc",IF(AND(ISNUMBER(K21),COUNTIF(L21:N21,"c")=1),"Res Disc","")))))) | U21: =IF(T21<>"","",IF(SUM(COUNTIF(I21:K21,"c"),COUNTIF(O21:P21,"c"))>1,"",IF(OR(AND(H21="c",OR(I21="c",J21="c",K21="c",O21="c",P21="c")),AND(H21<>"",I21="c",J21="c",K21="c",O21="c",P21="c"),AND(H21<>"",I21="",J21="",K21="",O21="",P21="")),"",IF(ABS(SUM(I21:K21,O21:P21)-SUM(H21))>0.9,SUM(I21:K21,O21:P21)-SUM(H21),"")))) | V21: =IF(T21<>"","",IF(OR(AND(K21="c",OR(L21="c",N21="c",M21="c")),AND(K21<>"",L21="c",M21="c",N21="c"),AND(K21<>"",L21="",N21="",M21="")),"",IF(COUNTIF(L21:N21,"c")>1,"",IF(ABS(SUM(L21:N21)-SUM(K21))>0.9,SUM(L21:N21)-SUM(K21),"")))) | W21: =IF(T21<>"","",IF(OR(AND(P21="c",OR(Q21="c",S21="c",R21="c")),AND(P21<>"",Q21="c",R21="c",S21="c"),AND(P21<>"",Q21="",S21="",R21="")),"",IF(COUNTIF(Q21:S21,"c")>1,"",IF(ABS(SUM(Q21:S21)-SUM(P21))>0.9,SUM(Q21:S21)-SUM(P21),""))))
B22: .914 | D22: .A | E22: 2 | F22: AL | G22: Albania | H22: ='Table 1'!H22 -> 0 | J22: ='[1]Data CPIS- Banking'!$F3 -> 0 | K22: =IF(AND(L22="",M22="",N22=""),"",IF(OR(L22="c",M22="c",N22="c"),"c",SUM(L22:N22))) -> 0 | L22: ='[1]Data CPIS- Insurance'!$F3 -> 0 | N22: ='[1]Data CPIS-Securities'!$F3 -> 0 | P22: =IF(AND(Q22="",R22="",S22=""),"",IF(OR(Q22="c",R22="c",S22="c"),"c",SUM(Q22:S22))) | T22: =IF(AND(ISNUMBER(H22),SUM(COUNTIF(I22:K22,"c"),COUNTIF(O22:P22,"c"))=1),"Res Disc",IF(AND(H22="c",ISNUMBER(I22),ISNUMBER(J22),ISNUMBER(K22),ISNUMBER(O22),ISNUMBER(P22)),"Res Disc",IF(AND(COUNTIF(Q22:S22,"c")=1,ISNUMBER(P22)),"Res Disc",IF(AND(P22="c",ISNUMBER(Q22),ISNUMBER(R22),ISNUMBER(S22)),"Res Disc",IF(AND(K22="c",ISNUMBER(L22),ISNUMBER(M22),ISNUMBER(N22)),"Res Disc",IF(AND(ISNUMBER(K22),COUNTIF(L22:N22,"c")=1),"Res Disc","")))))) | U22: =IF(T22<>"","",IF(SUM(COUNTIF(I22:K22,"c"),COUNTIF(O22:P22,"c"))>1,"",IF(OR(AND(H22="c",OR(I22="c",J22="c",K22="c",O22="c",P22="c")),AND(H22<>"",I22="c",J22="c",K22="c",O22="c",P22="c"),AND(H22<>"",I22="",J22="",K22="",O22="",P22="")),"",IF(ABS(SUM(I22:K22,O22:P22)-SUM(H22))>0.9,SUM(I22:K22,O22:P22)-SUM(H22),"")))) | V22: =IF(T22<>"","",IF(OR(AND(K22="c",OR(L22="c",N22="c",M22="c")),AND(K22<>"",L22="c",M22="c",N22="c"),AND(K22<>"",L22="",N22="",M22="")),"",IF(COUNTIF(L22:N22,"c")>1,"",IF(ABS(SUM(L22:N22)-SUM(K22))>0.9,SUM(L22:N22)-SUM(K22),"")))) | W22: =IF(T22<>"","",IF(OR(AND(P22="c",OR(Q22="c",S22="c",R22="c")),AND(P22<>"",Q22="c",R22="c",S22="c"),AND(P22<>"",Q22="",S22="",R22="")),"",IF(COUNTIF(Q22:S22,"c")>1,"",IF(ABS(SUM(Q22:S22)-SUM(P22))>0.9,SUM(Q22:S22)-SUM(P22),""))))
B23: .612 | D23: .A | E23: 3 | F23: DZ | G23: Algeria | H23: ='Table 1'!H23 -> 0 | J23: ='[1]Data CPIS- Banking'!$F4 -> 0 | K23: =IF(AND(L23="",M23="",N23=""),"",IF(OR(L23="c",M23="c",N23="c"),"c",SUM(L23:N23))) -> 0 | L23: ='[1]Data CPIS- Insurance'!$F4 -> 0 | N23: ='[1]Data CPIS-Securities'!$F4 -> 0 | P23: =IF(AND(Q23="",R23="",S23=""),"",IF(OR(Q23="c",R23="c",S23="c"),"c",SUM(Q23:S23))) | T23: =IF(AND(ISNUMBER(H23),SUM(COUNTIF(I23:K23,"c"),COUNTIF(O23:P23,"c"))=1),"Res Disc",IF(AND(H23="c",ISNUMBER(I23),ISNUMBER(J23),ISNUMBER(K23),ISNUMBER(O23),ISNUMBER(P23)),"Res Disc",IF(AND(COUNTIF(Q23:S23,"c")=1,ISNUMBER(P23)),"Res Disc",IF(AND(P23="c",ISNUMBER(Q23),ISNUMBER(R23),ISNUMBER(S23)),"Res Disc",IF(AND(K23="c",ISNUMBER(L23),ISNUMBER(M23),ISNUMBER(N23)),"Res Disc",IF(AND(ISNUMBER(K23),COUNTIF(L23:N23,"c")=1),"Res Disc","")))))) | U23: =IF(T23<>"","",IF(SUM(COUNTIF(I23:K23,"c"),COUNTIF(O23:P23,"c"))>1,"",IF(OR(AND(H23="c",OR(I23="c",J23="c",K23="c",O23="c",P23="c")),AND(H23<>"",I23="c",J23="c",K23="c",O23="c",P23="c"),AND(H23<>"",I23="",J23="",K23="",O23="",P23="")),"",IF(ABS(SUM(I23:K23,O23:P23)-SUM(H23))>0.9,SUM(I23:K23,O23:P23)-SUM(H23),"")))) | V23: =IF(T23<>"","",IF(OR(AND(K23="c",OR(L23="c",N23="c",M23="c")),AND(K23<>"",L23="c",M23="c",N23="c"),AND(K23<>"",L23="",N23="",M23="")),"",IF(COUNTIF(L23:N23,"c")>1,"",IF(ABS(SUM(L23:N23)-SUM(K23))>0.9,SUM(L23:N23)-SUM(K23),"")))) | W23: =IF(T23<>"","",IF(OR(AND(P23="c",OR(Q23="c",S23="c",R23="c")),AND(P23<>"",Q23="c",R23="c",S23="c"),AND(P23<>"",Q23="",S23="",R23="")),"",IF(COUNTIF(Q23:S23,"c")>1,"",IF(ABS(SUM(Q23:S23)-SUM(P23))>0.9,SUM(Q23:S23)-SUM(P23),""))))
B24: .859 | D24: .A | E24: 4 | F24: AS | G24: American Samoa | H24: ='Table 1'!H24 -> 0 | J24: ='[1]Data CPIS- Banking'!$F5 -> 0 | K24: =IF(AND(L24="",M24="",N24=""),"",IF(OR(L24="c",M24="c",N24="c"),"c",SUM(L24:N24))) -> 0 | L24: ='[1]Data CPIS- Insurance'!$F5 -> 0 | N24: ='[1]Data CPIS-Securities'!$F5 -> 0 | P24: =IF(AND(Q24="",R24="",S24=""),"",IF(OR(Q24="c",R24="c",S24="c"),"c",SUM(Q24:S24))) | T24: =IF(AND(ISNUMBER(H24),SUM(COUNTIF(I24:K24,"c"),COUNTIF(O24:P24,"c"))=1),"Res Disc",IF(AND(H24="c",ISNUMBER(I24),ISNUMBER(J24),ISNUMBER(K24),ISNUMBER(O24),ISNUMBER(P24)),"Res Disc",IF(AND(COUNTIF(Q24:S24,"c")=1,ISNUMBER(P24)),"Res Disc",IF(AND(P24="c",ISNUMBER(Q24),ISNUMBER(R24),ISNUMBER(S24)),"Res Disc",IF(AND(K24="c",ISNUMBER(L24),ISNUMBER(M24),ISNUMBER(N24)),"Res Disc",IF(AND(ISNUMBER(K24),COUNTIF(L24:N24,"c")=1),"Res Disc","")))))) | U24: =IF(T24<>"","",IF(SUM(COUNTIF(I24:K24,"c"),COUNTIF(O24:P24,"c"))>1,"",IF(OR(AND(H24="c",OR(I24="c",J24="c",K24="c",O24="c",P24="c")),AND(H24<>"",I24="c",J24="c",K24="c",O24="c",P24="c"),AND(H24<>"",I24="",J24="",K24="",O24="",P24="")),"",IF(ABS(SUM(I24:K24,O24:P24)-SUM(H24))>0.9,SUM(I24:K24,O24:P24)-SUM(H24),"")))) | V24: =IF(T24<>"","",IF(OR(AND(K24="c",OR(L24="c",N24="c",M24="c")),AND(K24<>"",L24="c",M24="c",N24="c"),AND(K24<>"",L24="",N24="",M24="")),"",IF(COUNTIF(L24:N24,"c")>1,"",IF(ABS(SUM(L24:N24)-SUM(K24))>0.9,SUM(L24:N24)-SUM(K24),"")))) | W24: =IF(T24<>"","",IF(OR(AND(P24="c",OR(Q24="c",S24="c",R24="c")),AND(P24<>"",Q24="c",R24="c",S24="c"),AND(P24<>"",Q24="",S24="",R24="")),"",IF(COUNTIF(Q24:S24,"c")>1,"",IF(ABS(SUM(Q24:S24)-SUM(P24))>0.9,SUM(Q24:S24)-SUM(P24),""))))
B25: .171 | D25: .A | E25: 5 | F25: AD | G25: Andorra | H25: ='Table 1'!H25 -> 0 | J25: ='[1]Data CPIS- Banking'!$F6 -> 0 | K25: =IF(AND(L25="",M25="",N25=""),"",IF(OR(L25="c",M25="c",N25="c"),"c",SUM(L25:N25))) -> 0 | L25: ='[1]Data CPIS- Insurance'!$F6 -> 0 | N25: ='[1]Data CPIS-Securities'!$F6 -> 0 | P25: =IF(AND(Q25="",R25="",S25=""),"",IF(OR(Q25="c",R25="c",S25="c"),"c",SUM(Q25:S25))) | T25: =IF(AND(ISNUMBER(H25),SUM(COUNTIF(I25:K25,"c"),COUNTIF(O25:P25,"c"))=1),"Res Disc",IF(AND(H25="c",ISNUMBER(I25),ISNUMBER(J25),ISNUMBER(K25),ISNUMBER(O25),ISNUMBER(P25)),"Res Disc",IF(AND(COUNTIF(Q25:S25,"c")=1,ISNUMBER(P25)),"Res Disc",IF(AND(P25="c",ISNUMBER(Q25),ISNUMBER(R25),ISNUMBER(S25)),"Res Disc",IF(AND(K25="c",ISNUMBER(L25),ISNUMBER(M25),ISNUMBER(N25)),"Res Disc",IF(AND(ISNUMBER(K25),COUNTIF(L25:N25,"c")=1),"Res Disc","")))))) | U25: =IF(T25<>"","",IF(SUM(COUNTIF(I25:K25,"c"),COUNTIF(O25:P25,"c"))>1,"",IF(OR(AND(H25="c",OR(I25="c",J25="c",K25="c",O25="c",P25="c")),AND(H25<>"",I25="c",J25="c",K25="c",O25="c",P25="c"),AND(H25<>"",I25="",J25="",K25="",O25="",P25="")),"",IF(ABS(SUM(I25:K25,O25:P25)-SUM(H25))>0.9,SUM(I25:K25,O25:P25)-SUM(H25),"")))) | V25: =IF(T25<>"","",IF(OR(AND(K25="c",OR(L25="c",N25="c",M25="c")),AND(K25<>"",L25="c",M25="c",N25="c"),AND(K25<>"",L25="",N25="",M25="")),"",IF(COUNTIF(L25:N25,"c")>1,"",IF(ABS(SUM(L25:N25)-SUM(K25))>0.9,SUM(L25:N25)-SUM(K25),"")))) | W25: =IF(T25<>"","",IF(OR(AND(P25="c",OR(Q25="c",S25="c",R25="c")),AND(P25<>"",Q25="c",R25="c",S25="c"),AND(P25<>"",Q25="",S25="",R25="")),"",IF(COUNTIF(Q25:S25,"c")>1,"",IF(ABS(SUM(Q25:S25)-SUM(P25))>0.9,SUM(Q25:S25)-SUM(P25),""))))
