Workbook
Name Remittance_Report: 'DATA TABLES'!#REF!
Name Remittance_Report: #REF!
Name Website__www.cima.ky: 'DATA TABLES'!#REF!
Name Website__www.cima.ky: #REF!

Sheet COVER
B9: PAGES
B11: Money Service Business Statistics Dashboard
B13: Data Tables
B15: Remittances - Total Outflows, Total Inflows, Net Remittances in US$
B17: Number of Transactions by Country and Value (in US$) - 5 Largest Countries by Number of Transactions
B19: Remittance Outflows by Country and By Country by Percentage in US$
B28: Contact Information
B29: Phone: 345-949-7089
B30: Website: www.cima.ky
B31: Email: ContactFinancialStability@cima.ky
B32: Prepared by Financial Stability and Statistics Division
B33: Updated: | C33: 46112

Sheet DASHBOARD
B36: Country | C36: Inflows | D36: Outflows | E36: # of Transactions (more than) > $CI500 - Outflows | F36: # of Transactions (less than) < $CI500 - Outflows
B37: Africa | C37: =SUM(C38:C39) -> 4380.59 | D37: =SUM(D38:D39) -> 423932.07 | E37: =SUM(E38:E39) -> 181 | F37: =SUM(F38:F39) -> 662
B38: KENYA | C38: =_xlfn.XLOOKUP(B38,INFLOWS!$B$8:$B$31,INFLOWS!$AY$8:$AY$31,) -> 706.88 | D38: =_xlfn.XLOOKUP(B38,OUTFLOWS!$B$8:$B$31,OUTFLOWS!$AY$8:$AY$31,) -> 48088.18 | E38: =_xlfn.XLOOKUP(B38,'Trans OUTFLOWS'!$B$7:$B$30,'Trans OUTFLOWS'!$AY$7:$AY$30,) -> 22 | F38: =_xlfn.XLOOKUP(B38,'Trans OUTFLOWS'!$B$37:$B$60,'Trans OUTFLOWS'!$AY$37:$AY$60,) -> 120
B39: ZIMBABWE | C39: =_xlfn.XLOOKUP(B39,INFLOWS!$B$8:$B$31,INFLOWS!$AY$8:$AY$31,) -> 3673.71 | D39: =_xlfn.XLOOKUP(B39,OUTFLOWS!$B$8:$B$31,OUTFLOWS!$AY$8:$AY$31,) -> 375843.89 | E39: =_xlfn.XLOOKUP(B39,'Trans OUTFLOWS'!$B$7:$B$30,'Trans OUTFLOWS'!$AY$7:$AY$30,) -> 159 | F39: =_xlfn.XLOOKUP(B39,'Trans OUTFLOWS'!$B$37:$B$60,'Trans OUTFLOWS'!$AY$37:$AY$60,) -> 542
B40: Asia | C40: =SUM(C41:C44) -> 16753.01 | D40: =SUM(D41:D44) -> 12940996 | E40: =SUM(E41:E44) -> 7356 | F40: =SUM(F41:F44) -> 15704
B41: CHINA | C41: =_xlfn.XLOOKUP(B41,INFLOWS!$B$8:$B$31,INFLOWS!$AY$8:$AY$31,) -> 0 | D41: =_xlfn.XLOOKUP(B41,OUTFLOWS!$B$8:$B$31,OUTFLOWS!$AY$8:$AY$31,) -> 47130.58 | E41: =_xlfn.XLOOKUP(B41,'Trans OUTFLOWS'!$B$7:$B$30,'Trans OUTFLOWS'!$AY$7:$AY$30,) -> 25 | F41: =_xlfn.XLOOKUP(B41,'Trans OUTFLOWS'!$B$37:$B$60,'Trans OUTFLOWS'!$AY$37:$AY$60,) -> 28
B42: INDIA | C42: =_xlfn.XLOOKUP(B42,INFLOWS!$B$8:$B$31,INFLOWS!$AY$8:$AY$31,) -> 0 | D42: =_xlfn.XLOOKUP(B42,OUTFLOWS!$B$8:$B$31,OUTFLOWS!$AY$8:$AY$31,) -> 158950.12 | E42: =_xlfn.XLOOKUP(B42,'Trans OUTFLOWS'!$B$7:$B$30,'Trans OUTFLOWS'!$AY$7:$AY$30,) -> 82 | F42: =_xlfn.XLOOKUP(B42,'Trans OUTFLOWS'!$B$37:$B$60,'Trans OUTFLOWS'!$AY$37:$AY$60,) -> 139
B43: NEPAL | C43: =_xlfn.XLOOKUP(B43,INFLOWS!$B$8:$B$31,INFLOWS!$AY$8:$AY$31,) -> 0 | D43: =_xlfn.XLOOKUP(B43,OUTFLOWS!$B$8:$B$31,OUTFLOWS!$AY$8:$AY$31,) -> 266596.71 | E43: =_xlfn.XLOOKUP(B43,'Trans OUTFLOWS'!$B$7:$B$30,'Trans OUTFLOWS'!$AY$7:$AY$30,) -> 169 | F43: =_xlfn.XLOOKUP(B43,'Trans OUTFLOWS'!$B$37:$B$60,'Trans OUTFLOWS'!$AY$37:$AY$60,) -> 99
B44: PHILIPPINES | C44: =_xlfn.XLOOKUP(B44,INFLOWS!$B$8:$B$31,INFLOWS!$AY$8:$AY$31,) -> 16753.01 | D44: =_xlfn.XLOOKUP(B44,OUTFLOWS!$B$8:$B$31,OUTFLOWS!$AY$8:$AY$31,) -> 12468319 | E44: =_xlfn.XLOOKUP(B44,'Trans OUTFLOWS'!$B$7:$B$30,'Trans OUTFLOWS'!$AY$7:$AY$30,) -> 7080 | F44: =_xlfn.XLOOKUP(B44,'Trans OUTFLOWS'!$B$37:$B$60,'Trans OUTFLOWS'!$AY$37:$AY$60,) -> 15438
B45: Caribbean | C45: =SUM(C46:C50) -> 274715.49 | D45: =SUM(D46:D50) -> 56192540 | E45: =SUM(E46:E50) -> 25436 | F45: =SUM(F46:F50) -> 109989
B46: BARBADOS | C46: =_xlfn.XLOOKUP(B46,INFLOWS!$B$8:$B$31,INFLOWS!$AY$8:$AY$31,) -> 4957.95 | D46: =_xlfn.XLOOKUP(B46,OUTFLOWS!$B$8:$B$31,OUTFLOWS!$AY$8:$AY$31,) -> 90197.68 | E46: =_xlfn.XLOOKUP(B46,'Trans OUTFLOWS'!$B$7:$B$30,'Trans OUTFLOWS'!$AY$7:$AY$30,) -> 47 | F46: =_xlfn.XLOOKUP(B46,'Trans OUTFLOWS'!$B$37:$B$60,'Trans OUTFLOWS'!$AY$37:$AY$60,) -> 147
B47: CUBA | C47: =_xlfn.XLOOKUP(B47,INFLOWS!$B$8:$B$31,INFLOWS!$AY$8:$AY$31,) -> 0 | D47: =_xlfn.XLOOKUP(B47,OUTFLOWS!$B$8:$B$31,OUTFLOWS!$AY$8:$AY$31,) -> 0 | E47: =_xlfn.XLOOKUP(B47,'Trans OUTFLOWS'!$B$7:$B$30,'Trans OUTFLOWS'!$AY$7:$AY$30,) -> 0 | F47: =_xlfn.XLOOKUP(B47,'Trans OUTFLOWS'!$B$37:$B$60,'Trans OUTFLOWS'!$AY$37:$AY$60,) -> 0
B48: DOMINICAN REPUBLIC | C48: =_xlfn.XLOOKUP(B48,INFLOWS!$B$8:$B$31,INFLOWS!$AY$8:$AY$31,) -> 8299.89 | D48: =_xlfn.XLOOKUP(B48,OUTFLOWS!$B$8:$B$31,OUTFLOWS!$AY$8:$AY$31,) -> 2405387.9 | E48: =_xlfn.XLOOKUP(B48,'Trans OUTFLOWS'!$B$7:$B$30,'Trans OUTFLOWS'!$AY$7:$AY$30,) -> 1307 | F48: =_xlfn.XLOOKUP(B48,'Trans OUTFLOWS'!$B$37:$B$60,'Trans OUTFLOWS'!$AY$37:$AY$60,) -> 2366
B49: JAMAICA | C49: =_xlfn.XLOOKUP(B49,INFLOWS!$B$8:$B$31,INFLOWS!$AY$8:$AY$31,) -> 249453.88 | D49: =_xlfn.XLOOKUP(B49,OUTFLOWS!$B$8:$B$31,OUTFLOWS!$AY$8:$AY$31,) -> 53553092 | E49: =_xlfn.XLOOKUP(B49,'Trans OUTFLOWS'!$B$7:$B$30,'Trans OUTFLOWS'!$AY$7:$AY$30,) -> 24028 | F49: =_xlfn.XLOOKUP(B49,'Trans OUTFLOWS'!$B$37:$B$60,'Trans OUTFLOWS'!$AY$37:$AY$60,) -> 107068
B50: TRINIDAD & TOBAGO | C50: =_xlfn.XLOOKUP(B50,INFLOWS!$B$8:$B$31,INFLOWS!$AY$8:$AY$31,) -> 12003.77 | D50: =_xlfn.XLOOKUP(B50,OUTFLOWS!$B$8:$B$31,OUTFLOWS!$AY$8:$AY$31,) -> 143862.27 | E50: =_xlfn.XLOOKUP(B50,'Trans OUTFLOWS'!$B$7:$B$30,'Trans OUTFLOWS'!$AY$7:$AY$30,) -> 54 | F50: =_xlfn.XLOOKUP(B50,'Trans OUTFLOWS'!$B$37:$B$60,'Trans OUTFLOWS'!$AY$37:$AY$60,) -> 408
B51: Central America | C51: =SUM(C52:C56) -> 38678.8 | D51: =SUM(D52:D56) -> 8683091.2 | E51: =SUM(E52:E56) -> 3945 | F51: =SUM(F52:F56) -> 19382
B52: BELIZE | C52: =_xlfn.XLOOKUP(B52,INFLOWS!$B$8:$B$31,INFLOWS!$AY$8:$AY$31,) -> 2200.6 | D52: =_xlfn.XLOOKUP(B52,OUTFLOWS!$B$8:$B$31,OUTFLOWS!$AY$8:$AY$31,) -> 130509.38 | E52: =_xlfn.XLOOKUP(B52,'Trans OUTFLOWS'!$B$7:$B$30,'Trans OUTFLOWS'!$AY$7:$AY$30,) -> 38 | F52: =_xlfn.XLOOKUP(B52,'Trans OUTFLOWS'!$B$37:$B$60,'Trans OUTFLOWS'!$AY$37:$AY$60,) -> 349
B53: COSTA RICA | C53: =_xlfn.XLOOKUP(B53,INFLOWS!$B$8:$B$31,INFLOWS!$AY$8:$AY$31,) -> 6440.45 | D53: =_xlfn.XLOOKUP(B53,OUTFLOWS!$B$8:$B$31,OUTFLOWS!$AY$8:$AY$31,) -> 250729.38 | E53: =_xlfn.XLOOKUP(B53,'Trans OUTFLOWS'!$B$7:$B$30,'Trans OUTFLOWS'!$AY$7:$AY$30,) -> 142 | F53: =_xlfn.XLOOKUP(B53,'Trans OUTFLOWS'!$B$37:$B$60,'Trans OUTFLOWS'!$AY$37:$AY$60,) -> 400
B54: HONDURAS | C54: =_xlfn.XLOOKUP(B54,INFLOWS!$B$8:$B$31,INFLOWS!$AY$8:$AY$31,) -> 21893.01 | D54: =_xlfn.XLOOKUP(B54,OUTFLOWS!$B$8:$B$31,OUTFLOWS!$AY$8:$AY$31,) -> 5697698.1 | E54: =_xlfn.XLOOKUP(B54,'Trans OUTFLOWS'!$B$7:$B$30,'Trans OUTFLOWS'!$AY$7:$AY$30,) -> 2622 | F54: =_xlfn.XLOOKUP(B54,'Trans OUTFLOWS'!$B$37:$B$60,'Trans OUTFLOWS'!$AY$37:$AY$60,) -> 12004
B55: NICARAGUA | C55: =_xlfn.XLOOKUP(B55,INFLOWS!$B$8:$B$31,INFLOWS!$AY$8:$AY$31,) -> 7271.74 | D55: =_xlfn.XLOOKUP(B55,OUTFLOWS!$B$8:$B$31,OUTFLOWS!$AY$8:$AY$31,) -> 2444760.7 | E55: =_xlfn.XLOOKUP(B55,'Trans OUTFLOWS'!$B$7:$B$30,'Trans OUTFLOWS'!$AY$7:$AY$30,) -> 1084 | F55: =_xlfn.XLOOKUP(B55,'Trans OUTFLOWS'!$B$37:$B$60,'Trans OUTFLOWS'!$AY$37:$AY$60,) -> 6181
B56: PANAMA | C56: =_xlfn.XLOOKUP(B56,INFLOWS!$B$8:$B$31,INFLOWS!$AY$8:$AY$31,) -> 873 | D56: =_xlfn.XLOOKUP(B56,OUTFLOWS!$B$8:$B$31,OUTFLOWS!$AY$8:$AY$31,) -> 159393.6 | E56: =_xlfn.XLOOKUP(B56,'Trans OUTFLOWS'!$B$7:$B$30,'Trans OUTFLOWS'!$AY$7:$AY$30,) -> 59 | F56: =_xlfn.XLOOKUP(B56,'Trans OUTFLOWS'!$B$37:$B$60,'Trans OUTFLOWS'!$AY$37:$AY$60,) -> 448
B57: Europe | C57: =SUM(C58) -> 133358.62 | D57: =SUM(D58) -> 302212.29 | E57: =SUM(E58) -> 133 | F57: =SUM(F58) -> 510
B58: UNITED KINGDOM | C58: =_xlfn.XLOOKUP(B58,INFLOWS!$B$8:$B$31,INFLOWS!$AY$8:$AY$31,) -> 133358.62 | D58: =_xlfn.XLOOKUP(B58,OUTFLOWS!$B$8:$B$31,OUTFLOWS!$AY$8:$AY$31,) -> 302212.29 | E58: =_xlfn.XLOOKUP(B58,'Trans OUTFLOWS'!$B$7:$B$30,'Trans OUTFLOWS'!$AY$7:$AY$30,) -> 133 | F58: =_xlfn.XLOOKUP(B58,'Trans OUTFLOWS'!$B$37:$B$60,'Trans OUTFLOWS'!$AY$37:$AY$60,) -> 510
B59: North America | C59: =SUM(C60:C62) -> 1403607.5 | D59: =SUM(D60:D62) -> 4210326.3 | E59: =SUM(E60:E62) -> 2035 | F59: =SUM(F60:F62) -> 6734
B60: CANADA | C60: =_xlfn.XLOOKUP(B60,INFLOWS!$B$8:$B$31,INFLOWS!$AY$8:$AY$31,) -> 120948.22 | D60: =_xlfn.XLOOKUP(B60,OUTFLOWS!$B$8:$B$31,OUTFLOWS!$AY$8:$AY$31,) -> 483757.01 | E60: =_xlfn.XLOOKUP(B60,'Trans OUTFLOWS'!$B$7:$B$30,'Trans OUTFLOWS'!$AY$7:$AY$30,) -> 235 | F60: =_xlfn.XLOOKUP(B60,'Trans OUTFLOWS'!$B$37:$B$60,'Trans OUTFLOWS'!$AY$37:$AY$60,) -> 758
B61: MEXICO | C61: =_xlfn.XLOOKUP(B61,INFLOWS!$B$8:$B$31,INFLOWS!$AY$8:$AY$31,) -> 1073.4 | D61: =_xlfn.XLOOKUP(B61,OUTFLOWS!$B$8:$B$31,OUTFLOWS!$AY$8:$AY$31,) -> 223867.09 | E61: =_xlfn.XLOOKUP(B61,'Trans OUTFLOWS'!$B$7:$B$30,'Trans OUTFLOWS'!$AY$7:$AY$30,) -> 121 | F61: =_xlfn.XLOOKUP(B61,'Trans OUTFLOWS'!$B$37:$B$60,'Trans OUTFLOWS'!$AY$37:$AY$60,) -> 232
B62: UNITED STATES | C62: =_xlfn.XLOOKUP(B62,INFLOWS!$B$8:$B$31,INFLOWS!$AY$8:$AY$31,) -> 1281585.9 | D62: =_xlfn.XLOOKUP(B62,OUTFLOWS!$B$8:$B$31,OUTFLOWS!$AY$8:$AY$31,) -> 3502702.2 | E62: =_xlfn.XLOOKUP(B62,'Trans OUTFLOWS'!$B$7:$B$30,'Trans OUTFLOWS'!$AY$7:$AY$30,) -> 1679 | F62: =_xlfn.XLOOKUP(B62,'Trans OUTFLOWS'!$B$37:$B$60,'Trans OUTFLOWS'!$AY$37:$AY$60,) -> 5744
B63: South America | C63: =SUM(C64:C66) -> 26725.45 | D63: =SUM(D64:D66) -> 1475060 | E63: =SUM(E64:E66) -> 749 | F63: =SUM(F64:F66) -> 2383
B64: COLOMBIA | C64: =_xlfn.XLOOKUP(B64,INFLOWS!$B$8:$B$31,INFLOWS!$AY$8:$AY$31,) -> 17343.52 | D64: =_xlfn.XLOOKUP(B64,OUTFLOWS!$B$8:$B$31,OUTFLOWS!$AY$8:$AY$31,) -> 876663.66 | E64: =_xlfn.XLOOKUP(B64,'Trans OUTFLOWS'!$B$7:$B$30,'Trans OUTFLOWS'!$AY$7:$AY$30,) -> 453 | F64: =_xlfn.XLOOKUP(B64,'Trans OUTFLOWS'!$B$37:$B$60,'Trans OUTFLOWS'!$AY$37:$AY$60,) -> 1636
B65: GUYANA | C65: =_xlfn.XLOOKUP(B65,INFLOWS!$B$8:$B$31,INFLOWS!$AY$8:$AY$31,) -> 5383.63 | D65: =_xlfn.XLOOKUP(B65,OUTFLOWS!$B$8:$B$31,OUTFLOWS!$AY$8:$AY$31,) -> 389232.67 | E65: =_xlfn.XLOOKUP(B65,'Trans OUTFLOWS'!$B$7:$B$30,'Trans OUTFLOWS'!$AY$7:$AY$30,) -> 175 | F65: =_xlfn.XLOOKUP(B65,'Trans OUTFLOWS'!$B$37:$B$60,'Trans OUTFLOWS'!$AY$37:$AY$60,) -> 586
B66: PERU | C66: =_xlfn.XLOOKUP(B66,INFLOWS!$B$8:$B$31,INFLOWS!$AY$8:$AY$31,) -> 3998.3 | D66: =_xlfn.XLOOKUP(B66,OUTFLOWS!$B$8:$B$31,OUTFLOWS!$AY$8:$AY$31,) -> 209163.66 | E66: =_xlfn.XLOOKUP(B66,'Trans OUTFLOWS'!$B$7:$B$30,'Trans OUTFLOWS'!$AY$7:$AY$30,) -> 121 | F66: =_xlfn.XLOOKUP(B66,'Trans OUTFLOWS'!$B$37:$B$60,'Trans OUTFLOWS'!$AY$37:$AY$60,) -> 161
B67: Unspecified | C67: =SUM(C68) -> 414623.33 | D67: =SUM(D68) -> 1694397.5 | E67: =SUM(E68) -> 769 | F67: =SUM(F68) -> 2996
B68: OTHER | C68: =_xlfn.XLOOKUP(B68,INFLOWS!$B$8:$B$31,INFLOWS!$AY$8:$AY$31,) -> 414623.33 | D68: =_xlfn.XLOOKUP(B68,OUTFLOWS!$B$8:$B$31,OUTFLOWS!$AY$8:$AY$31,) -> 1694397.5 | E68: =_xlfn.XLOOKUP(B68,'Trans OUTFLOWS'!$B$7:$B$30,'Trans OUTFLOWS'!$AY$7:$AY$30,) -> 769 | F68: =_xlfn.XLOOKUP(B68,'Trans OUTFLOWS'!$B$37:$B$60,'Trans OUTFLOWS'!$AY$37:$AY$60,) -> 2996
B69: Grand Total | C69: =SUM(,$C$37,$C$40,$C$45,$C$51,$C$57,$C$59,$C$63,$C$67) -> 2312842.8 | D69: =SUM($D$37,$D$40,$D$45,$D$51,$D$57,$D$59,$D$63,$D$67) -> 85922556 | E69: =SUM(,$E$37,$E$40,$E$45,$E$51,$E$57,$E$59,$E$63,$E$67) -> 40604 | F69: =SUM(,$F$37,$F$40,$F$45,$F$51,$F$57,$F$59,$F$63,$F$67) -> 158360

Sheet DATA TABLES
B2: Cayman Islands Remittances US$ - Actual Amounts
C7: Period | H7: Total Outflows | L7: Total Inflows | O7: Net Remittances
C8: 2020 Q1 | H8: 63587882 | L8: 1716641 | O8: =L8-H8 -> -61871241
C9: 2020 Q2 | H9: 37945479 | L9: 1174158.7 | O9: =L9-H9 -> -36771321
C10: 2020 Q3 | H10: 86016515 | L10: 1653916.6 | O10: =L10-H10 -> -84362598
C11: 2020 Q4 | H11: 74115932 | L11: 1828326.8 | O11: =L11-H11 -> -72287605
C12: Total 2020 | H12: =SUM(H8:I11) -> 2.6166581e+08 | K12: =SUM(K8:M11) -> 6373043.1 | O12: =L12-H12 -> -2.6166581e+08
C14: Period | H14: Total Outflows | L14: Total Inflows | O14: Net Remittances
C15: 2021 Q1 | H15: 67638561 | L15: 1994160.6 | O15: =L15-H15 -> -65644401
C16: 2021 Q2 | H16: 68174853 | L16: 2215105.9 | O16: =L16-H16 -> -65959747
C17: 2021 Q3 | H17: 66974215 | L17: 2472709.6 | O17: =L17-H17 -> -64501506
C18: 2021 Q4 | H18: 75367864 | L18: 2675231.7 | O18: =L18-H18 -> -72692632
C19: Total 2021 | H19: =SUM(H15:I18) -> 2.7815549e+08 | K19: =SUM(K15:M18) -> 9357207.9 | O19: =SUM(O15:P18) -> -2.6879829e+08
C21: Period | H21: Total Outflows | L21: Total Inflows | O21: Net Remittances
C22: 2022 Q1 | H22: 68950387 | L22: 2335170.5 | O22: =L22-H22 -> -66615216
C23: 2022 Q2 | H23: 75828211 | L23: 2381724.9 | O23: =L23-H23 -> -73446486
C24: 2022 Q3 | H24: 75896334 | L24: 2605187 | O24: =L24-H24 -> -73291147
C25: 2022 Q4 | H25: 82206783 | L25: 2650456.6 | O25: =L25-H25 -> -79556326
C26: Total 2022 | H26: =SUM(H22:I25) -> 3.0288171e+08 | K26: =SUM(K22:M25) -> 9972539 | O26: =SUM(O22:P25) -> -2.9290918e+08
C28: Period | H28: Total Outflows | L28: Total Inflows | O28: Net Remittances
C29: 2023 Q1 | H29: 75586097 | L29: 2402227.6 | O29: =L29-H29 -> -73183869
C30: 2023 Q2 | H30: 77411717 | L30: 2393374.3 | O30: =L30-H30 -> -75018343
C31: 2023 Q3 | H31: 75284034 | L31: 2654797.5 | O31: =L31-H31 -> -72629237
C32: 2023 Q4 | H32: 82079147 | L32: 2473121 | O32: =L32-H32 -> -79606026
C33: Total 2023 | H33: =SUM(H29:I32) -> 3.10361e+08 | K33: =SUM(K29:M32) -> 9923520.4 | O33: =SUM(O29:P32) -> -3.0043748e+08
C35: Period | H35: Total Outflows | L35: Total Inflows | O35: Net Remittances
C36: 2024 Q1 | H36: 78090402 | L36: 2419087.4 | O36: =L36-H36 -> -75671315
C37: 2024 Q2 | H37: 79664627 | L37: 2456751.5 | O37: =L37-H37 -> -77207876
C38: 2024 Q3 | H38: 76114762 | L38: 2494321.1 | O38: =L38-H38 -> -73620441
C39: 2024 Q4 | H39: 84389299 | L39: 2392508.8 | O39: =L39-H39 -> -81996790
C40: Total 2024 | H40: =SUM(H36:I39) -> 3.1825909e+08 | K40: =SUM(K36:M39) -> 9762668.7 | O40: =SUM(O36:P39) -> -3.0849642e+08
C42: Period | H42: Total Outflows | L42: Total Inflows | O42: Net Remittances
C43: 2025 Q1 | H43: 74989335 | L43: 1954712.3 | O43: =L43-H43 -> -73034623
C44: 2025 Q2 | H44: 83379899 | L44: 2371960.8 | O44: =L44-H44 -> -81007938
C45: 2025 Q3 | H45: 79613836 | L45: 2385893.4 | O45: =L45-H45 -> -77227942
C46: 2025 Q4 | H46: 85922556 | L46: 2312842.8 | O46: =L46-H46 -> -83609713
C47: Total 2025 | H47: =SUM(H43:I46) -> 3.2390563e+08 | K47: =SUM(K43:M46) -> 9025409.3 | O47: =SUM(O43:P46) -> -3.1488022e+08
C50: * aggregated information does not include one reporting entity.
C51: Source: Money Service Providers (MSP's) licensed by Cayman Islands Monetary Authority (CIMA).
C52: Updated - March 2026
B56: Cayman Islands Remittances Number of Transactions by Country and Value (in US$) For 5 Largest Countries by Number of Transactions
C62: OUTFLOWS
C63: Number of Transactions (more than) > CI$500
C64: COUNTRY | H64: Year 2023 Q4 | L64: Year 2024 Q4 | O64: Year 2025 Q4
C65: JAMAICA | G65: ='Tri-Year Comparison'!V7 -> 22165 | K65: ='Tri-Year Comparison'!W7 -> 23569 | O65: ='Tri-Year Comparison'!X7 -> 24028
C66: PHILIPPINES | G66: ='Tri-Year Comparison'!V9 -> 6774 | K66: ='Tri-Year Comparison'!W9 -> 6793 | O66: ='Tri-Year Comparison'!X9 -> 7080
C67: HONDURAS | G67: ='Tri-Year Comparison'!V8 -> 2222 | K67: ='Tri-Year Comparison'!W8 -> 2521 | O67: ='Tri-Year Comparison'!X8 -> 2622
C68: UNITED STATES | G68: ='Tri-Year Comparison'!V17 -> 1645 | K68: ='Tri-Year Comparison'!W17 -> 1787 | O68: ='Tri-Year Comparison'!X17 -> 1679
C69: DOMINICAN REPUBLIC | G69: ='Tri-Year Comparison'!V10 -> 878 | K69: ='Tri-Year Comparison'!W10 -> 1059 | O69: ='Tri-Year Comparison'!X10 -> 1307
C71: OUTFLOWS
C72: Number of Transactions (less than) < CI$500
C73: COUNTRY | H73: Year 2023 Q4 | L73: Year 2024 Q4 | O73: Year 2025 Q4
C74: JAMAICA | G74: ='Tri-Year Comparison'!V37 -> 120255 | K74: ='Tri-Year Comparison'!W37 -> 115405 | O74: ='Tri-Year Comparison'!X37 -> 107068
C75: PHILIPPINES | G75: ='Tri-Year Comparison'!V39 -> 18418 | K75: ='Tri-Year Comparison'!W39 -> 16248 | O75: ='Tri-Year Comparison'!X39 -> 15438
C76: HONDURAS | G76: ='Tri-Year Comparison'!V38 -> 13209 | K76: ='Tri-Year Comparison'!W38 -> 12616 | O76: ='Tri-Year Comparison'!X38 -> 12004
C77: UNITED STATES | G77: ='Tri-Year Comparison'!V47 -> 6622 | K77: ='Tri-Year Comparison'!W47 -> 6508 | O77: ='Tri-Year Comparison'!X47 -> 5744
C78: NICARAGUA | G78: ='Tri-Year Comparison'!V41 -> 6070 | K78: ='Tri-Year Comparison'!W41 -> 5778 | O78: ='Tri-Year Comparison'!X41 -> 6181
C80: INFLOWS
C81: REMITTANCE INFLOWS BY COUNTRY and VALUE (Actual Amounts)
C82: COUNTRY | H82: Year 2023 Q4 | L82: Year 2024 Q4 | O82: Year 2025 Q4
C83: UNITED STATES | H83: ='Tri-Year Comparison'!AF21 -> 1321387.2 | L83: ='Tri-Year Comparison'!AG21 -> 1297855.4 | O83: ='Tri-Year Comparison'!AH21 -> 1281585.9
C84: JAMAICA | H84: ='Tri-Year Comparison'!AF11 -> 389551.94 | L84: ='Tri-Year Comparison'!AG11 -> 371451.41 | O84: ='Tri-Year Comparison'!AH11 -> 249453.88
C85: UNITED KINGDOM | H85: ='Tri-Year Comparison'!AF20 -> 172372.97 | L85: ='Tri-Year Comparison'!AG20 -> 134175.29 | O85: ='Tri-Year Comparison'!AH20 -> 133358.62
C86: CANADA | H86: ='Tri-Year Comparison'!AF22 -> 148853.93 | L86: ='Tri-Year Comparison'!AG22 -> 131975.66 | O86: ='Tri-Year Comparison'!AH22 -> 120948.22
C87: PHILIPPINES | H87: ='Tri-Year Comparison'!AF13 -> 67800.85 | L87: ='Tri-Year Comparison'!AG13 -> 57882.69 | O87: ='Tri-Year Comparison'!AH13 -> 16753.01
C89: INFLOWS
C90: Total Transactions per Quarter
C91: Year | H91: Year 2023 Q4 | L91: Year 2024 Q4 | O91: Year 2025 Q4
C92: Number of Transactions | H92: ='Tri-Year Comparison'!AF6 -> 6609 | K92: ='Tri-Year Comparison'!AG6 -> 6730 | L92: ='Tri-Year Comparison'!AG6 -> 6730 | O92: ='Tri-Year Comparison'!AH6 -> 6094
C94: Source: Money Service Providers (MSP's) licensed by Cayman Islands Monetary Authority (CIMA).
C95: Updated - March 2026
B99: REMITTANCE OUTFLOWS BY COUNTRY AND BY COUNTRY BY PERCENTAGE (US$ - Actual Amounts)
B103: COUNTRY | G103: 2023Q4 | K103: 2024Q4 | O103: 2025Q4
B104: JAMAICA | G104: ='Tri-Year Comparison'!B8 -> 51036313 | I104: ='Tri-Year Comparison'!B36 -> 0.6217939 | K104: ='Tri-Year Comparison'!C8 -> 53115922 | M104: ='Tri-Year Comparison'!C36 -> 0.62941537 | O104: ='Tri-Year Comparison'!D8 -> 53553092 | P104: ='Tri-Year Comparison'!D36 -> 0.62327164
B105: HONDURAS | G105: ='Tri-Year Comparison'!B9 -> 5545879.7 | I105: ='Tri-Year Comparison'!B37 -> 0.067567463 | K105: ='Tri-Year Comparison'!C9 -> 5660470.5 | M105: ='Tri-Year Comparison'!C37 -> 0.067075691 | O105: ='Tri-Year Comparison'!D9 -> 5697698.1 | P105: ='Tri-Year Comparison'!D37 -> 0.066312018
B106: PHILIPPINES | G106: ='Tri-Year Comparison'!B10 -> 12432787 | I106: ='Tri-Year Comparison'!B38 -> 0.15147315 | K106: ='Tri-Year Comparison'!C10 -> 11941542 | M106: ='Tri-Year Comparison'!C38 -> 0.14150541 | O106: ='Tri-Year Comparison'!D10 -> 12468319 | P106: ='Tri-Year Comparison'!D38 -> 0.14511113
B107: DOMINICAN REPUBLIC | G107: ='Tri-Year Comparison'!B11 -> 1709015.3 | I107: ='Tri-Year Comparison'!B39 -> 0.020821553 | K107: ='Tri-Year Comparison'!C11 -> 2003347.5 | M107: ='Tri-Year Comparison'!C39 -> 0.023739355 | O107: ='Tri-Year Comparison'!D11 -> 2405387.9 | P107: ='Tri-Year Comparison'!D39 -> 0.027994836
B108: NICARAGUA | G108: ='Tri-Year Comparison'!B12 -> 2169701.2 | I108: ='Tri-Year Comparison'!B40 -> 0.026434257 | K108: ='Tri-Year Comparison'!C12 -> 2158984 | M108: ='Tri-Year Comparison'!C40 -> 0.025583623 | O108: ='Tri-Year Comparison'!D12 -> 2444760.7 | P108: ='Tri-Year Comparison'!D40 -> 0.028453072
B109: COLUMBIA | G109: ='Tri-Year Comparison'!B13 -> 806817.55 | I109: ='Tri-Year Comparison'!B41 -> 0.0098297506 | K109: ='Tri-Year Comparison'!C13 -> 879728.72 | M109: ='Tri-Year Comparison'!C41 -> 0.010424648 | O109: ='Tri-Year Comparison'!D13 -> 876663.66 | P109: ='Tri-Year Comparison'!D41 -> 0.010202951
B110: GUYANA | G110: ='Tri-Year Comparison'!B14 -> 520614.04 | I110: ='Tri-Year Comparison'!B42 -> 0.0063428296 | K110: ='Tri-Year Comparison'!C14 -> 477966.75 | M110: ='Tri-Year Comparison'!C42 -> 0.0056638313 | O110: ='Tri-Year Comparison'!D14 -> 389232.67 | P110: ='Tri-Year Comparison'!D42 -> 0.0045300406
B111: TRINIDAD & TOBAGO | G111: ='Tri-Year Comparison'!B15 -> 128123.96 | I111: ='Tri-Year Comparison'!B43 -> 0.0015609807 | K111: ='Tri-Year Comparison'!C15 -> 143676.14 | M111: ='Tri-Year Comparison'!C43 -> 0.0017025398 | O111: ='Tri-Year Comparison'!D15 -> 143862.27 | P111: ='Tri-Year Comparison'!D43 -> 0.0016743248
B112: INDIA | G112: ='Tri-Year Comparison'!B16 -> 264322.24 | I112: ='Tri-Year Comparison'!B44 -> 0.0032203337 | K112: ='Tri-Year Comparison'!C16 -> 209720.13 | M112: ='Tri-Year Comparison'!C44 -> 0.0024851507 | O112: ='Tri-Year Comparison'!D16 -> 158950.12 | P112: ='Tri-Year Comparison'!D44 -> 0.0018499231
B113: UNITED KINGDOM | G113: ='Tri-Year Comparison'!B17 -> 274433.51 | I113: ='Tri-Year Comparison'!B45 -> 0.0033435229 | K113: ='Tri-Year Comparison'!C17 -> 277500.45 | M113: ='Tri-Year Comparison'!C45 -> 0.003288337 | O113: ='Tri-Year Comparison'!D17 -> 302212.29 | P113: ='Tri-Year Comparison'!D45 -> 0.0035172637
B114: UNITED STATES | G114: ='Tri-Year Comparison'!B18 -> 3645807.8 | I114: ='Tri-Year Comparison'!B46 -> 0.044418198 | K114: ='Tri-Year Comparison'!C18 -> 3782631.9 | M114: ='Tri-Year Comparison'!C46 -> 0.044823597 | O114: ='Tri-Year Comparison'!D18 -> 3502702.2 | P114: ='Tri-Year Comparison'!D46 -> 0.040765805
B115: CANADA | G115: ='Tri-Year Comparison'!B19 -> 533298.89 | I115: ='Tri-Year Comparison'!B47 -> 0.0064973736 | K115: ='Tri-Year Comparison'!C19 -> 599879.35 | M115: ='Tri-Year Comparison'!C47 -> 0.0071084765 | O115: ='Tri-Year Comparison'!D19 -> 483757.01 | P115: ='Tri-Year Comparison'!D47 -> 0.0056301515
... B127: OTHER | G127: ='Tri-Year Comparison'!B31 -> 1493706 | I127: ='Tri-Year Comparison'!B59 -> 0.018198362 | K127: ='Tri-Year Comparison'!C31 -> 1723663.8 | M127: ='Tri-Year Comparison'!C59 -> 0.020425147 | O127: ='Tri-Year Comparison'!D31 -> 1694397.5 | P127: ='Tri-Year Comparison'!D59 -> 0.019720055
B128: TOTALS | G128: =SUM(G104:H127) -> 82079147 | I128: =SUM(I104:I127) -> 1 | K128: =SUM(K104:L127) -> 84389299 | M128: =SUM(M104:M127) -> 1 | O128: =SUM(O104:O127) -> 85922556 | P128: =SUM(P104:P127) -> 1
B130: Source: Money Service Providers (MSP's) licensed by Cayman Islands Monetary Authority (CIMA).
B131: n/a - data not collected
B132: Updated - March 2026

Sheet DATA
A1: Money Service Providers Statistics | I1: Money Service Business Remittances by Quarter | N1: Remittance Outflows Growth Rate | S1: Remittance Inflows Growth Rate | X1: # of Transactions (more than) > $CI500 - Outflows Top 5 Countries & # of Transactions (less than) < $CI500 - Outflows Top 5 Countries | AB1: COUNTRY NET MSB REMITTANCES | AH1: Unused Data
I2: Period | J2: Total Inflows | K2: Total Outflows | L2: Net Remittances | N2: YEAR | O2: Remittance Outflows Growth Rate | S2: YEAR | T2: Remittance Inflows Growth Rate | AB2: RANK | AC2: COUNTRY | AD2: COUNTRY NET MSB REMITTANCES | AE2: Previous Quarter COUNTRY NET MSB REMITTANCES | AH2: Quarter | AI2: Total Government Fee Charged for Transfers ≥ CI$500/US$609.76 in USD | AJ2: Total Government Fee Charged for Transfers < CI$500/US$609.76 in USD | AK2: Total Amount to be Paid to Cayman Islands Government in USD | AL2: Total Amount to be Paid to Cayman Islands Government in KYD | AN2: Change in Amount to be Paid to CI GOV in USD
A3: Money Services Providers | E3: 2023 | F3: 2024 | G3: 2025 | I3: 2019 Q1 | J3: 1915939.4 | K3: 62312409 | L3: =J3-K3 -> -60396470 | N3: 2019 Q1 | O3: 62312409 | S3: 2019 Q1 | T3: 1915939.4 | X3: COUNTRY | Y3: # of Transactions (more than) > $CI500 - Outflows | AB3: =RANK(AD3,$AD$3:$AD$26,1) -> 1 | AC3: JAMAICA | AD3: =INFLOWS!AY8-OUTFLOWS!AY8 -> -53303639 | AH3: 2013 Q1 | AI3: 183927.2 | AJ3: 515112.53 | AK3: 699039.73 | AL3: 573212.58 | AN3: -
A4: Number of licences | E4: 5 | F4: 5 | G4: 5 | I4: 2019 Q2 | J4: 2063041 | K4: 64550584 | L4: =J4-K4 -> -62487543 | N4: 2019 Q2 | O4: 64550584 | P4: =((O4-O3)/O3) -> 0.03591861 | S4: 2019 Q2 | T4: 2063041 | U4: =((T4-T3)/T3) -> 0.076777816 | X4: JAMAICA | Y4: ='DATA TABLES'!O65 -> 24028 | AB4: =RANK(AD4,$AD$3:$AD$26,1) -> 2 | AC4: PHILIPPINES | AD4: =INFLOWS!AY10-OUTFLOWS!AY10 -> -12451566 | AH4: 2013 Q2 | AI4: 178571.4 | AJ4: 536411.79 | AK4: 714983.19 | AL4: 586286.22 | AN4: =(AK4-AK3)/AK3 -> 0.022807659
I5: 2019 Q3 | J5: 2147193 | K5: 64626957 | L5: =J5-K5 -> -62479764 | N5: 2019 Q3 | O5: 64626957 | P5: =((O5-O4)/O4) -> 0.0011831496 | S5: 2019 Q3 | T5: 2147193 | U5: =((T5-T4)/T4) -> 0.04079027 | X5: PHILIPPINES | Y5: ='DATA TABLES'!O66 -> 7080 | AB5: =RANK(AD5,$AD$3:$AD$26,1) -> 3 | AC5: HONDURAS | AD5: =INFLOWS!AY9-OUTFLOWS!AY9 -> -5675805.1 | AH5: 2013 Q3 | AI5: 171763.8 | AJ5: 518304.61 | AK5: 690068.41 | AL5: 565856.1 | AN5: =(AK5-AK4)/AK4 -> -0.034846667
A6: Active Remittance Service Providers | E6: 3 | F6: 3 | G6: 3 | I6: 2019 Q4 | J6: 1998148 | K6: 72470062 | L6: =J6-K6 -> -70471914 | N6: 2019 Q4 | O6: 72470062 | P6: =((O6-O5)/O5) -> 0.12135965 | S6: 2019 Q4 | T6: 1998148 | U6: =((T6-T5)/T5) -> -0.069413881 | X6: HONDURAS | Y6: ='DATA TABLES'!O67 -> 2622 | AB6: =RANK(AD6,$AD$3:$AD$26,1) -> 4 | AC6: NICARAGUA | AD6: =INFLOWS!AY12-OUTFLOWS!AY12 -> -2437489 | AH6: 2013 Q4 | AI6: 191003.2 | AJ6: 557916.47 | AK6: 748919.67 | AL6: 614114.13 | AN6: =(AK6-AK5)/AK5 -> 0.085283234
I7: 2020 Q1 | J7: 1716641 | K7: 63587882 | L7: =J7-K7 -> -61871241 | N7: 2020 Q1 | O7: 63587882 | P7: =((O7-O6)/O6) -> -0.12256344 | S7: 2020 Q1 | T7: 1716641 | U7: =((T7-T6)/T6) -> -0.14088396 | X7: UNITED STATES | Y7: ='DATA TABLES'!O68 -> 1679 | AB7: =RANK(AD7,$AD$3:$AD$26,1) -> 6 | AC7: UNITED STATES | AD7: =INFLOWS!AY18-OUTFLOWS!AY18 -> -2221116.3 | AH7: 2014 Q1 | AI7: 180047.6 | AJ7: 525157.81 | AK7: 705205.41 | AL7: 578268.44 | AN7: =(AK7-AK6)/AK6 -> -0.058369761
I8: 2020 Q2 | J8: 1174158.7 | K8: 37945479 | L8: =J8-K8 -> -36771321 | N8: 2020 Q2 | O8: 37945479 | P8: =((O8-O7)/O7) -> -0.40325927 | S8: 2020 Q2 | T8: 1174158.7 | U8: =((T8-T7)/T7) -> -0.31601383 | X8: DOMINICAN REPUBLIC | Y8: ='DATA TABLES'!O69 -> 1307 | AB8: =RANK(AD8,$AD$3:$AD$26,1) -> 5 | AC8: DOMINICAN REPUBLIC | AD8: =INFLOWS!AY11-OUTFLOWS!AY11 -> -2397088 | AH8: 2014 Q2 | AI8: 183634.4 | AJ8: 537223.11 | AK8: 720857.51 | AL8: 591103.16 | AN8: =(AK8-AK7)/AK7 -> 0.022195097
I9: 2020 Q3 | J9: 1653916.6 | K9: 86016515 | L9: =J9-K9 -> -84362598 | N9: 2020 Q3 | O9: 86016515 | P9: =((O9-O8)/O8) -> 1.2668449 | S9: 2020 Q3 | T9: 1653916.6 | U9: =((T9-T8)/T8) -> 0.40859715 | AB9: =RANK(AD9,$AD$3:$AD$26,1) -> 7 | AC9: OTHER | AD9: =INFLOWS!AY31-OUTFLOWS!AY31 -> -1279774.2 | AH9: 2014 Q3 | AI9: 177595.4 | AJ9: 522300.32 | AK9: 699895.72 | AL9: 573914.49 | AN9: =(AK9-AK8)/AK8 -> -0.029078968
I10: 2020 Q4 | J10: 1828326.8 | K10: 74115932 | L10: =J10-K10 -> -72287605 | N10: 2020 Q4 | O10: 74115932 | P10: =((O10-O9)/O9) -> -0.1383523 | S10: 2020 Q4 | T10: 1828326.8 | U10: =((T10-T9)/T9) -> 0.10545281 | X10: COUNTRY | Y10: # of Transactions (less than) < $CI500 - Outflows | AB10: =RANK(AD10,$AD$3:$AD$26,1) -> 8 | AC10: COLOMBIA | AD10: =INFLOWS!AY13-OUTFLOWS!AY13 -> -859320.14 | AH10: 2014 Q4 | AI10: 194346 | AJ10: 561442.26 | AK10: 755788.26 | AL10: 619746.37 | AN10: =(AK10-AK9)/AK9 -> 0.079858375
I11: 2021 Q1 | J11: 1994160.6 | K11: 67638561 | L11: =J11-K11 -> -65644401 | N11: 2021 Q1 | O11: 67638561 | P11: =((O11-O10)/O10) -> -0.087395119 | S11: 2021 Q1 | T11: 1994160.6 | U11: =((T11-T10)/T10) -> 0.090702496 | X11: JAMAICA | Y11: ='DATA TABLES'!O74 -> 107068 | AB11: =RANK(AD11,$AD$3:$AD$26,1) -> 9 | AC11: GUYANA | AD11: =INFLOWS!AY14-OUTFLOWS!AY14 -> -383849.04 | AH11: 2015 Q1 | AI11: 191149.6 | AJ11: 539040.11 | AK11: 730189.71 | AL11: 598755.56 | AN11: =(AK11-AK10)/AK10 -> -0.033869999
I12: 2021 Q2 | J12: 2215105.9 | K12: 68174853 | L12: =J12-K12 -> -65959747 | N12: 2021 Q2 | O12: 68174853 | P12: =((O12-O11)/O11) -> 0.0079287838 | S12: 2021 Q2 | T12: 2215105.9 | U12: =((T12-T11)/T11) -> 0.11079619 | X12: PHILIPPINES | Y12: ='DATA TABLES'!O75 -> 15438 | AB12: =RANK(AD12,$AD$3:$AD$26,1) -> 11 | AC12: CANADA | AD12: =INFLOWS!AY19-OUTFLOWS!AY19 -> -362808.79 | AH12: 2015 Q2 | AI12: 199811.6 | AJ12: 549768.46 | AK12: 749580.06 | AL12: 614655.65 | AN12: =(AK12-AK11)/AK11 -> 0.026555222
I13: 2021 Q3 | J13: 2472709.6 | K13: 66974215 | L13: =J13-K13 -> -64501506 | N13: 2021 Q3 | O13: 66974215 | P13: =((O13-O12)/O12) -> -0.017611146 | S13: 2021 Q3 | T13: 2472709.6 | U13: =((T13-T12)/T12) -> 0.11629408 | X13: HONDURAS | Y13: ='DATA TABLES'!O76 -> 12004 | AB13: =RANK(AD13,$AD$3:$AD$26,1) -> 12 | AC13: NEPAL | AD13: =INFLOWS!AY28-OUTFLOWS!AY28 -> -266596.71 | AH13: 2015 Q3 | AI13: 203398.4 | AJ13: 515103.71 | AK13: 718502.11 | AL13: 589171.73 | AN13: =(AK13-AK12)/AK12 -> -0.041460482
I14: 2021 Q4 | J14: 2675231.7 | K14: 75367864 | L14: =J14-K14 -> -72692632 | N14: 2021 Q4 | O14: 75367864 | P14: =((O14-O13)/O13) -> 0.12532657 | S14: 2021 Q4 | T14: 2675231.7 | U14: =((T14-T13)/T13) -> 0.081902896 | X14: UNITED STATES | Y14: ='DATA TABLES'!O77 -> 5744 | AB14: =RANK(AD14,$AD$3:$AD$26,1) -> 13 | AC14: COSTA RICA | AD14: =INFLOWS!AY20-OUTFLOWS!AY20 -> -244288.93 | AH14: 2015 Q4 | AI14: 294032.2 | AJ14: 461897.84 | AK14: 755930.04 | AL14: 619862.63 | AN14: =(AK14-AK13)/AK13 -> 0.052091608
I15: 2022 Q1 | J15: =INFLOWS!$AG$32 -> 2335170.5 | K15: =OUTFLOWS!$AG$32 -> 68950387 | L15: =J15-K15 -> -66615216 | N15: 2022 Q1 | O15: =OUTFLOWS!$AG$32 -> 68950387 | P15: =((O15-O14)/O14) -> -0.08514872 | S15: 2022 Q1 | T15: =INFLOWS!$AG$32 -> 2335170.5 | U15: =((T15-T14)/T14) -> -0.12711467 | X15: NICARAGUA | Y15: {='DATA TABLES'!O78:P78} -> 6181 | Z15: 0 | AB15: =RANK(AD15,$AD$3:$AD$26,1) -> 17 | AC15: INDIA | AD15: =INFLOWS!AY16-OUTFLOWS!AY16 -> -158950.12 | AH15: 2016 Q1 | AI15: 203666.8 | AJ15: 543101.91 | AK15: 746768.71 | AL15: 612350.34 | AN15: =(AK15-AK14)/AK14 -> -0.012119279
I16: 2022 Q2 | J16: =INFLOWS!$AH$32 -> 2381724.9 | K16: =OUTFLOWS!$AH$32 -> 75828211 | L16: =J16-K16 -> -73446486 | N16: 2022 Q2 | O16: =OUTFLOWS!$AH$32 -> 75828211 | P16: =((O16-O15)/O15) -> 0.099750336 | S16: 2022 Q2 | T16: =INFLOWS!$AH$32 -> 2381724.9 | U16: =((T16-T15)/T15) -> 0.019936154 | AB16: =RANK(AD16,$AD$3:$AD$26,1) -> 14 | AC16: MEXICO | AD16: =INFLOWS!AY27-OUTFLOWS!AY27 -> -222793.69 | AH16: 2016 Q2 | AI16: 218904.6 | AJ16: 594828.42 | AK16: 813733.02 | AL16: 667261.08 | AN16: =(AK16-AK15)/AK15 -> 0.089672091
I17: 2022 Q3 | J17: =INFLOWS!$AI$32 -> 2605187 | K17: =OUTFLOWS!$AI$32 -> 75896334 | L17: =J17-K17 -> -73291147 | N17: 2022 Q3 | O17: =OUTFLOWS!$AI$32 -> 75896334 | P17: =((O17-O16)/O16) -> 0.00089837871 | S17: 2022 Q3 | T17: =INFLOWS!$AI$32 -> 2605187 | U17: =((T17-T16)/T16) -> 0.093823684 | AB17: =RANK(AD17,$AD$3:$AD$26,1) -> 15 | AC17: PERU | AD17: =INFLOWS!AY29-OUTFLOWS!AY29 -> -205165.36 | AH17: 2016 Q3 | AI17: 221966.8 | AJ17: 585681.67 | AK17: 807648.47 | AL17: 662271.75 | AN17: =(AK17-AK16)/AK16 -> -0.007477335
I18: 2022 Q4 | J18: =INFLOWS!$AJ$32 -> 2650456.6 | K18: =OUTFLOWS!$AJ$32 -> 82206783 | L18: =J18-K18 -> -79556326 | N18: 2022 Q4 | O18: =OUTFLOWS!$AJ$32 -> 82206783 | P18: =((O18-O17)/O17) -> 0.083145642 | S18: 2022 Q4 | T18: =INFLOWS!$AJ$32 -> 2650456.6 | U18: =((T18-T17)/T17) -> 0.017376684 | AB18: =RANK(AD18,$AD$3:$AD$26,1) -> 10 | AC18: ZIMBABWE | AD18: =INFLOWS!AY30-OUTFLOWS!AY30 -> -372170.18 | AH18: 2016 Q4 | AI18: 247538 | AJ18: 624939.52 | AK18: 872477.52 | AL18: 715431.57 | AN18: =(AK18-AK17)/AK17 -> 0.080268898
I19: 2023 Q1 | J19: =INFLOWS!$AL$32 -> 2402227.6 | K19: =OUTFLOWS!$AL$32 -> 75586097 | L19: =J19-K19 -> -73183869 | N19: 2023 Q1 | O19: =OUTFLOWS!$AL$32 -> 75586097 | P19: =((O19-O18)/O18) -> -0.080536985 | S19: 2023 Q1 | T19: =INFLOWS!$AL$32 -> 2402227.6 | U19: =((T19-T18)/T18) -> -0.093655182 | AB19: =RANK(AD19,$AD$3:$AD$26,1) -> 20 | AC19: BELIZE | AD19: =INFLOWS!AY23-OUTFLOWS!AY23 -> -128308.78 | AH19: 2017 Q1 | AI19: 235813.8 | AJ19: 595137.99 | AK19: 830951.79 | AL19: 681380.47 | AN19: =(AK19-AK18)/AK18 -> -0.047595185
I20: 2023 Q2 | J20: =INFLOWS!$AM$32 -> 2393374.3 | K20: =OUTFLOWS!$AM$32 -> 77411717 | L20: =J20-K20 -> -75018343 | N20: 2023 Q2 | O20: =OUTFLOWS!$AM$32 -> 77411717 | P20: =((O20-O19)/O19) -> 0.024152866 | S20: 2023 Q2 | T20: =INFLOWS!$AM$32 -> 2393374.3 | U20: =((T20-T19)/T19) -> -0.0036854435 | AB20: =RANK(AD20,$AD$3:$AD$26,1) -> 16 | AC20: UNITED KINGDOM | AD20: =INFLOWS!AY17-OUTFLOWS!AY17 -> -168853.67 | AH20: 2017 Q2 | AI20: 246379 | AJ20: 617540.84 | AK20: 863919.84 | AL20: 708414.27 | AN20: =(AK20-AK19)/AK19 -> 0.039675041
I21: 2023 Q3 | J21: =INFLOWS!$AN$32 -> 2654797.5 | K21: =OUTFLOWS!$AN$32 -> 75284034 | L21: =J21-K21 -> -72629237 | N21: 2023 Q3 | O21: =OUTFLOWS!$AN$32 -> 75284034 | P21: =((O21-O20)/O20) -> -0.027485284 | S21: 2023 Q3 | T21: =INFLOWS!$AN$32 -> 2654797.5 | U21: =((T21-T20)/T20) -> 0.1092279 | AB21: =RANK(AD21,$AD$3:$AD$26,1) -> 18 | AC21: PANAMA | AD21: =INFLOWS!AY22-OUTFLOWS!AY22 -> -158520.6 | AH21: 2017 Q3 | AI21: 250758.8 | AJ21: 635417 | AK21: 886175.8 | AL21: 726664.15 | AN21: =(AK21-AK20)/AK20 -> 0.0257616
I22: 2023 Q4 | J22: =INFLOWS!$AO$32 -> 2473121 | K22: =OUTFLOWS!$AO$32 -> 82079147 | L22: =J22-K22 -> -79606026 | N22: 2023 Q4 | O22: =OUTFLOWS!$AO$32 -> 82079147 | P22: =((O22-O21)/O21) -> 0.090259681 | S22: 2023 Q4 | T22: =INFLOWS!$AO$32 -> 2473121 | U22: =((T22-T21)/T21) -> -0.068433287 | AB22: =RANK(AD22,$AD$3:$AD$26,1) -> 19 | AC22: TRINIDAD & TOBAGO | AD22: =INFLOWS!AY15-OUTFLOWS!AY15 -> -131858.5 | AH22: 2017 Q4 | AI22: 272889.6 | AJ22: 658476.1 | AK22: 931365.7 | AL22: 763719.87 | AN22: =(AK22-AK21)/AK21 -> 0.050994286
I23: 2024 Q1 | J23: =INFLOWS!$AQ$32 -> 2419087.4 | K23: =OUTFLOWS!$AQ$32 -> 78090402 | L23: =J23-K23 -> -75671315 | N23: 2024 Q1 | O23: =OUTFLOWS!$AQ$32 -> 78090402 | P23: =((O23-O22)/O22) -> -0.048596329 | S23: 2024 Q1 | T23: =INFLOWS!$AQ$32 -> 2419087.4 | U23: =((T23-T22)/T22) -> -0.021848365 | AB23: =RANK(AD23,$AD$3:$AD$26,1) -> 21 | AC23: BARBADOS | AD23: =INFLOWS!AY21-OUTFLOWS!AY21 -> -85239.73 | AH23: 2018 Q1 | AI23: 266826.2 | AJ23: 621150.28 | AK23: 887976.48 | AL23: 728140.71 | AN23: =(AK23-AK22)/AK22 -> -0.046586662
I24: 2024 Q2 | J24: =INFLOWS!$AR$32 -> 2456751.4 | K24: =OUTFLOWS!$AR$32 -> 79664627 | L24: =J24-K24 -> -77207876 | N24: 2024 Q2 | O24: =OUTFLOWS!$AR$32 -> 79664627 | P24: =((O24-O23)/O23) -> 0.020159008 | S24: 2024 Q2 | T24: =INFLOWS!$AR$32 -> 2456751.4 | U24: =((T24-T23)/T23) -> 0.015569539 | AB24: =RANK(AD24,$AD$3:$AD$26,1) -> 23 | AC24: CHINA | AD24: =INFLOWS!AY24-OUTFLOWS!AY24 -> -47130.58 | AH24: 2018 Q2 | AI24: 281002.6 | AJ24: 653410.49 | AK24: 934413.09 | AL24: 766218.73 | AN24: =(AK24-AK23)/AK23 -> 0.052294864
I25: 2024 Q3 | J25: =INFLOWS!$AS$32 -> 2494321.1 | K25: =OUTFLOWS!$AS$32 -> 76114762 | L25: =J25-K25 -> -73620441 | N25: 2024 Q3 | O25: =OUTFLOWS!$AS$32 -> 76114762 | P25: =((O25-O24)/O24) -> -0.044560115 | S25: 2024 Q3 | T25: =INFLOWS!$AS$32 -> 2494321.1 | U25: =((T25-T24)/T24) -> 0.015292395 | AB25: =RANK(AD25,$AD$3:$AD$26,1) -> 22 | AC25: KENYA | AD25: =INFLOWS!AY26-OUTFLOWS!AY26 -> -47381.3 | AH25: 2018 Q3 | AI25: 281356.4 | AJ25: 650398.56 | AK25: 931754.96 | AL25: 764039.07 | AN25: =(AK25-AK24)/AK24 -> -0.0028447003
I26: 2024 Q4 | J26: =INFLOWS!$AT$32 -> 2392508.8 | K26: =OUTFLOWS!$AT$32 -> 84389299 | L26: =J26-K26 -> -81996790 | N26: 2024 Q4 | O26: =OUTFLOWS!$AT$32 -> 84389299 | P26: =((O26-O25)/O25) -> 0.10871133 | S26: 2024 Q4 | T26: =INFLOWS!$AT$32 -> 2392508.8 | U26: =((T26-T25)/T25) -> -0.040817606 | AB26: =RANK(AD26,$AD$3:$AD$26,1) -> 24 | AC26: CUBA | AD26: =INFLOWS!AY25-OUTFLOWS!AY25 -> 0 | AH26: 2018 Q4 | AI26: 274548.8 | AJ26: 716971.66 | AK26: 991520.46 | AL26: 813046.78 | AN26: =(AK26-AK25)/AK25 -> 0.064142934
I27: 2025 Q1 | J27: =INFLOWS!$AV$32 -> 1954712.3 | K27: =OUTFLOWS!$AV$32 -> 74989335 | L27: =J27-K27 -> -73034623 | N27: 2025 Q1 | O27: =OUTFLOWS!$AV$32 -> 74989335 | P27: =((O27-O26)/O26) -> -0.1113881 | S27: 2025 Q1 | T27: =INFLOWS!$AV$32 -> 1954712.3 | U27: =((T27-T26)/T26) -> -0.18298638 | AH27: 2019 Q1 | AI27: 295715.8 | AJ27: 692978.94 | AK27: 988694.74 | AL27: 810729.68 | AN27: =(AK27-AK26)/AK26 -> -0.0028498924
I28: 2025 Q2 | J28: =INFLOWS!$AW$32 -> 2371960.8 | K28: =OUTFLOWS!$AW$32 -> 83379899 | L28: =J28-K28 -> -81007938 | N28: 2025 Q2 | O28: =OUTFLOWS!$AW$32 -> 83379899 | P28: =((O28-O27)/O27) -> 0.11189009 | S28: 2025 Q2 | T28: =INFLOWS!$AW$32 -> 2371960.8 | U28: =((T28-T27)/T27) -> 0.21345774 | AH28: 2019 Q2 | AI28: 304841.4 | AJ28: 719806.34 | AK28: 1024647.7 | AL28: 840211.15 | AN28: =(AK28-AK27)/AK27 -> 0.036364113
I29: 2025 Q3 | J29: =INFLOWS!$AX$32 -> 2385893.4 | K29: =OUTFLOWS!$AX$32 -> 79613836 | L29: =J29-K29 -> -77227942 | N29: 2025 Q3 | O29: =OUTFLOWS!$AX$32 -> 79613836 | P29: =((O29-O28)/O28) -> -0.045167518 | S29: 2025 Q3 | T29: =INFLOWS!$AX$32 -> 2385893.4 | U29: =((T29-T28)/T28) -> 0.0058738887 | AH29: 2019 Q3 | AI29: 307562 | AJ29: 717446.34 | AK29: 1025008.3 | AL29: 840506.84 | AN29: =(AK29-AK28)/AK28 -> 0.00035192621
I30: 2025 Q4 | J30: =INFLOWS!$AY$32 -> 2312842.8 | K30: =OUTFLOWS!$AY$32 -> 85922556 | L30: =J30-K30 -> -83609713 | N30: 2025 Q4 | O30: =OUTFLOWS!$AY$32 -> 85922556 | P30: =((O30-O29)/O29) -> 0.079241507 | S30: 2025 Q4 | T30: =INFLOWS!$AY$32 -> 2312842.8 | U30: =((T30-T29)/T29) -> -0.030617732 | AH30: 2019 Q4 | AI30: 358216.4 | AJ30: 780200.86 | AK30: 1138417.3 | AL30: 933502.15 | AN30: =(AK30-AK29)/AK29 -> 0.11064194
I31: 2026 Q1 | N31: 2026 Q1 | S31: 2026 Q1 | AH31: 2020 Q1 | AI31: 304658.4 | AJ31: 697085.7 | AK31: 1001744.1 | AL31: 821430.16 | AN31: =(AK31-AK30)/AK30 -> -0.12005542
AH32: 2020 Q2 | AI32: 215195.8 | AJ32: 319958.52 | AK32: 535154.32 | AL32: 438826.54 | AN32: =(AK32-AK31)/AK31 -> -0.46577742
P33: =((O33-O28)/O28) -> -1 | U33: =((T33-T28)/T28) -> -1 | AH33: 2020 Q3 | AI33: 473677.2 | AJ33: 728551.89 | AK33: 1202229.1 | AL33: 985827.85 | AN33: =(AK33-AK32)/AK32 -> 1.2465092
AH34: 2020 Q4 | AI34: 379444.4 | AJ34: 751120.32 | AK34: 1130564.7 | AL34: 927063.07 | AN34: =(AK34-AK33)/AK33 -> -0.059609575
AH35: 2021 Q1 | AI35: 356703.6 | AJ35: 671413.44 | AK35: 1028117 | AL35: 843055.97 | AN35: =(AK35-AK34)/AK34 -> -0.090616379
N36: SOURCE: Outflows | S36: SOURCE: Inflows | AH36: 2021 Q2 | AI36: 352909.4 | AJ36: 566905.28 | AK36: 919814.68 | AL36: 754248.04 | AN36: =(AK36-AK35)/AK35 -> -0.10534049
AH37: 2021 Q3 | AI37: 345601.6 | AJ37: 673491.73 | AK37: 1019093.3 | AL37: 835656.53 | AN37: =(AK37-AK36)/AK36 -> 0.10793331
AH38: 2021 Q4 | AI38: 397073.4 | AJ38: 736516.7 | AK38: 1133590.1 | AL38: 929543.88 | AN38: =(AK38-AK37)/AK37 -> 0.11235161
AH39: 2022 Q1 | AI39: 352787.4 | AJ39: 686536.82 | AK39: 1039324.2 | AL39: 852245.86 | AN39: =(AK39-AK38)/AK38 -> -0.083156935
AH40: 2022 Q2 | AI40: 392071.4 | AJ40: 755372.08 | AK40: 1147443.5 | AL40: 940903.66 | AN40: =(AK40-AK39)/AK39 -> 0.10402843
AH41: 2022 Q3 | AI41: 391522.4 | AJ41: 754060.03 | AK41: 1145582.4 | AL41: 939377.6 | AN41: =(AK41-AK40)/AK40 -> -0.0016219108
AH42: 2022 Q4 | AI42: 428256.6 | AJ42: 813333.25 | AK42: 1241589.9 | AL42: 1018103.7 | AN42: =(AK42-AK41)/AK41 -> 0.083806644
AH43: 2023 Q1 | AI43: 390839.2 | AJ43: 748519.04 | AK43: 1139358.2 | AL43: 934273.76 | AN43: =(AK43-AK42)/AK42 -> -0.082339278
AH44: 2023 Q2 | AI44: 415312.4 | AJ44: 746496.66 | AK44: 1161809.1 | AL44: 952683.43 | AN44: =(AK44-AK43)/AK43 -> 0.019704793
AH45: 2023 Q3 | AI45: 405906.2 | AJ45: 728724.22 | AK45: 1134630.4 | AL45: 930396.94 | AN45: =(AK45-AK44)/AK44 -> -0.023393379
AH46: 2023 Q4 | AI46: 450582.6 | AJ46: 779636.42 | AK46: 1230219 | AL46: 1008779.6 | AN46: =(AK46-AK45)/AK45 -> 0.084246466
AH47: 2024 Q1 | AI47: 427829.6 | AJ47: 738074.13 | AK47: 1165903.7 | AL47: 956041.06 | AN47: =(AK47-AK46)/AK46 -> -0.052279543
AH48: 2024 Q2 | AI48: 436821 | AJ48: 745188.85 | AK48: 1182009.9 | AL48: 969248.08 | AN48: =(AK48-AK47)/AK47 -> 0.013814279
... AH54: 2025 Q4 | AI54: 495368.8 | AJ54: 716372.95 | AK54: 1211741.7 | AL54: 993628.23 | AN54: =(AK54-AK53)/AK53 -> 0.060670193

Sheet INFLOWS
B2: CAYMAN ISLANDS REMITTANCE REPORT - MONEY SERVICE PROVIDERS (REMITTANCE COMPANIES)
B3: (Workers' remittances transmitted by the remittance companies licensed as Money Service Providers)
B6: REMITTANCE INFLOWS BY COUNTRY (US$ - Actual Amounts)
B7: COUNTRY | C7: Year 2012 | D7: Year 2013 | E7: Year 2014* | F7: Year 2015 | G7: Year 2016 | H7: 2017Q1 | I7: 2017Q2 | J7: 2017Q3 | K7: 2017Q4 | L7: Year 2017 | M7: 2018Q1 | N7: 2018Q2 | O7: 2018Q3 | P7: 2018Q4 | Q7: Year 2018 | R7: 2019Q1 | S7: 2019Q2 | T7: 2019Q3 | U7: 2019Q4 | V7: Year 2019 | W7: 2020Q1 | X7: 2020Q2 | Y7: 2020Q3 | Z7: 2020Q4 | AA7: Year 2020 | AB7: 2021Q1 | AC7: 2021Q2 | AD7: 2021Q3 | AE7: 2021Q4 | AF7: Year 2021 | AG7: 2022Q1 | AH7: 2022Q2 | AI7: 2022Q3 | AJ7: 2022Q4 | AK7: Year 2022 | AL7: 2023Q1 | AM7: 2023Q2 | AN7: 2023Q3 | AO7: 2023Q4 | AP7: Year 2023 | AQ7: 2024Q1 | AR7: 2024Q2 | AS7: 2024Q3 | AT7: 2024Q4 | AU7: Year 2024 | AV7: 2025Q1 | AW7: 2025Q2 | AX7: 2025Q3 | AY7: 2025Q4 | AZ7: Diff 25Q4/25Q3 | BA7: Diff 25Q4/25Q3
B8: JAMAICA | C8: 1259921.9 | D8: 1196086 | E8: 951576.59 | F8: 825503 | G8: 748501.54 | H8: 230833 | I8: 221084.36 | J8: 229708.15 | K8: 249260.4 | L8: =SUM(H8:K8) -> 930885.91 | M8: 245028.03 | N8: 277722.52 | O8: 240766 | P8: 277961.1 | Q8: =SUM(M8:P8) -> 1041477.7 | R8: 284080.32 | S8: 233145.06 | T8: 258258.06 | U8: 175394.6 | V8: =SUM(R8:U8) -> 950878.04 | W8: 167005.19 | X8: 87077.35 | Y8: 161439.34 | Z8: 154287.11 | AA8: =SUM(W8:Z8) -> 569808.99 | AB8: 194338.05 | AC8: 260917.42 | AD8: 311606.2 | AE8: 338587.85 | AF8: =SUM(AB8:AE8) -> 1105449.5 | AG8: 322030.19 | AH8: 348499.85 | AI8: 370678.19 | AJ8: 425086.06 | AK8: =SUM(AG8:AJ8) -> 1466294.3 | AL8: 379820.76 | AM8: 337541.9 | AN8: 384203.8 | AO8: 389551.94 | AP8: 1491118.4 | AQ8: 331585.9 | AR8: 359485.6 | AS8: 358001.21 | AT8: 371451.41 | AU8: 1420524.1 | AV8: 293637.24 | AW8: 334997.75 | AX8: 338239.65 | AY8: 249453.88 | AZ8: =AY8-AX8 -> -88785.766 | BA8: =AZ8/AX8 -> -0.26249367
B9: HONDURAS | C9: 122361.13 | D9: 129767 | E9: 105945.43 | F9: 85266 | G9: 112708.68 | H9: 27469 | I9: 21409.35 | J9: 25656.21 | K9: 30752.61 | L9: =SUM(H9:K9) -> 105287.17 | M9: 32478.68 | N9: 21200.77 | O9: 26840 | P9: 31622.81 | Q9: =SUM(M9:P9) -> 112142.26 | R9: 27809.8 | S9: 25895.83 | T9: 26781.24 | U9: 35088.549 | V9: =SUM(R9:U9) -> 115575.42 | W9: 29188.23 | X9: 4834.63 | Y9: 13147.03 | Z9: 9106.48 | AA9: =SUM(W9:Z9) -> 56276.37 | AB9: 19735.3 | AC9: 33746.34 | AD9: 32921.97 | AE9: 27857.77 | AF9: =SUM(AB9:AE9) -> 114261.38 | AG9: 22325.46 | AH9: 22043.65 | AI9: 20473.769 | AJ9: 34948.291 | AK9: =SUM(AG9:AJ9) -> 99791.17 | AL9: 31745.389 | AM9: 29140.394 | AN9: 34322.46 | AO9: 39303.54 | AP9: 134511.78 | AQ9: 22214.879 | AR9: 25641.226 | AS9: 29351.148 | AT9: 23745.37 | AU9: 100952.62 | AV9: 19515.308 | AW9: 35858.33 | AX9: 31388.927 | AY9: 21893.01 | AZ9: =AY9-AX9 -> -9495.9167 | BA9: =AZ9/AX9 -> -0.30252441
B10: PHILIPPINES | C10: 75978.34 | D10: 81026 | E10: 79820.17 | F10: 92836 | G10: 136908.88 | H10: 37152 | I10: 22184.32 | J10: 30648.41 | K10: 36748.93 | L10: =SUM(H10:K10) -> 126733.66 | M10: 33065.73 | N10: 41536.72 | O10: 32465 | P10: 44586.75 | Q10: =SUM(M10:P10) -> 151654.2 | R10: 46080.99 | S10: 49111.03 | T10: 70772.22 | U10: 83640.9 | V10: =SUM(R10:U10) -> 249605.14 | W10: 57007.12 | X10: 4638.79 | Y10: 9809.87 | Z10: 23032.7 | AA10: =SUM(W10:Z10) -> 94488.48 | AB10: 24869.13 | AC10: 26961.27 | AD10: 43064.51 | AE10: 62152.7 | AF10: =SUM(AB10:AE10) -> 157047.61 | AG10: 74619.45 | AH10: 59637.12 | AI10: 78739.555 | AJ10: 72764.22 | AK10: =SUM(AG10:AJ10) -> 285760.35 | AL10: 87732.689 | AM10: 68751.27 | AN10: 68950.43 | AO10: 67800.85 | AP10: 293235.24 | AQ10: 51040.14 | AR10: 51151.19 | AS10: 60463.651 | AT10: 57882.69 | AU10: 220537.67 | AV10: 28587.964 | AW10: 37689.749 | AX10: 36644.46 | AY10: 16753.01 | AZ10: =AY10-AX10 -> -19891.45 | BA10: =AZ10/AX10 -> -0.54282284
B11: DOMINICAN REPUBLIC | C11: 41199.06 | D11: 50279 | E11: 40527.19 | F11: 52365 | G11: 79712.75 | H11: 6744 | I11: 3066.29 | J11: 11581.84 | K11: 6238.52 | L11: =SUM(H11:K11) -> 27630.65 | M11: 5194.01 | N11: 3841.32 | O11: 6145 | P11: 10189.87 | Q11: =SUM(M11:P11) -> 25370.2 | R11: 7476.03 | S11: 14083.76 | T11: 14322.68 | U11: 11419.14 | V11: =SUM(R11:U11) -> 47301.61 | W11: 9994.41 | X11: 0 | Y11: 3456.18 | Z11: 1569.45 | AA11: =SUM(W11:Z11) -> 15020.04 | AB11: 4737.91 | AC11: 6315.41 | AD11: 6756.38 | AE11: 5657.93 | AF11: =SUM(AB11:AE11) -> 23467.63 | AG11: 18979.6 | AH11: 10762.88 | AI11: 13580.27 | AJ11: 8640.04 | AK11: =SUM(AG11:AJ11) -> 51962.79 | AL11: 12655.42 | AM11: 14797.95 | AN11: 10637.81 | AO11: 14442.21 | AP11: 52533.39 | AQ11: 13041 | AR11: 12427.1 | AS11: 9381.27 | AT11: 14652.63 | AU11: 49502 | AV11: 7289.4216 | AW11: 8272.73 | AX11: 17707.34 | AY11: 8299.89 | AZ11: =AY11-AX11 -> -9407.45 | BA11: =AZ11/AX11 -> -0.53127404
B12: NICARAGUA | C12: 32879.6 | D12: 36665 | E12: 24351.23 | F12: 25789 | G12: 17128.45 | H12: 2795 | I12: 3344.72 | J12: 4087.84 | K12: 4297.48 | L12: =SUM(H12:K12) -> 14525.04 | M12: 6119.18 | N12: 2296.26 | O12: 9029 | P12: 7730.47 | Q12: =SUM(M12:P12) -> 25174.91 | R12: 10902.06 | S12: 8016.01 | T12: 19878.16 | U12: 15670.7 | V12: =SUM(R12:U12) -> 54466.93 | W12: 3183.15 | X12: 91.42 | Y12: 606.69 | Z12: 2871.2 | AA12: =SUM(W12:Z12) -> 6752.46 | AB12: 3507 | AC12: 6228.22 | AD12: 6084.13 | AE12: 4437.18 | AF12: =SUM(AB12:AE12) -> 20256.53 | AG12: 3924.61 | AH12: 10556.25 | AI12: 9429.47 | AJ12: 12805.32 | AK12: =SUM(AG12:AJ12) -> 36715.65 | AL12: 9302.78 | AM12: 8631.62 | AN12: 5611.75 | AO12: 10717.51 | AP12: 34263.66 | AQ12: 5773.15 | AR12: 7826.64 | AS12: 10408.04 | AT12: 8161.63 | AU12: 32169.46 | AV12: 6514.3281 | AW12: 7575.8 | AX12: 13190.45 | AY12: 7271.74 | AZ12: =AY12-AX12 -> -5918.71 | BA12: =AZ12/AX12 -> -0.44871176
B13: COLOMBIA | C13: 73121.85 | D13: 97018 | E13: 75808.27 | F13: 28687 | G13: 21959.23 | H13: 5676 | I13: 19805.05 | J13: 7576.71 | K13: 12743.72 | L13: =SUM(H13:K13) -> 45801.48 | M13: 20923.72 | N13: 9886.9 | O13: 20307 | P13: 13969.14 | Q13: =SUM(M13:P13) -> 65086.76 | R13: 4660.84 | S13: 4542.15 | T13: 6123.54 | U13: 8881.09 | V13: =SUM(R13:U13) -> 24207.62 | W13: 4257.13 | X13: 2700.1 | Y13: 9133.2 | Z13: 17045.34 | AA13: =SUM(W13:Z13) -> 33135.77 | AB13: 5957.74 | AC13: 11874.73 | AD13: 10882.55 | AE13: 11109.99 | AF13: =SUM(AB13:AE13) -> 39825.01 | AG13: 5502.54 | AH13: 6203.4 | AI13: 8121.32 | AJ13: 3841.96 | AK13: =SUM(AG13:AJ13) -> 23669.22 | AL13: 5875.93 | AM13: 4127.59 | AN13: 3951.16 | AO13: 5339.36 | AP13: 19294.04 | AQ13: 4073.06 | AR13: 2850.04 | AS13: 4835.72 | AT13: 6307.89 | AU13: 18066.71 | AV13: 4358.7533 | AW13: 7028.65 | AX13: 8011.1671 | AY13: 17343.52 | AZ13: =AY13-AX13 -> 9332.3529 | BA13: =AZ13/AX13 -> 1.164918
B14: GUYANA | C14: 11718.72 | D14: 14391 | E14: 16574.13 | F14: 7917 | G14: 20872.99 | H14: 8908 | I14: 3253.61 | J14: 5076.96 | K14: 12693.18 | L14: =SUM(H14:K14) -> 29931.75 | M14: 3936.3 | N14: 4425.03 | O14: 3624 | P14: 2805.41 | Q14: =SUM(M14:P14) -> 14790.74 | R14: 3158.33 | S14: 11281.45 | T14: 3425.21 | U14: 2742.6538 | V14: =SUM(R14:U14) -> 20607.644 | W14: 3197.64 | X14: 592.22 | Y14: 1149.38 | Z14: 2174.9 | AA14: =SUM(W14:Z14) -> 7114.14 | AB14: 2004.67 | AC14: 1490.96 | AD14: 791.91 | AE14: 3098.59 | AF14: =SUM(AB14:AE14) -> 7386.13 | AG14: 1864.6 | AH14: 6284.97 | AI14: 2539.7339 | AJ14: 3679.6529 | AK14: =SUM(AG14:AJ14) -> 14368.957 | AL14: 4936.1688 | AM14: 4956.41 | AN14: 5807.64 | AO14: 6193.44 | AP14: 21893.659 | AQ14: 10262.746 | AR14: 6610.5776 | AS14: 11834.138 | AT14: 6570.7276 | AU14: 35278.189 | AV14: 7083.4957 | AW14: 15287.535 | AX14: 4436.1862 | AY14: 5383.63 | AZ14: =AY14-AX14 -> 947.44381 | BA14: =AZ14/AX14 -> 0.2135717
B15: TRINIDAD & TOBAGO | C15: 38308.16 | D15: 69897 | E15: 79862.4 | F15: 83189 | G15: 48797 | H15: 13416 | I15: 20915.27 | J15: 14862.3 | K15: 25256.51 | L15: =SUM(H15:K15) -> 74450.08 | M15: 20260.83 | N15: 17741.3 | O15: 17354 | P15: 20932.38 | Q15: =SUM(M15:P15) -> 76288.51 | R15: 11279.47 | S15: 27056.15 | T15: 30304.08 | U15: 13689.179 | V15: =SUM(R15:U15) -> 82328.879 | W15: 20238.94 | X15: 3912.56 | Y15: 8744.92 | Z15: 6705.96 | AA15: =SUM(W15:Z15) -> 39602.38 | AB15: 5915.39 | AC15: 15199.6 | AD15: 18043.45 | AE15: 13549.47 | AF15: =SUM(AB15:AE15) -> 52707.91 | AG15: 13301.54 | AH15: 19127.94 | AI15: 17557.407 | AJ15: 12913.46 | AK15: =SUM(AG15:AJ15) -> 62900.347 | AL15: 12371.01 | AM15: 13317.211 | AN15: 10329.27 | AO15: 14648.14 | AP15: 50665.631 | AQ15: 26682.763 | AR15: 11161.277 | AS15: 12644.181 | AT15: 14776.317 | AU15: 65264.539 | AV15: 17112.686 | AW15: 12410.5 | AX15: 11416.153 | AY15: 12003.77 | AZ15: =AY15-AX15 -> 587.61667 | BA15: =AZ15/AX15 -> 0.051472387
B16: INDIA | C16: 0 | D16: 0 | E16: 0 | F16: 0 | G16: 0 | H16: 0 | I16: 0 | J16: 0 | K16: 0 | L16: =SUM(H16:K16) -> 0 | M16: 0 | N16: 0 | O16: 0 | P16: 0 | Q16: =SUM(M16:P16) -> 0 | R16: 0 | S16: 0 | T16: 0 | U16: 0 | V16: =SUM(R16:U16) -> 0 | W16: 0 | X16: 0 | Y16: 0 | Z16: 0 | AA16: =SUM(W16:Z16) -> 0 | AB16: 0 | AC16: 0 | AD16: 0 | AE16: 0 | AF16: =SUM(AB16:AE16) -> 0 | AG16: 1687.08 | AH16: 0 | AI16: 0 | AJ16: 0 | AK16: =SUM(AG16:AJ16) -> 1687.08 | AL16: 0 | AM16: 0 | AN16: 0 | AO16: 0 | AP16: 0 | AQ16: 0 | AR16: 0 | AS16: 0 | AT16: 0 | AU16: 0 | AV16: 0 | AW16: 0 | AX16: 0 | AY16: 0 | AZ16: =AY16-AX16 -> 0 | BA16: =AZ16/AX16 -> #DIV/0!
B17: UNITED KINGDOM | C17: 463742.96 | D17: 667883 | E17: 547945.44 | F17: 448071 | G17: 506693.82 | H17: 105298 | I17: 110998.57 | J17: 148668.78 | K17: 157810.25 | L17: =SUM(H17:K17) -> 522775.6 | M17: 98614.6 | N17: 120751.28 | O17: 136301 | P17: 152147.88 | Q17: =SUM(M17:P17) -> 507814.76 | R17: 108992.42 | S17: 118533.94 | T17: 115487.82 | U17: 106942.63 | V17: =SUM(R17:U17) -> 449956.81 | W17: 86290.46 | X17: 81595.46 | Y17: 99091.58 | Z17: 208283.26 | AA17: =SUM(W17:Z17) -> 475260.76 | AB17: 151172.56 | AC17: 124943.96 | AD17: 243638 | AE17: 177326.34 | AF17: =SUM(AB17:AE17) -> 697080.86 | AG17: 183405.6 | AH17: 170971.23 | AI17: 158000.5 | AJ17: 145538.19 | AK17: =SUM(AG17:AJ17) -> 657915.52 | AL17: 142231.12 | AM17: 142540.95 | AN17: 185860.67 | AO17: 172372.97 | AP17: 643005.7 | AQ17: 144526.32 | AR17: 147582.6 | AS17: 131446.44 | AT17: 134175.29 | AU17: 557730.65 | AV17: 129463.7 | AW17: 146487.18 | AX17: 162518.7 | AY17: 133358.62 | AZ17: =AY17-AX17 -> -29160.084 | BA17: =AZ17/AX17 -> -0.17942602
B18: UNITED STATES | C18: 2415708.4 | D18: 3077253 | E18: 3021535.9 | F18: 3252040 | G18: 3311119 | H18: 861903 | I18: 938460.03 | J18: 1029044.9 | K18: 1022723 | L18: =SUM(H18:K18) -> 3852130.9 | M18: 901495.41 | N18: 1018760.9 | O18: 1015652 | P18: 1002645.3 | Q18: =SUM(M18:P18) -> 3938553.6 | R18: 912357.92 | S18: 973212.81 | T18: 966859.66 | U18: 927513.16 | V18: =SUM(R18:U18) -> 3779943.6 | W18: 787139.47 | X18: 710077.82 | Y18: 896532.98 | Z18: 1001397 | AA18: =SUM(W18:Z18) -> 3395147.3 | AB18: 1134948.8 | AC18: 1226358.2 | AD18: 1271690.9 | AE18: 1432107.9 | AF18: =SUM(AB18:AE18) -> 5065105.8 | AG18: 1054496.1 | AH18: 1304980.4 | AI18: 1488487.8 | AJ18: 1459870.9 | AK18: =SUM(AG18:AJ18) -> 5307835.2 | AL18: 1307278.7 | AM18: 1349697.2 | AN18: 1430796.5 | AO18: 1321387.2 | AP18: 5409159.7 | AQ18: 1269721.4 | AR18: 1313749.7 | AS18: 1357236 | AT18: 1297855.4 | AU18: 5238562.5 | AV18: 1008095.1 | AW18: 1249714.1 | AX18: 1267764.9 | AY18: 1281585.9 | AZ18: =AY18-AX18 -> 13820.938 | BA18: =AZ18/AX18 -> 0.010901814
B19: CANADA | C19: n/a | D19: 687246 | E19: 689183.28 | F19: 517747 | G19: 459812.48 | H19: 122252 | I19: 152390.51 | J19: 124816.5 | K19: 114608.85 | L19: =SUM(H19:K19) -> 514067.86 | M19: 99524.16 | N19: 113091.54 | O19: 150817 | P19: 124095.75 | Q19: =SUM(M19:P19) -> 487528.45 | R19: 118840.62 | S19: 137877.18 | T19: 136705.95 | U19: 113743.76 | V19: =SUM(R19:U19) -> 507167.51 | W19: 108641.38 | X19: 78968.31 | Y19: 95154.55 | Z19: 119887.47 | AA19: =SUM(W19:Z19) -> 402651.71 | AB19: 162161.17 | AC19: 124120.28 | AD19: 155838.28 | AE19: 154687.94 | AF19: =SUM(AB19:AE19) -> 596807.67 | AG19: 162591.48 | AH19: 139630.45 | AI19: 126451.41 | AJ19: 145289.35 | AK19: =SUM(AG19:AJ19) -> 573962.69 | AL19: 130784.92 | AM19: 145033.78 | AN19: 160396.65 | AO19: 148853.93 | AP19: 585069.27 | AQ19: 142590.04 | AR19: 147640.87 | AS19: 164160.36 | AT19: 131975.66 | AU19: 586366.93 | AV19: 90175.794 | AW19: 131142.04 | AX19: 121688.43 | AY19: 120948.22 | AZ19: =AY19-AX19 -> -740.20571 | BA19: =AZ19/AX19 -> -0.0060827947
B20: COSTA RICA | C20: n/a | D20: 19887 | E20: 26075.33 | F20: 17578 | G20: 9562.86 | H20: 446 | I20: 6608.6 | J20: 2627.77 | K20: 7582.92 | L20: =SUM(H20:K20) -> 17265.29 | M20: 5029.08 | N20: 1842.65 | O20: 5668 | P20: 3163.31 | Q20: =SUM(M20:P20) -> 15703.04 | R20: 2663.27 | S20: 3518.93 | T20: 3030 | U20: 4715.76 | V20: =SUM(R20:U20) -> 13927.96 | W20: 0 | X20: 4119.11 | Y20: 585.24 | Z20: 100 | AA20: =SUM(W20:Z20) -> 4804.35 | AB20: 7592.49 | AC20: 3261.49 | AD20: 1523.73 | AE20: 498.96 | AF20: =SUM(AB20:AE20) -> 12876.67 | AG20: 3574.44 | AH20: 1927.53 | AI20: 4994.02 | AJ20: 1918.56 | AK20: =SUM(AG20:AJ20) -> 12414.55 | AL20: 2663 | AM20: 905 | AN20: 4367.85 | AO20: 3195.21 | AP20: 11131.06 | AQ20: 5249.29 | AR20: 1397.48 | AS20: 128.7 | AT20: 1508.4981 | AU20: 8283.9681 | AV20: 5019.3544 | AW20: 3067.26 | AX20: 3097.58 | AY20: 6440.45 | AZ20: =AY20-AX20 -> 3342.87 | BA20: =AZ20/AX20 -> 1.0791876
B21: BARBADOS | C21: n/a | D21: 52558 | E21: 27565.28 | F21: 18039 | G21: 17155.75 | H21: 7000 | I21: 3384.29 | J21: 11870.38 | K21: 15761.25 | L21: =SUM(H21:K21) -> 38015.92 | M21: 3348.97 | N21: 2867.72 | O21: 2141 | P21: 4795.65 | Q21: =SUM(M21:P21) -> 13153.34 | R21: 6826.37 | S21: 7265.73 | T21: 6264.64 | U21: 5265.31 | V21: =SUM(R21:U21) -> 25622.05 | W21: 8212.3 | X21: 0 | Y21: 3384.57 | Z21: 1063.82 | AA21: =SUM(W21:Z21) -> 12660.69 | AB21: 13155.77 | AC21: 4878.59 | AD21: 3855.22 | AE21: 7144.19 | AF21: =SUM(AB21:AE21) -> 29033.77 | AG21: 10638.13 | AH21: 1960.56 | AI21: 15420.02 | AJ21: 13370.612 | AK21: =SUM(AG21:AJ21) -> 41389.322 | AL21: 4432.642 | AM21: 1857.94 | AN21: 10026.78 | AO21: 4559.84 | AP21: 20877.202 | AQ21: 2374.2976 | AR21: 2998.75 | AS21: 4943.05 | AT21: 7976.34 | AU21: 18292.438 | AV21: 10174.927 | AW21: 4604.18 | AX21: 11365.849 | AY21: 4957.95 | AZ21: =AY21-AX21 -> -6407.8986 | BA21: =AZ21/AX21 -> -0.56378532
B22: PANAMA | C22: n/a | D22: 12376 | E22: 17127.01 | F22: 9892 | G22: 13079.78 | H22: 5407 | I22: 4816.05 | J22: 3751.05 | K22: 6391.08 | L22: =SUM(H22:K22) -> 20365.18 | M22: 10764.11 | N22: 6789.64 | O22: 9798 | P22: 5929.95 | Q22: =SUM(M22:P22) -> 33281.7 | R22: 9668.47 | S22: 11676.47 | T22: 15046.33 | U22: 4463.3262 | V22: =SUM(R22:U22) -> 40854.596 | W22: 9068.59 | X22: 4783.55 | Y22: 4595.13 | Z22: 2714.4 | AA22: =SUM(W22:Z22) -> 21161.67 | AB22: 578.5 | AC22: 242.36 | AD22: 1495.62 | AE22: 2009.55 | AF22: =SUM(AB22:AE22) -> 4326.03 | AG22: 8131.82 | AH22: 1249.6 | AI22: 291 | AJ22: 1839.2793 | AK22: =SUM(AG22:AJ22) -> 11511.699 | AL22: 2629.739 | AM22: 2109.0788 | AN22: 4738 | AO22: 3516.7 | AP22: 12993.518 | AQ22: 3169.86 | AR22: 1984.1 | AS22: 252.2 | AT22: 480.15 | AU22: 5886.31 | AV22: 562.21218 | AW22: 2017.6 | AX22: 5695.36 | AY22: 873 | AZ22: =AY22-AX22 -> -4822.36 | BA22: =AZ22/AX22 -> -0.84671733
B23: BELIZE | C23: n/a | D23: n/a | E23: n/a | F23: n/a | G23: n/a | H23: 2495 | I23: 1139.28 | J23: 4294.94 | K23: 918.05 | L23: =SUM(H23:K23) -> 8847.27 | M23: 2019.91 | N23: 1571.27 | O23: 2903 | P23: 1276.3 | Q23: =SUM(M23:P23) -> 7770.48 | R23: 3539.51 | S23: 1783.51 | T23: 1649.99 | U23: 4280.45 | V23: =SUM(R23:U23) -> 11253.46 | W23: 4188.87 | X23: 659.22 | Y23: 1257.86 | Z23: 2034.94 | AA23: =SUM(W23:Z23) -> 8140.89 | AB23: 918.08 | AC23: 2631.37 | AD23: 672.91 | AE23: 313.32 | AF23: =SUM(AB23:AE23) -> 4535.68 | AG23: 1250.64 | AH23: 1075.27 | AI23: 870.03 | AJ23: 2435.6332 | AK23: =SUM(AG23:AJ23) -> 5631.5732 | AL23: 2550.9212 | AM23: 1497.07 | AN23: 1538.08 | AO23: 725.01 | AP23: 6311.0812 | AQ23: 3032.3 | AR23: 1714.44 | AS23: 1628.65 | AT23: 2244.73 | AU23: 8620.12 | AV23: 1392.9388 | AW23: 961.3 | AX23: 2485.69 | AY23: 2200.6 | AZ23: =AY23-AX23 -> -285.09 | BA23: =AZ23/AX23 -> -0.1146925
B24: CHINA | C24: n/a | D24: n/a | E24: n/a | F24: n/a | G24: n/a | H24: 611 | I24: 5505.72 | J24: 0 | K24: 317.45 | L24: =SUM(H24:K24) -> 6434.17 | M24: 197.8 | N24: 378.79 | O24: 757 | P24: 1186.8 | Q24: =SUM(M24:P24) -> 2520.39 | R24: 0 | S24: 692.3 | T24: 1341.08 | U24: 2541.74 | V24: =SUM(R24:U24) -> 4575.12 | W24: 100 | X24: 0 | Y24: 486 | Z24: 0 | AA24: =SUM(W24:Z24) -> 586 | AB24: 0 | AC24: 476.19 | AD24: 0 | AE24: 0 | AF24: =SUM(AB24:AE24) -> 476.19 | AG24: 0 | AH24: 1305.64 | AI24: 0 | AJ24: 0 | AK24: =SUM(AG24:AJ24) -> 1305.64 | AL24: 0 | AM24: 0 | AN24: 0 | AO24: 1977.01 | AP24: 1977.01 | AQ24: 2521.95 | AR24: 0 | AS24: 0 | AT24: 0 | AU24: 2521.95 | AV24: 0 | AW24: 0 | AX24: 0 | AY24: 0 | AZ24: =AY24-AX24 -> 0 | BA24: =AZ24/AX24 -> #DIV/0!
B25: CUBA | C25: n/a | D25: n/a | E25: n/a | F25: n/a | G25: n/a | H25: 0 | I25: 0 | J25: 0 | K25: 0 | L25: =SUM(H25:K25) -> 0 | M25: 0 | N25: 0 | O25: 0 | P25: 0 | Q25: =SUM(M25:P25) -> 0 | R25: 0 | S25: 0 | T25: 0 | U25: 0 | V25: =SUM(R25:U25) -> 0 | W25: 0 | X25: 0 | Y25: 0 | Z25: 0 | AA25: =SUM(W25:Z25) -> 0 | AB25: 0 | AC25: 0 | AD25: 0 | AE25: 0 | AF25: =SUM(AB25:AE25) -> 0 | AG25: 0 | AH25: 0 | AI25: 0 | AJ25: 0 | AK25: =SUM(AG25:AJ25) -> 0 | AL25: 0 | AM25: 0 | AN25: 0 | AO25: 0 | AP25: 0 | AQ25: 0 | AR25: 0 | AS25: 0 | AT25: 0 | AU25: 0 | AV25: 0 | AW25: 0 | AX25: 0 | AY25: 0 | AZ25: =AY25-AX25 -> 0 | BA25: =AZ25/AX25 -> #DIV/0!
B26: KENYA | C26: n/a | D26: n/a | E26: n/a | F26: n/a | G26: n/a | H26: 626 | I26: 3399.59 | J26: 101.21 | K26: 4022.19 | L26: =SUM(H26:K26) -> 8148.99 | M26: 3636.44 | N26: 150 | O26: 1115 | P26: 1165.19 | Q26: =SUM(M26:P26) -> 6066.63 | R26: 533.76 | S26: 203.29 | T26: 8898.77 | U26: 274.89 | V26: =SUM(R26:U26) -> 9910.71 | W26: 239.7 | X26: 0 | Y26: 3285.59 | Z26: 3110.25 | AA26: =SUM(W26:Z26) -> 6635.54 | AB26: 0 | AC26: 0 | AD26: 2566.78 | AE26: 4348.48 | AF26: =SUM(AB26:AE26) -> 6915.26 | AG26: 684.63 | AH26: 0 | AI26: 2107.33 | AJ26: 7704.74 | AK26: =SUM(AG26:AJ26) -> 10496.7 | AL26: 1690.36 | AM26: 2594.66 | AN26: 1300.92 | AO26: 846.09 | AP26: 6432.03 | AQ26: 179.38 | AR26: 3363.58 | AS26: 2397.82 | AT26: 3633.9 | AU26: 9574.68 | AV26: 1511.3201 | AW26: 1011.9 | AX26: 0 | AY26: 706.88 | AZ26: =AY26-AX26 -> 706.88 | BA26: =AZ26/AX26 -> #DIV/0!
B27: MEXICO | C27: n/a | D27: n/a | E27: n/a | F27: n/a | G27: n/a | H27: 5601 | I27: 404.91 | J27: 0 | K27: 2411 | L27: =SUM(H27:K27) -> 8416.91 | M27: 3398.85 | N27: 0 | O27: 2521 | P27: 0 | Q27: =SUM(M27:P27) -> 5919.85 | R27: 2279.77 | S27: 0 | T27: 0 | U27: 552.94 | V27: =SUM(R27:U27) -> 2832.71 | W27: 0 | X27: 700.92 | Y27: 595.23 | Z27: 0 | AA27: =SUM(W27:Z27) -> 1296.15 | AB27: 0 | AC27: 50 | AD27: 0 | AE27: 1673.82 | AF27: =SUM(AB27:AE27) -> 1723.82 | AG27: 0 | AH27: 204.68 | AI27: 1244.81 | AJ27: 1065.26 | AK27: =SUM(AG27:AJ27) -> 2514.75 | AL27: 845.65 | AM27: 0 | AN27: 416.67 | AO27: 2017.97 | AP27: 3280.29 | AQ27: 448.07 | AR27: 0 | AS27: 3146.7043 | AT27: 0 | AU27: 3594.7743 | AV27: 0 | AW27: 0 | AX27: 312.71429 | AY27: 1073.4 | AZ27: =AY27-AX27 -> 760.68571 | BA27: =AZ27/AX27 -> 2.4325263
B28: NEPAL | C28: n/a | D28: n/a | E28: n/a | F28: n/a | G28: n/a | H28: 0 | I28: 0 | J28: 0 | K28: 0 | L28: =SUM(H28:K28) -> 0 | M28: 0 | N28: 0 | O28: 0 | P28: 0 | Q28: =SUM(M28:P28) -> 0 | R28: 0 | S28: 145.5 | T28: 1639.76 | U28: 2840.8 | V28: =SUM(R28:U28) -> 4626.06 | W28: 9668.33 | X28: 145.5 | Y28: 3260.42 | Z28: 1755.7 | AA28: =SUM(W28:Z28) -> 14829.95 | AB28: 2716 | AC28: 1309.5 | AD28: 3065.2 | AE28: 5003.41 | AF28: =SUM(AB28:AE28) -> 12094.11 | AG28: 388 | AH28: 1195.32 | AI28: 0 | AJ28: 0 | AK28: =SUM(AG28:AJ28) -> 1583.32 | AL28: 0 | AM28: 0 | AN28: 0 | AO28: 0 | AP28: 0 | AQ28: 0 | AR28: 5289.38 | AS28: 0 | AT28: 7561.13 | AU28: 12850.51 | AV28: 4391.3198 | AW28: 2395.9 | AX28: 1212.5 | AY28: 0 | AZ28: =AY28-AX28 -> -1212.5 | BA28: =AZ28/AX28 -> -1
B29: PERU | C29: n/a | D29: n/a | E29: n/a | F29: n/a | G29: n/a | H29: 2311 | I29: 2854.83 | J29: 0 | K29: 500 | L29: =SUM(H29:K29) -> 5665.83 | M29: 6928.75 | N29: 2790.79 | O29: 1000 | P29: 4535.3 | Q29: =SUM(M29:P29) -> 15254.84 | R29: 776 | S29: 300 | T29: 0 | U29: 0 | V29: =SUM(R29:U29) -> 1076 | W29: 300 | X29: 0 | Y29: 0 | Z29: 0 | AA29: =SUM(W29:Z29) -> 300 | AB29: 0 | AC29: 0 | AD29: 0 | AE29: 0 | AF29: =SUM(AB29:AE29) -> 0 | AG29: 0 | AH29: 0 | AI29: 514.58 | AJ29: 485 | AK29: =SUM(AG29:AJ29) -> 999.58 | AL29: 1226.19 | AM29: 1733.02 | AN29: 4413.11 | AO29: 4268.73 | AP29: 11641.05 | AQ29: 2463.8 | AR29: 1331.81 | AS29: 2953.44 | AT29: 577.15 | AU29: 7326.2 | AV29: 162.96005 | AW29: 2517.44 | AX29: 97 | AY29: 3998.3 | AZ29: =AY29-AX29 -> 3901.3 | BA29: =AZ29/AX29 -> 40.219588
B30: ZIMBABWE | C30: n/a | D30: n/a | E30: n/a | F30: n/a | G30: n/a | H30: 776 | I30: 620.8 | J30: 0 | K30: 0 | L30: =SUM(H30:K30) -> 1396.8 | M30: 0 | N30: 1066.04 | O30: 0 | P30: 0 | Q30: =SUM(M30:P30) -> 1066.04 | R30: 38.8 | S30: 34.52 | T30: 1404.45 | U30: 575.47 | V30: =SUM(R30:U30) -> 2053.24 | W30: 2045.75 | X30: 1208.09 | Y30: 502.54 | Z30: 2073.72 | AA30: =SUM(W30:Z30) -> 5830.1 | AB30: 765.33 | AC30: 442.15 | AD30: 2232.64 | AE30: 176.88 | AF30: =SUM(AB30:AE30) -> 3617 | AG30: 1354.18 | AH30: 119.43 | AI30: 0 | AJ30: 0 | AK30: =SUM(AG30:AJ30) -> 1473.61 | AL30: 929.26 | AM30: 485 | AN30: 929.25 | AO30: 97 | AP30: 2440.51 | AQ30: 2311.92 | AR30: 3399.43 | AS30: 0 | AT30: 1173.62 | AU30: 6884.97 | AV30: 83 | AW30: 511.01381 | AX30: 420 | AY30: 3673.71 | AZ30: =AY30-AX30 -> 3253.71 | BA30: =AZ30/AX30 -> 7.7469286
B31: OTHER | C31: 1347766 | D31: 1009527 | E31: 782514.23 | F31: 608092 | G31: 1027952.8 | H31: 238458 | I31: 342980.69 | J31: 436575.87 | K31: 391292.59 | L31: =SUM(H31:K31) -> 1409307.1 | M31: 347938.15 | N31: 384084.89 | O31: 372861 | P31: 393038.61 | Q31: =SUM(M31:P31) -> 1497922.6 | R31: 353974.61 | S31: 434665.32 | T31: 458998.93 | U31: 477910.79 | V31: =SUM(R31:U31) -> 1725549.6 | W31: 406674.74 | X31: 188053.65 | Y31: 337698.3 | Z31: 269113.02 | AA31: =SUM(W31:Z31) -> 1201539.7 | AB31: 259086.66 | AC31: 363657.92 | AD31: 355979.26 | AE31: 423489.44 | AF31: =SUM(AB31:AE31) -> 1402213.3 | AG31: 444420.45 | AH31: 273988.69 | AI31: 285685.81 | AJ31: 296259.99 | AK31: =SUM(AG31:AJ31) -> 1300354.9 | AL31: 260524.91 | AM31: 263656.2 | AN31: 326198.72 | AO31: 261306.36 | AP31: 1111686.2 | AQ31: 375825.1 | AR31: 349145.62 | AS31: 329108.34 | AT31: 299798.3 | AU31: 1353877.4 | AV31: 319580.54 | AW31: 368409.87 | AX31: 348200.34 | AY31: 414623.33 | AZ31: =AY31-AX31 -> 66422.988 | BA31: =AZ31/AX31 -> 0.19076084
B32: TOTALS | C32: =SUM(C8:C31) -> 5882706.2 | D32: =SUM(D8:D31) -> 7201859 | E32: =SUM(E8:E31) -> 6486411.9 | F32: =SUM(F8:F31) -> 6073011 | G32: =SUM(G8:G31) -> 6531966.1 | H32: =SUM(H8:H31) -> 1686177 | I32: =SUM(I8:I31) -> 1888626.8 | J32: =SUM(J8:J31) -> 2090949.8 | ... L32: =SUM(L8:L31) -> 7768083.7 | M32: 1915939.4 | N32: =SUM(N8:N31) -> 2032796.4 | O32: =SUM(O8:O31) -> 2058064 | P32: =SUM(P8:P31) -> 2103778 | Q32: =SUM(Q8:Q31) -> 8044541 | R32: =SUM(R8:R31) -> 1915939.4 | S32: =SUM(S8:S31) -> 2063040.9 | T32: =SUM(T8:T31) -> 2147192.6 | U32: =SUM(U8:U31) -> 1998147.8 | ... AL32: =SUM(AL8:AL31) -> 2402227.6 | AM32: 2393374.3 | AN32: 2654797.5 | AO32: 2473121 | AP32: 9923520.4 | AQ32: 2419087.4 | AR32: 2456751.4 | AS32: 2494321.1 | AT32: 2392508.8 | AU32: 9762668.7 | AV32: 1954712.3 | AW32: 2371960.8 | AX32: 2385893.4 | AY32: 2312842.8 | AZ32: =SUM(AZ8:AZ31) -> -73050.646 | BA32: =AZ32/AW32 -> -0.030797577
B34: REMITTANCE INFLOWS BY COUNTRY BY PERCENTAGE (%)
B35: COUNTRY | C35: Year 2012 | D35: Year 2013 | E35: Year 2014* | F35: Year 2015 | G35: Year 2016 | H35: 2017Q1 | I35: 2017Q2 | J35: 2017Q3 | K35: 2017Q4 | L35: Year 2017 | M35: 2018Q1 | N35: 2018Q2 | O35: 2018Q3 | P35: 2018Q4 | Q35: Year 2018 | R35: 2019Q1 | S35: 2019Q2 | T35: 2019Q3 | U35: 2019Q4 | V35: Year 2019 | W35: 2020Q1 | X35: 2020Q2 | Y35: 2020Q3 | Z35: 2020Q4 | AA35: Year 2020 | AB35: 2021Q1 | AC35: 2021Q2 | AD35: 2021Q3 | AE35: 2021Q4 | AF35: Year 2021 | AG35: 2022Q1 | AH35: 2022Q2 | AI35: 2022Q3 | AJ35: 2022Q4 | AK35: Year 2022 | AL35: 2023Q1 | AM35: 2023Q2 | AN35: 2023Q3 | AO35: 2023Q4 | AP35: Year 2023 | AQ35: 2024Q1 | AR35: 2024Q2 | AS35: 2024Q3 | AT35: 2024Q4 | AU35: Year 2024 | AV35: 2025Q1 | AW35: 2025Q2 | AX35: 2025Q3 | AY35: 2025Q4
B36: JAMAICA | C36: =C8/C$32 -> 0.21417387 | D36: =D8/D$32 -> 0.16608017 | E36: =E8/E$32 -> 0.14670308 | F36: =F8/F$32 -> 0.13592977 | G36: =G8/G$32 -> 0.11459054 | H36: =H8/H$32 -> 0.13689725 | I36: =I8/I$32 -> 0.1170609 | J36: =J8/J$32 -> 0.10985828 | ... AY36: =AY8/AY$32 -> 0.10785596
B37: HONDURAS | C37: =C9/C$32 -> 0.020800143 | D37: =D9/D$32 -> 0.018018542 | E37: =E9/E$32 -> 0.016333442 | F37: =F9/F$32 -> 0.014040152 | G37: =G9/G$32 -> 0.01725494 | H37: =H9/H$32 -> 0.016290698 | I37: =I9/I$32 -> 0.011335934 | J37: =J9/J$32 -> 0.012270122 | ... AY37: =AY9/AY$32 -> 0.0094658445
B38: PHILIPPINES | C38: =C10/C$32 -> 0.012915542 | D38: =D10/D$32 -> 0.011250706 | E38: =E10/E$32 -> 0.012305751 | F38: =F10/F$32 -> 0.015286651 | G38: =G10/G$32 -> 0.020959827 | H38: =H10/H$32 -> 0.022033274 | I38: =I10/I$32 -> 0.01174627 | J38: =J10/J$32 -> 0.01465765 | ... AY38: =AY10/AY$32 -> 0.0072434712
B39: DOMINICAN REPUBLIC | C39: =C11/C$32 -> 0.0070034197 | D39: =D11/D$32 -> 0.0069813919 | E39: =E11/E$32 -> 0.0062480137 | F39: =F11/F$32 -> 0.0086225762 | G39: =G11/G$32 -> 0.012203485 | H39: =H11/H$32 -> 0.0039995801 | I39: =I11/I$32 -> 0.0016235552 | J39: =J11/J$32 -> 0.005539033 | ... AY39: =AY11/AY$32 -> 0.0035886097
B40: NICARAGUA | C40: =C12/C$32 -> 0.0055891964 | D40: =D12/D$32 -> 0.0050910466 | E40: =E12/E$32 -> 0.0037541911 | F40: =F12/F$32 -> 0.0042464932 | G40: =G12/G$32 -> 0.0026222503 | H40: =H12/H$32 -> 0.0016575959 | I40: =I12/I$32 -> 0.0017709798 | J40: =J12/J$32 -> 0.0019550158 | ... AY40: =AY12/AY$32 -> 0.0031440702
B41: COLOMBIA | C41: =C13/C$32 -> 0.012429968 | D41: =D13/D$32 -> 0.013471244 | E41: =E13/E$32 -> 0.011687243 | F41: =F13/F$32 -> 0.0047236865 | G41: =G13/G$32 -> 0.0033618102 | H41: =H13/H$32 -> 0.0033661947 | I41: =I13/I$32 -> 0.010486481 | J41: =J13/J$32 -> 0.0036235733 | ... AY41: =AY13/AY$32 -> 0.007498789
B42: GUYANA | C42: =C14/C$32 -> 0.0019920628 | D42: =D14/D$32 -> 0.0019982341 | E42: =E14/E$32 -> 0.0025552078 | F42: =F14/F$32 -> 0.0013036367 | G42: =G14/G$32 -> 0.0031955142 | H42: =H14/H$32 -> 0.0052829567 | I42: =I14/I$32 -> 0.0017227384 | J42: =J14/J$32 -> 0.002428064 | ... AY42: =AY14/AY$32 -> 0.0023277112
B43: TRINIDAD & TOBAGO | C43: =C15/C$32 -> 0.0065119962 | D43: =D15/D$32 -> 0.0097054108 | E43: =E15/E$32 -> 0.012312262 | F43: =F15/F$32 -> 0.013698147 | G43: =G15/G$32 -> 0.007470492 | H43: =H15/H$32 -> 0.0079564601 | I43: =I15/I$32 -> 0.011074326 | J43: =J15/J$32 -> 0.0071079181 | ... AY43: =AY15/AY$32 -> 0.0051900501
B44: INDIA | C44: =C16/C$32 -> 0 | D44: =D16/D$32 -> 0 | E44: =E16/E$32 -> 0 | F44: =F16/F$32 -> 0 | G44: =G16/G$32 -> 0 | H44: =H16/H$32 -> 0 | I44: =I16/I$32 -> 0 | J44: =J16/J$32 -> 0 | ... AY44: =AY16/AY$32 -> 0
B45: UNITED KINGDOM | C45: =C17/C$32 -> 0.078831569 | D45: =D17/D$32 -> 0.092737583 | E45: =E17/E$32 -> 0.084475894 | F45: =F17/F$32 -> 0.0737807 | G45: =G17/G$32 -> 0.07757141 | H45: =H17/H$32 -> 0.062447774 | I45: =I17/I$32 -> 0.058772102 | J45: =J17/J$32 -> 0.071101075 | ... AY45: =AY17/AY$32 -> 0.057660046
B46: UNITED STATES | C46: =C18/C$32 -> 0.41064577 | D46: =D18/D$32 -> 0.42728593 | E46: =E18/E$32 -> 0.46582548 | F46: =F18/F$32 -> 0.53549055 | G46: =G18/G$32 -> 0.50691002 | H46: =H18/H$32 -> 0.51115808 | I46: =I18/I$32 -> 0.49690072 | J46: =J18/J$32 -> 0.49214232 | ... AY46: =AY18/AY$32 -> 0.55411716
B47: CANADA | C47: n/a | D47: =D19/D$32 -> 0.095426195 | E47: =E19/E$32 -> 0.10625031 | F47: =F19/F$32 -> 0.085253756 | G47: =G19/G$32 -> 0.070394193 | H47: =H19/H$32 -> 0.072502472 | I47: =I19/I$32 -> 0.080688523 | J47: =J19/J$32 -> 0.059693685 | K47: =K19/K$32 -> 0.054515157 | ... AY47: =AY19/AY$32 -> 0.052294181
B48: COSTA RICA | C48: n/a | D48: =D20/D$32 -> 0.0027613704 | E48: =E20/E$32 -> 0.0040199929 | F48: =F20/F$32 -> 0.0028944456 | G48: =G20/G$32 -> 0.0014640094 | H48: =H20/H$32 -> 0.00026450367 | I48: =I20/I$32 -> 0.003499156 | J48: =J20/J$32 -> 0.0012567351 | K48: =K20/K$32 -> 0.0036069123 | ... AY48: =AY20/AY$32 -> 0.0027846467
B49: BARBADOS | C49: n/a | D49: =D21/D$32 -> 0.007297838 | E49: =E21/E$32 -> 0.0042496962 | F49: =F21/F$32 -> 0.0029703552 | G49: =G21/G$32 -> 0.0026264298 | H49: =H21/H$32 -> 0.0041514028 | I49: =I21/I$32 -> 0.0017919315 | J49: =J21/J$32 -> 0.0056770277 | K49: =K21/K$32 -> 0.007497039 | ... AY49: =AY21/AY$32 -> 0.0021436606
B50: PANAMA | C50: n/a | D50: =D22/D$32 -> 0.0017184452 | E50: =E22/E$32 -> 0.0026404444 | F50: =F22/F$32 -> 0.0016288461 | G50: =G22/G$32 -> 0.0020024262 | H50: =H22/H$32 -> 0.0032066622 | I50: =I22/I$32 -> 0.0025500273 | J50: =J22/J$32 -> 0.0017939455 | K50: =K22/K$32 -> 0.0030399985 | ... AY50: =AY22/AY$32 -> 0.00037745756
B51: BELIZE | C51: n/a | D51: n/a | E51: n/a | F51: n/a | G51: n/a | H51: =H23/H$32 -> 0.0014796786 | I51: =I23/I$32 -> 0.00060323192 | J51: =J23/J$32 -> 0.0020540617 | K51: =K23/K$32 -> 0.00043668216 | L51: =L23/L$32 -> 0.0011389257 | M51: =M23/M$32 -> 0.0010542661 | N51: =N23/N$32 -> 0.00077295987 | O51: =O23/O$32 -> 0.0014105489 | ... AY51: =AY23/AY$32 -> 0.00095146978
B52: CHINA | C52: n/a | D52: n/a | E52: n/a | F52: n/a | G52: n/a | H52: =H24/H$32 -> 0.00036235816 | I52: =I24/I$32 -> 0.0029151974 | J52: =J24/J$32 -> 0 | K52: =K24/K$32 -> 0.00015099913 | L52: =L24/L$32 -> 0.00082828279 | M52: =M24/M$32 -> 0.00010323918 | N52: =N24/N$32 -> 0.00018633937 | O52: =O24/O$32 -> 0.00036782141 | ... AY52: =AY24/AY$32 -> 0
B53: CUBA | C53: n/a | D53: n/a | E53: n/a | F53: n/a | G53: n/a | H53: =H25/H$32 -> 0 | I53: =I25/I$32 -> 0 | J53: =J25/J$32 -> 0 | K53: =K25/K$32 -> 0 | L53: =L25/L$32 -> 0 | M53: =M25/M$32 -> 0 | N53: =N25/N$32 -> 0 | O53: =O25/O$32 -> 0 | ... AY53: =AY25/AY$32 -> 0
B54: KENYA | C54: n/a | D54: n/a | E54: n/a | F54: n/a | G54: n/a | H54: =H26/H$32 -> 0.00037125403 | I54: =I26/I$32 -> 0.0018000327 | J54: =J26/J$32 -> 4.840384e-05 | K54: =K26/K$32 -> 0.0019132058 | L54: =L26/L$32 -> 0.0010490348 | M54: =M26/M$32 -> 0.0018979933 | N54: =N26/N$32 -> 7.3789979e-05 | O54: =O26/O$32 -> 0.0005417713 | ... AY54: =AY26/AY$32 -> 0.00030563253
B55: MEXICO | C55: n/a | D55: n/a | E55: n/a | F55: n/a | G55: n/a | H55: =H27/H$32 -> 0.0033217153 | I55: =I27/I$32 -> 0.00021439386 | J55: =J27/J$32 -> 0 | K55: =K27/K$32 -> 0.0011468228 | L55: =L27/L$32 -> 0.0010835246 | M55: =M27/M$32 -> 0.0017739862 | N55: =N27/N$32 -> 0 | O55: =O27/O$32 -> 0.0012249376 | ... AY55: =AY27/AY$32 -> 0.00046410418
B56: NEPAL | C56: n/a | D56: n/a | E56: n/a | F56: n/a | G56: n/a | H56: =H28/H$32 -> 0 | I56: =I28/I$32 -> 0 | J56: =J28/J$32 -> 0 | K56: =K28/K$32 -> 0 | L56: =L28/L$32 -> 0 | M56: =M28/M$32 -> 0 | N56: =N28/N$32 -> 0 | O56: =O28/O$32 -> 0 | ... AY56: =AY28/AY$32 -> 0
B57: PERU | C57: n/a | D57: n/a | E57: n/a | F57: n/a | G57: n/a | H57: =H29/H$32 -> 0.001370556 | I57: =I29/I$32 -> 0.0015115903 | J57: =J29/J$32 -> 0 | K57: =K29/K$32 -> 0.00023783136 | L57: =L29/L$32 -> 0.00072937294 | M57: =M29/M$32 -> 0.0036163723 | N57: =N29/N$32 -> 0.0013728822 | O57: =O29/O$32 -> 0.00048589354 | ... AY57: =AY29/AY$32 -> 0.0017287383
B58: ZIMBABWE | C58: n/a | D58: n/a | E58: n/a | F58: n/a | G58: n/a | H58: =H30/H$32 -> 0.00046021266 | I58: =I30/I$32 -> 0.00032870443 | J58: =J30/J$32 -> 0 | K58: =K30/K$32 -> 0 | L58: =L30/L$32 -> 0.00017981269 | M58: =M30/M$32 -> 0 | N58: =N30/N$32 -> 0.00052442046 | O58: =O30/O$32 -> 0 | ... AY58: =AY30/AY$32 -> 0.0015883959
B59: OTHER | C59: =C31/C$32 -> 0.22910646 | D59: =D31/D$32 -> 0.14017589 | E59: =E31/E$32 -> 0.120639 | F59: =F31/F$32 -> 0.10013023 | G59: =G31/G$32 -> 0.15737265 | H59: =H31/H$32 -> 0.14141932 | I59: =I31/I$32 -> 0.18160321 | J59: =J31/J$32 -> 0.20879309 | ... AY59: =AY31/AY$32 -> 0.17927
B60: TOTALS | C60: =SUM(C36:C59) -> 1 | D60: =SUM(D36:D59) -> 1 | E60: =SUM(E36:E59) -> 1 | F60: =SUM(F36:F59) -> 1 | G60: =SUM(G36:G59) -> 1 | H60: =SUM(H36:H59) -> 1 | I60: =SUM(I36:I59) -> 1 | J60: =SUM(J36:J59) -> 1 | ... AY60: =SUM(AY36:AY59) -> 1
B61: * aggregated information does not include one reporting entity.
B62: Source: Money Service Providers (MSP's) licensed by Cayman Islands Monetary Authority (CIMA).
B63: n/a - data not collected

Sheet OUTFLOWS
B2: CAYMAN ISLANDS REMITTANCE REPORT - MONEY SERVICE PROVIDERS (REMITTANCE COMPANIES)
B3: (Workers' remittances transmitted by the remittance companies licensed as Money Service Providers)
B6: REMITTANCE OUTFLOWS BY COUNTRY (US$ - Actual Amounts)
B7: COUNTRY | C7: Year 2012 | D7: Year 2013 | E7: Year 2014* | F7: Year 2015 | G7: Year 2016 | H7: 2017Q1 | I7: 2017Q2 | J7: 2017Q3 | K7: 2017Q4 | L7: Year 2017 | M7: 2018Q1 | N7: 2018Q2 | O7: 2018Q3 | P7: 2018Q4 | Q7: Year 2018 | R7: 2019Q1 | S7: 2019Q2 | T7: 2019Q3 | U7: 2019Q4 | V7: Year 2019 | W7: 2020Q1 | X7: 2020Q2 | Y7: 2020Q3 | Z7: 2020Q4 | AA7: Year 2020 | AB7: 2021Q1 | AC7: 2021Q2 | AD7: 2021Q3 | AE7: 2021Q4 | AF7: Year 2021 | AG7: 2022Q1 | AH7: 2022Q2 | AI7: 2022Q3 | AJ7: 2022Q4 | AK7: Year 2022 | AL7: 2023Q1 | AM7: 2023Q2 | AN7: 2023Q3 | AO7: 2023Q4 | AP7: Year 2023 | AQ7: 2024Q1 | AR7: 2024Q2 | AS7: 2024Q3 | AT7: 2024Q4 | AU7: Year 2024 | AV7: 2025Q1 | AW7: 2025Q2 | AX7: 2025Q3 | AY7: 2025Q4 | AZ7: Diff 25Q3/25Q2 | BA7: Diff 25Q3/25Q2
B8: JAMAICA | C8: 1.155401e+08 | D8: 111335609 | E8: 1.1043333e+08 | F8: 101580069 | G8: 1.1893607e+08 | H8: 29724607 | I8: 31176252 | J8: 32443671 | K8: 34553097 | L8: =SUM(H8:K8) -> 1.2789763e+08 | M8: 31446526 | N8: 33660569 | O8: 34246875 | P8: 33891533 | Q8: =SUM(M8:P8) -> 1.332455e+08 | R8: 35060263 | S8: 36574288 | T8: 36896832 | U8: 42358664 | V8: =SUM(R8:U8) -> 1.5089005e+08 | W8: 35907618 | X8: 23958660 | Y8: 54105485 | Z8: 44128445 | AA8: =SUM(W8:Z8) -> 1.5810021e+08 | AB8: 39935573 | AC8: 40277066 | AD8: 39076481 | AE8: 45495936 | AF8: =SUM(AB8:AE8) -> 1.6478506e+08 | AG8: 41171087 | AH8: 45551718 | AI8: 44978766 | AJ8: 50169944 | AK8: =SUM(AG8:AJ8) -> 1.8187151e+08 | AL8: 44180882 | AM8: 46515372 | AN8: 45607080 | AO8: 51036313 | AP8: 1.8733965e+08 | AQ8: 48235431 | AR8: 49146786 | AS8: 46933758 | AT8: 53115922 | AU8: 1.974319e+08 | AV8: 47705558 | AW8: 51732647 | AX8: 49027406 | AY8: 53553092 | AZ8: =AY8-AX8 -> 4525686.9 | BA8: =AZ8/AX8 -> 0.09230933
B9: HONDURAS | C9: 11732907 | D9: 11274557 | E9: 12503598 | F9: 12766569 | G9: 14164776 | H9: 3777657 | I9: 3855303 | J9: 3862458.6 | K9: 4051214.2 | L9: =SUM(H9:K9) -> 15546633 | M9: 3990083.3 | N9: 4267000.1 | O9: 4288322.4 | P9: 4478444.2 | Q9: =SUM(M9:P9) -> 17023850 | R9: 4339142.2 | S9: 4444659.7 | T9: 4545866.4 | U9: 4914965.7 | V9: =SUM(R9:U9) -> 18244634 | W9: 4311606.1 | X9: 2453283.6 | Y9: 5754976 | Z9: 5301720.5 | AA9: =SUM(W9:Z9) -> 17821586 | AB9: 4062156 | AC9: 5276868.4 | AD9: 5209931.6 | AE9: 5459451.8 | AF9: =SUM(AB9:AE9) -> 20008408 | AG9: 4857956.9 | AH9: 5519682.7 | AI9: 5448373.8 | AJ9: 5639942.6 | AK9: =SUM(AG9:AJ9) -> 21465956 | AL9: 5350019.3 | AM9: 5397845.8 | AN9: 5239346.1 | AO9: 5545879.7 | AP9: 21533091 | AQ9: 5343433.2 | AR9: 5484212.6 | AS9: 5397356.6 | AT9: 5660470.5 | AU9: 21885473 | AV9: 5166964.9 | AW9: 5828921.2 | AX9: 5621685.3 | AY9: 5697698.1 | AZ9: =AY9-AX9 -> 76012.78 | BA9: =AZ9/AX9 -> 0.013521351
B10: PHILIPPINES | C10: 21213753 | D10: 21059125 | E10: 23703964 | F10: 24411490 | G10: 29699447 | H10: 7845029 | I10: 8211099.7 | J10: 8219509.8 | K10: 8831205.3 | L10: =SUM(H10:K10) -> 33106844 | M10: 9464743.2 | N10: 9721260 | O10: 9465770.7 | P10: 10586924 | Q10: =SUM(M10:P10) -> 39238699 | R10: 10780723 | S10: 11194164 | T10: 11176623 | U10: 12140439 | V10: =SUM(R10:U10) -> 45291949 | W10: 11689027 | X10: 5949308.6 | Y10: 12876013 | Z10: 11731488 | AA10: =SUM(W10:Z10) -> 42245837 | AB10: 10222631 | AC10: 11622430 | AD10: 11446782 | AE10: 12101997 | AF10: =SUM(AB10:AE10) -> 45393841 | AG10: 11745989 | AH10: 12466225 | AI10: 13015077 | AJ10: 13115506 | AK10: =SUM(AG10:AJ10) -> 50342797 | AL10: 13150021 | AM10: 12914680 | AN10: 12234584 | AO10: 12432787 | AP10: 50732072 | AQ10: 11854998 | AR10: 11845517 | AS10: 11169652 | AT10: 11941542 | AU10: 46811709 | AV10: 10062573 | AW10: 12055585 | AX10: 11862659 | AY10: 12468319 | AZ10: =AY10-AX10 -> 605659.66 | BA10: =AZ10/AX10 -> 0.051055976
B11: DOMINICAN REPUBLIC | C11: 2912093.7 | D11: 3059811 | E11: 3411920.4 | F11: 2950035 | G11: 3948921.8 | H11: 1135092 | I11: 1249314.4 | J11: 1192289.8 | K11: 1189061.7 | L11: =SUM(H11:K11) -> 4765757.9 | M11: 1276520.1 | N11: 1307773 | O11: 1181727.4 | P11: 1307489.7 | Q11: =SUM(M11:P11) -> 5073510.2 | R11: 1259463.3 | S11: 1322303.7 | T11: 1332610.7 | U11: 1425061.4 | V11: =SUM(R11:U11) -> 5339439 | W11: 1198150.9 | X11: 569853.53 | Y11: 1501817.7 | Z11: 1426159.4 | AA11: =SUM(W11:Z11) -> 4695981.5 | AB11: 1281766.4 | AC11: 1332396.7 | AD11: 1385989 | AE11: 1438534 | AF11: =SUM(AB11:AE11) -> 5438686.1 | AG11: 1462971.1 | AH11: 1561722.7 | AI11: 1490111.8 | AJ11: 1643727.7 | AK11: =SUM(AG11:AJ11) -> 6158533.2 | AL11: 1576989.3 | AM11: 1625715.6 | AN11: 1545498.7 | AO11: 1709015.3 | AP11: 6457218.9 | AQ11: 1695314.7 | AR11: 1966617.9 | AS11: 1858049.1 | AT11: 2003347.5 | AU11: 7523329.3 | AV11: 1752619.6 | AW11: 2077816.2 | AX11: 2202160.7 | AY11: 2405387.9 | AZ11: =AY11-AX11 -> 203227.14 | BA11: =AZ11/AX11 -> 0.092285338
B12: NICARAGUA | C12: 2974568 | D12: 2963679 | E12: 2721282.6 | F12: 3488355 | G12: 3668711.1 | H12: 919834 | I12: 958104.52 | J12: 971692.71 | K12: 1007121.9 | L12: =SUM(H12:K12) -> 3856753.1 | M12: 1028677.6 | N12: 1106916.1 | O12: 1079440.4 | P12: 1172180.8 | Q12: =SUM(M12:P12) -> 4387214.9 | R12: 1259285.4 | S12: 1384629.9 | T12: 1256935.6 | U12: 1436912 | V12: =SUM(R12:U12) -> 5337763 | W12: 1410657.2 | X12: 865340.54 | Y12: 1902558.9 | Z12: 1843939.6 | AA12: =SUM(W12:Z12) -> 6022496.2 | AB12: 1609997.7 | AC12: 1544048.4 | AD12: 1555499.9 | AE12: 1721893.6 | AF12: =SUM(AB12:AE12) -> 6431439.6 | AG12: 1749933.3 | AH12: 1948344 | AI12: 1941916.3 | AJ12: 2032665.8 | AK12: =SUM(AG12:AJ12) -> 7672859.4 | AL12: 2195926.1 | AM12: 2074405.4 | AN12: 2030677.1 | AO12: 2169701.2 | AP12: 8470709.9 | AQ12: 2328635.1 | AR12: 2449011.1 | AS12: 2041158.2 | AT12: 2158984 | AU12: 8977788.4 | AV12: 2157758.3 | AW12: 2410908.5 | AX12: 2186663.3 | AY12: 2444760.7 | AZ12: =AY12-AX12 -> 258097.38 | BA12: =AZ12/AX12 -> 0.11803252
B13: COLOMBIA | C13: 3164000.6 | D13: 2810097 | E13: 2285949.9 | F13: 2168136 | G13: 2499760.4 | H13: 656551 | I13: 795588.08 | J13: 607416.94 | K13: 757057.2 | L13: =SUM(H13:K13) -> 2816613.2 | M13: 750800.77 | N13: 688426.86 | O13: 656999.11 | P13: 932152.64 | Q13: =SUM(M13:P13) -> 3028379.4 | R13: 897817.72 | S13: 761700.73 | T13: 693053.12 | U13: 770120.56 | V13: =SUM(R13:U13) -> 3122692.1 | W13: 819874.83 | X13: 436609.79 | Y13: 919352.39 | Z13: 925342.66 | AA13: =SUM(W13:Z13) -> 3101179.7 | AB13: 718740.19 | AC13: 718917.61 | AD13: 707831.23 | AE13: 751331.18 | AF13: =SUM(AB13:AE13) -> 2896820.2 | AG13: 712937.46 | AH13: 721989.14 | AI13: 793048.57 | AJ13: 819075.09 | AK13: =SUM(AG13:AJ13) -> 3047050.3 | AL13: 734156.73 | AM13: 744801.03 | AN13: 805741.15 | AO13: 806817.55 | AP13: 3091516.5 | AQ13: 730987.89 | AR13: 754974.56 | AS13: 738522.75 | AT13: 879728.72 | AU13: 3104213.9 | AV13: 721934.22 | AW13: 849427.51 | AX13: 772416.86 | AY13: 876663.66 | AZ13: =AY13-AX13 -> 104246.8 | BA13: =AZ13/AX13 -> 0.13496184
B14: GUYANA | C14: 1466033.1 | D14: 1306066 | E14: 1347637 | F14: 1205419 | G14: 1234747.8 | H14: 288754 | I14: 237393.07 | J14: 276619.2 | K14: 320803.47 | L14: =SUM(H14:K14) -> 1123569.7 | M14: 294381.65 | N14: 288666.87 | O14: 280579.91 | P14: 368274.04 | Q14: =SUM(M14:P14) -> 1231902.5 | R14: 323225.52 | S14: 317327.75 | T14: 298762.14 | U14: 451993.13 | V14: =SUM(R14:U14) -> 1391308.5 | W14: 411619.51 | X14: 302152.35 | Y14: 690887.69 | Z14: 610326.97 | AA14: =SUM(W14:Z14) -> 2014986.5 | AB14: 456244.95 | AC14: 500166.16 | AD14: 411797.87 | AE14: 568144.74 | AF14: =SUM(AB14:AE14) -> 1936353.7 | AG14: 527185.05 | AH14: 526287.67 | AI14: 437687.71 | AJ14: 506928.36 | AK14: =SUM(AG14:AJ14) -> 1998088.8 | AL14: 462859.38 | AM14: 514455.97 | AN14: 483536.43 | AO14: 520614.04 | AP14: 1981465.8 | AQ14: 464080.31 | AR14: 452523.79 | AS14: 414359.46 | AT14: 477966.75 | AU14: 1808930.3 | AV14: 392034.71 | AW14: 422162.88 | AX14: 361437.06 | AY14: 389232.67 | AZ14: =AY14-AX14 -> 27795.612 | BA14: =AZ14/AX14 -> 0.076903051
B15: TRINIDAD & TOBAGO | C15: 403418.61 | D15: 337061 | E15: 409522.26 | F15: 360343 | G15: 343443.55 | H15: 99967 | I15: 98713.49 | J15: 100148.69 | K15: 122665.11 | L15: =SUM(H15:K15) -> 421494.29 | M15: 80157.76 | N15: 76564.25 | O15: 75178.7 | P15: 66126.42 | Q15: =SUM(M15:P15) -> 298027.13 | R15: 59121.79 | S15: 74276.82 | T15: 51759.27 | U15: 74972.737 | V15: =SUM(R15:U15) -> 260130.62 | W15: 62736.61 | X15: 53080.64 | Y15: 91055.96 | Z15: 130994.29 | AA15: =SUM(W15:Z15) -> 337867.5 | AB15: 81989.82 | AC15: 95098.29 | AD15: 110792.83 | AE15: 95832.65 | AF15: =SUM(AB15:AE15) -> 383713.59 | AG15: 87444.62 | AH15: 109767.14 | AI15: 83652.358 | AJ15: 110145.35 | AK15: =SUM(AG15:AJ15) -> 391009.47 | AL15: 102382.64 | AM15: 110057.81 | AN15: 98131.927 | AO15: 128123.96 | AP15: 438696.34 | AQ15: 107721.99 | AR15: 102723.48 | AS15: 177435.65 | AT15: 143676.14 | AU15: 531557.27 | AV15: 144200.12 | AW15: 160123.67 | AX15: 122073.85 | AY15: 143862.27 | AZ15: =AY15-AX15 -> 21788.421 | BA15: =AZ15/AX15 -> 0.17848558
B16: INDIA | C16: 739411.04 | D16: 667954 | E16: 844199.04 | F16: 781922 | G16: 833414.41 | H16: 244545 | I16: 286253.99 | J16: 266803.7 | K16: 287515.1 | L16: =SUM(H16:K16) -> 1085117.8 | M16: 379233.29 | N16: 399724.38 | O16: 387874.68 | P16: 490389.33 | Q16: =SUM(M16:P16) -> 1657221.7 | R16: 566224.34 | S16: 532795.67 | T16: 493057.13 | U16: 570894.15 | V16: =SUM(R16:U16) -> 2162971.3 | W16: 501955.96 | X16: 235677.48 | Y16: 455015.28 | Z16: 437880.38 | AA16: =SUM(W16:Z16) -> 1630529.1 | AB16: 421013.73 | AC16: 320380.85 | AD16: 381765.18 | AE16: 382562.68 | AF16: =SUM(AB16:AE16) -> 1505722.4 | AG16: 412784.18 | AH16: 470616.12 | AI16: 425789.22 | AJ16: 419157.46 | AK16: =SUM(AG16:AJ16) -> 1728347 | AL16: 405663.8 | AM16: 341570.5 | AN16: 250002.43 | AO16: 264322.24 | AP16: 1261559 | AQ16: 251374.84 | AR16: 206890.75 | AS16: 175066.64 | AT16: 209720.13 | AU16: 843052.36 | AV16: 143294.36 | AW16: 182230.97 | AX16: 185687.49 | AY16: 158950.12 | AZ16: =AY16-AX16 -> -26737.37 | BA16: =AZ16/AX16 -> -0.14399123
B17: UNITED KINGDOM | C17: 686082.54 | D17: 691647 | E17: 885329.29 | F17: 817952 | G17: 884970.52 | H17: 260994 | I17: 294164.45 | J17: 257197.2 | K17: 274841.03 | L17: =SUM(H17:K17) -> 1087196.7 | M17: 223934.63 | N17: 278807.98 | O17: 286620.13 | P17: 292405.32 | Q17: =SUM(M17:P17) -> 1081768.1 | R17: 266124.47 | S17: 278727.09 | T17: 222183.48 | U17: 290948.45 | V17: =SUM(R17:U17) -> 1057983.5 | W17: 260884.54 | X17: 86746.54 | Y17: 246947.66 | Z17: 256283.77 | AA17: =SUM(W17:Z17) -> 850862.51 | AB17: 207028.42 | AC17: 253559.98 | AD17: 255151.97 | AE17: 249933.96 | AF17: =SUM(AB17:AE17) -> 965674.33 | AG17: 220390.46 | AH17: 286818.85 | AI17: 255373.02 | AJ17: 241357.81 | AK17: =SUM(AG17:AJ17) -> 1003940.1 | AL17: 260024.75 | AM17: 265070.64 | AN17: 256516.49 | AO17: 274433.51 | AP17: 1056045.4 | AQ17: 261274.35 | AR17: 246157.51 | AS17: 221430.25 | AT17: 277500.45 | AU17: 1006362.6 | AV17: 192601.33 | AW17: 258016.17 | AX17: 323204.35 | AY17: 302212.29 | AZ17: =AY17-AX17 -> -20992.056 | BA17: =AZ17/AX17 -> -0.064949796
B18: UNITED STATES | C18: 8611740.1 | D18: 8963575 | E18: 12267595 | F18: 9116535 | G18: 11086480 | H18: 2700211 | I18: 2878932.8 | J18: 3144374.5 | K18: 3106596.1 | L18: =SUM(H18:K18) -> 11830114 | M18: 2738821.4 | N18: 2954947.6 | O18: 3132455.7 | P18: 3309102 | Q18: =SUM(M18:P18) -> 12135327 | R18: 2892978.6 | S18: 3069067.4 | T18: 3469749.5 | U18: 3551610 | V18: =SUM(R18:U18) -> 12983406 | W18: 2718151.2 | X18: 1277180.2 | Y18: 3360288.7 | Z18: 3616271.4 | AA18: =SUM(W18:Z18) -> 10971892 | AB18: 2773500.6 | AC18: 2914709.6 | AD18: 3105544.4 | AE18: 3479354.2 | AF18: =SUM(AB18:AE18) -> 12273109 | AG18: 2824232 | AH18: 3175798.6 | AI18: 3366564 | AJ18: 3498429.5 | AK18: =SUM(AG18:AJ18) -> 12865024 | AL18: 3095382 | AM18: 3210923.8 | AN18: 3413012.6 | AO18: 3645807.8 | AP18: 13365126 | AQ18: 3258850.6 | AR18: 3326879.4 | AS18: 3492867 | AT18: 3782631.9 | AU18: 13861229 | AV18: 2872745.2 | AW18: 3390696.2 | AX18: 3334653.8 | AY18: 3502702.2 | AZ18: =AY18-AX18 -> 168048.39 | BA18: =AZ18/AX18 -> 0.050394554
B19: CANADA | C19: n/a | D19: 781327 | E19: 1001198.1 | F19: 898383 | G19: 1323991.7 | H19: 335545 | I19: 349210.28 | J19: 368021.92 | K19: 386750.14 | L19: =SUM(H19:K19) -> 1439527.3 | M19: 361493.3 | N19: 339838.41 | O19: 368049.84 | P19: 394715.47 | Q19: =SUM(M19:P19) -> 1464097 | R19: 368450.07 | S19: 396262.68 | T19: 396773.31 | U19: 436583.37 | V19: =SUM(R19:U19) -> 1598069.4 | W19: 426606.49 | X19: 138040.91 | Y19: 366314.76 | Z19: 420152.27 | AA19: =SUM(W19:Z19) -> 1351114.4 | AB19: 357406.35 | AC19: 341803.38 | AD19: 368274.26 | AE19: 446250.74 | AF19: =SUM(AB19:AE19) -> 1513734.7 | AG19: 396848.09 | AH19: 427601.9 | AI19: 427181.16 | AJ19: 473720.76 | AK19: =SUM(AG19:AJ19) -> 1725351.9 | AL19: 400834.15 | AM19: 383906.62 | AN19: 438785.9 | AO19: 533298.89 | AP19: 1756825.6 | AQ19: 524091.94 | AR19: 514735.46 | AS19: 530307.42 | AT19: 599879.35 | AU19: 2169014.2 | AV19: 475374.81 | AW19: 505853.27 | AX19: 492109.25 | AY19: 483757.01 | AZ19: =AY19-AX19 -> -8352.241 | BA19: =AZ19/AX19 -> -0.016972331
B20: COSTA RICA | C20: n/a | D20: 764645 | E20: 605744.21 | F20: 439428 | G20: 767536.53 | H20: 238412 | I20: 251137.02 | J20: 205271.41 | K20: 220095.22 | L20: =SUM(H20:K20) -> 914915.65 | M20: 219437.58 | N20: 245959.34 | O20: 271759.03 | P20: 305597.93 | Q20: =SUM(M20:P20) -> 1042753.9 | R20: 286206.58 | S20: 274529.93 | T20: 300519.88 | U20: 314579.15 | V20: =SUM(R20:U20) -> 1175835.5 | W20: 310627.83 | X20: 157609.18 | Y20: 337904.41 | Z20: 304465.75 | AA20: =SUM(W20:Z20) -> 1110607.2 | AB20: 253596.43 | AC20: 206525.34 | AD20: 224096.75 | AE20: 255311.82 | AF20: =SUM(AB20:AE20) -> 939530.34 | AG20: 217313.09 | AH20: 242454.28 | AI20: 240986.5 | AJ20: 275128.02 | AK20: =SUM(AG20:AJ20) -> 975881.89 | AL20: 257967.84 | AM20: 253971.33 | AN20: 255798.31 | AO20: 237331.98 | AP20: 1005069.5 | AQ20: 265129.03 | AR20: 283604.99 | AS20: 264348.16 | AT20: 237183.84 | AU20: 1050266 | AV20: 233346.63 | AW20: 266531.91 | AX20: 232124.44 | AY20: 250729.38 | AZ20: =AY20-AX20 -> 18604.94 | BA20: =AZ20/AX20 -> 0.080150716
B21: BARBADOS | C21: n/a | D21: 259571 | E21: 269967.32 | F21: 195544 | G21: 276592.26 | H21: 67576 | I21: 77490.85 | J21: 63260.06 | K21: 76772.1 | L21: =SUM(H21:K21) -> 285099.01 | M21: 69064.7 | N21: 77137.09 | O21: 66885.84 | P21: 83134.65 | Q21: =SUM(M21:P21) -> 296222.28 | R21: 83730.32 | S21: 92458.52 | T21: 98526.71 | U21: 103158.08 | V21: =SUM(R21:U21) -> 377873.63 | W21: 78719.45 | X21: 42026.67 | Y21: 79495.01 | Z21: 79527.63 | AA21: =SUM(W21:Z21) -> 279768.76 | AB21: 46690.93 | AC21: 75104.02 | AD21: 79841.29 | AE21: 81943.04 | AF21: =SUM(AB21:AE21) -> 283579.28 | AG21: 72177.03 | AH21: 64709.64 | AI21: 90777.133 | AJ21: 82056.55 | AK21: =SUM(AG21:AJ21) -> 309720.35 | AL21: 74795.523 | AM21: 66587.706 | AN21: 71758.814 | AO21: 62747.552 | AP21: 275889.59 | AQ21: 58779.775 | AR21: 64153.356 | AS21: 80524.811 | AT21: 76468.92 | AU21: 279926.86 | AV21: 70125.078 | AW21: 74914.146 | AX21: 75630.25 | AY21: 90197.68 | AZ21: =AY21-AX21 -> 14567.43 | BA21: =AZ21/AX21 -> 0.1926138
B22: PANAMA | C22: n/a | D22: 321650 | E22: 291115.89 | F22: 209638 | G22: 287736.43 | H22: 60035 | I22: 102765.95 | J22: 76959.41 | K22: 127305.15 | L22: =SUM(H22:K22) -> 367065.51 | M22: 97826.22 | N22: 88654.04 | O22: 75553.85 | P22: 104999.93 | Q22: =SUM(M22:P22) -> 367034.04 | R22: 95861.38 | S22: 91945.47 | T22: 67204.88 | U22: 86587.695 | V22: =SUM(R22:U22) -> 341599.43 | W22: 56897.12 | X22: 33460.23 | Y22: 87101.58 | Z22: 64538.53 | AA22: =SUM(W22:Z22) -> 241997.46 | AB22: 61799.93 | AC22: 65525.17 | AD22: 54694.13 | AE22: 74901.76 | AF22: =SUM(AB22:AE22) -> 256920.99 | AG22: 68203.78 | AH22: 72476.37 | AI22: 87851.639 | AJ22: 75683.364 | AK22: =SUM(AG22:AJ22) -> 304215.15 | AL22: 72135.851 | AM22: 66189.825 | AN22: 66869.898 | AO22: 89277.84 | AP22: 294473.41 | AQ22: 92125.066 | AR22: 96860.68 | AS22: 86766.55 | AT22: 108219.87 | AU22: 383972.17 | AV22: 105359.93 | AW22: 146975.25 | AX22: 143912.77 | AY22: 159393.6 | AZ22: =AY22-AX22 -> 15480.83 | BA22: =AZ22/AX22 -> 0.10757093
B23: BELIZE | C23: n/a | D23: n/a | E23: n/a | F23: n/a | G23: n/a | H23: 102518 | I23: 124966.03 | J23: 136583.83 | K23: 134553.79 | L23: =SUM(H23:K23) -> 498621.65 | M23: 147780.26 | N23: 133917.7 | O23: 107040.85 | P23: 115726.13 | Q23: =SUM(M23:P23) -> 504464.94 | R23: 103587.85 | S23: 112566.6 | T23: 107935.93 | U23: 127733.27 | V23: =SUM(R23:U23) -> 451823.65 | W23: 123093.01 | X23: 69265.85 | Y23: 165730.97 | Z23: 156831.63 | AA23: =SUM(W23:Z23) -> 514921.46 | AB23: 115050.33 | AC23: 142058.87 | AD23: 134389.67 | AE23: 165855.25 | AF23: =SUM(AB23:AE23) -> 557354.12 | AG23: 132540.03 | AH23: 145241.27 | AI23: 145879.73 | AJ23: 173151.58 | AK23: =SUM(AG23:AJ23) -> 596812.61 | AL23: 133829.48 | AM23: 155954.97 | AN23: 140269.5 | AO23: 141119.69 | AP23: 571173.65 | AQ23: 130342.23 | AR23: 116854.91 | AS23: 144918.96 | AT23: 140872.18 | AU23: 532988.27 | AV23: 121490.02 | AW23: 146278.14 | AX23: 125634.61 | AY23: 130509.38 | AZ23: =AY23-AX23 -> 4874.77 | BA23: =AZ23/AX23 -> 0.038801171
B24: CHINA | C24: n/a | D24: n/a | E24: n/a | F24: n/a | G24: n/a | H24: 108885 | I24: 63973.11 | J24: 113323.16 | K24: 107418.65 | L24: =SUM(H24:K24) -> 393599.92 | M24: 72441.05 | N24: 123418.28 | O24: 73611.45 | P24: 87314.03 | Q24: =SUM(M24:P24) -> 356784.81 | R24: 79059.16 | S24: 75081.19 | T24: 65463.98 | U24: 51271.814 | V24: =SUM(R24:U24) -> 270876.14 | W24: 28308.7 | X24: 18222.98 | Y24: 62932.14 | Z24: 75132.12 | AA24: =SUM(W24:Z24) -> 184595.94 | AB24: 85219.65 | AC24: 47666.47 | AD24: 37278.04 | AE24: 46711.96 | AF24: =SUM(AB24:AE24) -> 216876.12 | AG24: 36887.4 | AH24: 24563.97 | AI24: 41589.448 | AJ24: 39682.58 | AK24: =SUM(AG24:AJ24) -> 142723.4 | AL24: 38425.63 | AM24: 45533.4 | AN24: 44636.61 | AO24: 40793.34 | AP24: 169388.98 | AQ24: 51950.08 | AR24: 44445.04 | AS24: 23153.61 | AT24: 34647.26 | AU24: 154195.99 | AV24: 25666.103 | AW24: 41697.91 | AX24: 48382.61 | AY24: 47130.58 | AZ24: =AY24-AX24 -> -1252.03 | BA24: =AZ24/AX24 -> -0.025877686
B25: CUBA | C25: n/a | D25: n/a | E25: n/a | F25: n/a | G25: n/a | H25: 289548 | I25: 340097.2 | J25: 312287.71 | K25: 352776.53 | L25: =SUM(H25:K25) -> 1294709.4 | M25: 409025.66 | N25: 401726.71 | O25: 413174.47 | P25: 472726.13 | Q25: =SUM(M25:P25) -> 1696653 | R25: 527102.36 | S25: 574959.45 | T25: 507692.95 | U25: 382222.12 | V25: =SUM(R25:U25) -> 1991976.9 | W25: 212174.12 | X25: 0 | Y25: 0 | Z25: 0 | AA25: =SUM(W25:Z25) -> 212174.12 | AB25: 0 | AC25: 0 | AD25: 0 | AE25: 0 | AF25: =SUM(AB25:AE25) -> 0 | AG25: 0 | AH25: 0 | AI25: 0 | AJ25: 0 | AK25: =SUM(AG25:AJ25) -> 0 | AL25: 0 | AM25: 0 | AN25: 0 | AO25: 0 | AP25: 0 | AQ25: 0 | AR25: 0 | AS25: 0 | AT25: 0 | AU25: 0 | AV25: 0 | AW25: 0 | AX25: 0 | AY25: 0 | AZ25: =AY25-AX25 -> 0 | BA25: =AZ25/AX25 -> #DIV/0!
B26: KENYA | C26: n/a | D26: n/a | E26: n/a | F26: n/a | G26: n/a | H26: 129979 | I26: 112038.22 | J26: 114309.19 | K26: 107358.01 | L26: =SUM(H26:K26) -> 463684.42 | M26: 125989.32 | N26: 152644.03 | O26: 133557.49 | P26: 122339.15 | Q26: =SUM(M26:P26) -> 534529.99 | R26: 192507.27 | S26: 177866.13 | T26: 147448.17 | U26: 172884.41 | V26: =SUM(R26:U26) -> 690705.98 | W26: 184622.4 | X26: 53636.25 | Y26: 125222.47 | Z26: 103774.7 | AA26: =SUM(W26:Z26) -> 467255.82 | AB26: 126145.91 | AC26: 110337.52 | AD26: 135616.14 | AE26: 153254.3 | AF26: =SUM(AB26:AE26) -> 525353.87 | AG26: 148522.78 | AH26: 175386.11 | AI26: 171974 | AJ26: 205916.79 | AK26: =SUM(AG26:AJ26) -> 701799.68 | AL26: 206249.74 | AM26: 146016.11 | AN26: 75420.872 | AO26: 73981.893 | AP26: 501668.62 | AQ26: 42757.134 | AR26: 44001.733 | AS26: 32186.075 | AT26: 40782.279 | AU26: 159727.22 | AV26: 39485.764 | AW26: 51274.363 | AX26: 51224.04 | AY26: 48088.18 | AZ26: =AY26-AX26 -> -3135.8595 | BA26: =AZ26/AX26 -> -0.061218513
B27: MEXICO | C27: n/a | D27: n/a | E27: n/a | F27: n/a | G27: n/a | H27: 191433 | I27: 181750.97 | J27: 184839.54 | K27: 201146.34 | L27: =SUM(H27:K27) -> 759169.85 | M27: 186674.25 | N27: 211365.67 | O27: 166394.2 | P27: 231788.25 | Q27: =SUM(M27:P27) -> 796222.37 | R27: 304103.97 | S27: 232541.09 | T27: 167392.33 | U27: 180152.56 | V27: =SUM(R27:U27) -> 884189.95 | W27: 189774.36 | X27: 74388.34 | Y27: 194024.87 | Z27: 183537.31 | AA27: =SUM(W27:Z27) -> 641724.88 | AB27: 183931.92 | AC27: 174530.14 | AD27: 195319.27 | AE27: 223406.78 | AF27: =SUM(AB27:AE27) -> 777188.11 | AG27: 181106.76 | AH27: 184407.05 | AI27: 282742.72 | AJ27: 357101.59 | AK27: =SUM(AG27:AJ27) -> 1005358.1 | AL27: 302987.59 | AM27: 276541.16 | AN27: 289321.75 | AO27: 99505.49 | AP27: 968355.99 | AQ27: 228439.9 | AR27: 110526.52 | AS27: 208105.64 | AT27: 165685.37 | AU27: 712757.43 | AV27: 92204.242 | AW27: 84531.568 | AX27: 56366.821 | AY27: 223867.09 | AZ27: =AY27-AX27 -> 167500.27 | BA27: =AZ27/AX27 -> 2.971611
B28: NEPAL | C28: n/a | D28: n/a | E28: n/a | F28: n/a | G28: n/a | H28: 191147 | I28: 153818.98 | J28: 146796.08 | K28: 216113.09 | L28: =SUM(H28:K28) -> 707875.15 | M28: 371067.46 | N28: 418973.87 | O28: 417869.6 | P28: 451580.74 | Q28: =SUM(M28:P28) -> 1659491.7 | R28: 515755.76 | S28: 489020.56 | T28: 456349.71 | U28: 442027.57 | V28: =SUM(R28:U28) -> 1903153.6 | W28: 539168.95 | X28: 229696.43 | Y28: 449339.2 | Z28: 378513.68 | AA28: =SUM(W28:Z28) -> 1596718.3 | AB28: 399038.68 | AC28: 396182.42 | AD28: 431076.65 | AE28: 374459.45 | AF28: =SUM(AB28:AE28) -> 1600757.2 | AG28: 382584.44 | AH28: 459687.48 | AI28: 388288.74 | AJ28: 431836.28 | AK28: =SUM(AG28:AJ28) -> 1662396.9 | AL28: 608299.05 | AM28: 498976.38 | AN28: 297620.82 | AO28: 410311.2 | AP28: 1815207.5 | AQ28: 317542.17 | AR28: 453423.64 | AS28: 196604.79 | AT28: 180031.45 | AU28: 1147602.1 | AV28: 423776.97 | AW28: 454155.9 | AX28: 423301.2 | AY28: 266596.71 | AZ28: =AY28-AX28 -> -156704.49 | BA28: =AZ28/AX28 -> -0.37019619
B29: PERU | C29: n/a | D29: n/a | E29: n/a | F29: n/a | G29: n/a | H29: 101454 | I29: 98018.54 | J29: 78166.01 | K29: 102311.84 | L29: =SUM(H29:K29) -> 379950.39 | M29: 121685.81 | N29: 120243.24 | O29: 141555.63 | P29: 121756.96 | Q29: =SUM(M29:P29) -> 505241.64 | R29: 141786.35 | S29: 27545.89 | T29: 26980.96 | U29: 20023.699 | V29: =SUM(R29:U29) -> 216336.9 | W29: 16786.2 | X29: 8807.09 | Y29: 22920.59 | Z29: 28361.28 | AA29: =SUM(W29:Z29) -> 76875.16 | AB29: 13845.29 | AC29: 9350.87 | AD29: 8500.59 | AE29: 7416.58 | AF29: =SUM(AB29:AE29) -> 39113.33 | AG29: 6975.4 | AH29: 7718.94 | AI29: 154364.54 | AJ29: 167472.61 | AK29: =SUM(AG29:AJ29) -> 336531.49 | AL29: 181647.47 | AM29: 138243.03 | AN29: 125565.24 | AO29: 11690.934 | AP29: 457146.67 | AQ29: 177167.59 | AR29: 16446.8 | AS29: 162582.82 | AT29: 161661.97 | AU29: 517859.18 | AV29: 16160.476 | AW29: 16113.62 | AX29: 12675.03 | AY29: 209163.66 | AZ29: =AY29-AX29 -> 196488.63 | BA29: =AZ29/AX29 -> 15.502025
B30: ZIMBABWE | C30: n/a | D30: n/a | E30: n/a | F30: n/a | G30: n/a | H30: 68038 | I30: 42700.2 | J30: 44912.46 | K30: 50099.2 | L30: =SUM(H30:K30) -> 205749.86 | M30: 65876.51 | N30: 44743.21 | O30: 48196.6 | P30: 70657.4 | Q30: =SUM(M30:P30) -> 229473.72 | R30: 58651.74 | S30: 242792.63 | T30: 188990.3 | U30: 182364.61 | V30: =SUM(R30:U30) -> 672799.28 | W30: 234613.41 | X30: 64415.41 | Y30: 181900.33 | Z30: 226670.06 | AA30: =SUM(W30:Z30) -> 707599.21 | AB30: 171552.28 | AC30: 189415.02 | AD30: 197523.22 | AE30: 172657.83 | AF30: =SUM(AB30:AE30) -> 731148.35 | AG30: 202949.71 | AH30: 215522.38 | AI30: 136517.67 | AJ30: 177353.55 | AK30: =SUM(AG30:AJ30) -> 732343.32 | AL30: 157438.91 | AM30: 164789.38 | AN30: 138338.25 | AO30: 351567.58 | AP30: 812134.11 | AQ30: 163207.28 | AR30: 329801.61 | AS30: 169630.28 | AT30: 268712.27 | AU30: 931351.44 | AV30: 384160.48 | AW30: 367997.57 | AX30: 388655.74 | AY30: 375843.89 | AZ30: =AY30-AX30 -> -12811.85 | BA30: =AZ30/AX30 -> -0.03296452
B31: OTHER | C31: 9285102.7 | D31: 8038658 | E31: 6928838.1 | F31: 8156047 | G31: 9384210.6 | H31: 1525730 | I31: 1621529.8 | J31: 1730728.6 | K31: 1598032.3 | L31: =SUM(H31:K31) -> 6476020.6 | M31: 1838689.1 | N31: 1763334.6 | O31: 1593073.4 | P31: 1783216.6 | Q31: =SUM(M31:P31) -> 6978313.7 | R31: 1851236.8 | S31: 1809073.3 | T31: 1658246.2 | U31: 1983892.7 | V31: =SUM(R31:U31) -> 7302449 | W31: 1894139.8 | X31: 868016.89 | Y31: 2039230.3 | Z31: 1685575.3 | AA31: =SUM(W31:Z31) -> 6486962.3 | AB31: 4053641.8 | AC31: 1560710.9 | AD31: 1460038.1 | AE31: 1620721.8 | AF31: =SUM(AB31:AE31) -> 8695112.7 | AG31: 1331367.4 | AH31: 1469471.7 | AI31: 1491820.8 | AJ31: 1550799.4 | AK31: =SUM(AG31:AJ31) -> 5843459.3 | AL31: 1637178.7 | AM31: 1500109.1 | AN31: 1375521.4 | AO31: 1493706 | AP31: 6006515.3 | AQ31: 1506767.1 | AR31: 1607478.2 | AS31: 1595977.4 | AT31: 1723663.8 | AU31: 6433886.5 | AV31: 1689901.4 | AW31: 1855039.4 | AX31: 1563771.3 | AY31: 1694397.5 | AZ31: =AY31-AX31 -> 130626.25 | BA31: =AZ31/AX31 -> 0.083532835
B32: TOTALS | C32: =SUM(C8:C31) -> 1.7872921e+08 | D32: =SUM(D8:D31) -> 174635032 | E32: =SUM(E8:E31) -> 1.7991119e+08 | F32: =SUM(F8:F31) -> 169545865 | G32: =SUM(G8:G31) -> 1.9934081e+08 | H32: =SUM(H8:H31) -> 51063541 | I32: =SUM(I8:I31) -> 53560617 | J32: =SUM(J8:J31) -> 54917641 | ... AH32: =SUM(AH8:AH31) -> 75828211 | AI32: 75896334 | AJ32: =SUM(AJ8:AJ31) -> 82206783 | AK32: =SUM(AK8:AK31) -> 3.0288171e+08 | AL32: =SUM(AL8:AL31) -> 75586097 | AM32: =SUM(AM8:AM31) -> 77411717 | AN32: 75284034 | AO32: 82079147 | AP32: 3.10361e+08 | AQ32: 78090402 | AR32: 79664627 | AS32: 76114762 | AT32: 84389299 | AU32: 3.1825909e+08 | AV32: 74989335 | AW32: 83379899 | AX32: 79613836 | AY32: 85922556 | AZ32: =SUM(AZ8:AZ31) -> 6308720.3 | BA32: =AZ32/AW32 -> 0.075662365
B34: REMITTANCE OUTFLOWS BY COUNTRY BY PERCENTAGE (%)
B35: COUNTRY | C35: Year 2012 | D35: Year 2013 | E35: Year 2014* | F35: Year 2015 | G35: Year 2016 | H35: 2017Q1 | I35: 2017Q2 | J35: 2017Q3 | K35: 2017Q4 | L35: Year 2017 | M35: 2018Q1 | N35: 2018Q2 | O35: 2018Q3 | P35: 2018Q4 | Q35: Year 2018 | R35: 2019Q1 | S35: 2019Q2 | T35: 2019Q3 | U35: 2019Q4 | V35: Year 2019 | W35: 2020Q1 | X35: 2020Q2 | Y35: 2020Q3 | Z35: 2020Q4 | AA35: Year 2020 | AB35: 2021Q1 | AC35: 2021Q2 | AD35: 2021Q3 | AE35: 2021Q4 | AF35: Year 2021 | AG35: 2022Q1 | AH35: 2022Q2 | AI35: 2022Q3 | AJ35: 2022Q4 | AK35: Year 2022 | AL35: 2023Q1 | AM35: 2023Q2 | AN35: 2023Q3 | AO35: 2023Q4 | AP35: Year 2023 | AQ35: 2024Q1 | AR35: 2024Q2 | AS35: 2024Q3 | AT35: 2024Q4 | AU35: Year 2024 | AV35: 2025Q1 | AW35: 2025Q2 | AX35: 2025Q3 | AY35: 2025Q4
B36: JAMAICA | C36: =C8/C$32 -> 0.64645337 | D36: =D8/D$32 -> 0.63753308 | E36: =E8/E$32 -> 0.61382136 | F36: =F8/F$32 -> 0.59913032 | G36: =G8/G$32 -> 0.59664687 | H36: =H8/H$32 -> 0.58211018 | I36: =I8/I$32 -> 0.58207418 | J36: =J8/J$32 -> 0.59076956 | ... AY36: =AY8/AY$32 -> 0.62327164
B37: HONDURAS | C37: =C9/C$32 -> 0.065646277 | D37: =D9/D$32 -> 0.064560683 | E37: =E9/E$32 -> 0.06949872 | F37: =F9/F$32 -> 0.075298616 | G37: =G9/G$32 -> 0.071058084 | H37: =H9/H$32 -> 0.073979535 | I37: =I9/I$32 -> 0.071980184 | J37: =J9/J$32 -> 0.070331837 | ... AY37: =AY9/AY$32 -> 0.066312018
B38: PHILIPPINES | C38: =C10/C$32 -> 0.11869214 | D38: =D10/D$32 -> 0.12058935 | E38: =E10/E$32 -> 0.13175369 | F38: =F10/F$32 -> 0.14398163 | G38: =G10/G$32 -> 0.14898829 | H38: =H10/H$32 -> 0.15363269 | I38: =I10/I$32 -> 0.1533048 | J38: =J10/J$32 -> 0.14966975 | ... AY38: =AY10/AY$32 -> 0.14511113
B39: DOMINICAN REPUBLIC | C39: =C11/C$32 -> 0.016293329 | D39: =D11/D$32 -> 0.017521175 | E39: =E11/E$32 -> 0.01896447 | F39: =F11/F$32 -> 0.017399628 | G39: =G11/G$32 -> 0.019809901 | H39: =H11/H$32 -> 0.022229011 | I39: =I11/I$32 -> 0.023325242 | J39: =J11/J$32 -> 0.021710507 | ... AY39: =AY11/AY$32 -> 0.027994836
B40: NICARAGUA | C40: =C12/C$32 -> 0.016642875 | D40: =D12/D$32 -> 0.016970702 | E40: =E12/E$32 -> 0.015125699 | F40: =F12/F$32 -> 0.020574698 | G40: =G12/G$32 -> 0.018404215 | H40: =H12/H$32 -> 0.018013518 | I40: =I12/I$32 -> 0.017888228 | J40: =J12/J$32 -> 0.017693635 | ... AY40: =AY12/AY$32 -> 0.028453072
B41: COLOMBIA | C41: =C13/C$32 -> 0.017702762 | D41: =D13/D$32 -> 0.016091256 | E41: =E13/E$32 -> 0.01270599 | F41: =F13/F$32 -> 0.012787903 | G41: =G13/G$32 -> 0.012540133 | H41: =H13/H$32 -> 0.01285753 | I41: =I13/I$32 -> 0.014853975 | J41: =J13/J$32 -> 0.011060507 | ... AY41: =AY13/AY$32 -> 0.010202951
B42: GUYANA | C42: =C14/C$32 -> 0.0082025377 | D42: =D14/D$32 -> 0.0074788316 | E42: =E14/E$32 -> 0.0074905678 | F42: =F14/F$32 -> 0.0071096927 | G42: =G14/G$32 -> 0.0061941547 | H42: =H14/H$32 -> 0.0056547978 | I42: =I14/I$32 -> 0.0044322318 | J42: =J14/J$32 -> 0.0050369826 | ... AY42: =AY14/AY$32 -> 0.0045300406
B43: TRINIDAD & TOBAGO | C43: =C15/C$32 -> 0.0022571499 | D43: =D15/D$32 -> 0.0019300881 | E43: =E15/E$32 -> 0.0022762467 | F43: =F15/F$32 -> 0.0021253423 | G43: =G15/G$32 -> 0.0017228963 | H43: =H15/H$32 -> 0.0019576982 | I43: =I15/I$32 -> 0.0018430238 | J43: =J15/J$32 -> 0.001823616 | ... AY43: =AY15/AY$32 -> 0.0016743248
B44: INDIA | C44: =C16/C$32 -> 0.0041370465 | D44: =D16/D$32 -> 0.0038248569 | E44: =E16/E$32 -> 0.0046923097 | F44: =F16/F$32 -> 0.0046118612 | G44: =G16/G$32 -> 0.0041808519 | H44: =H16/H$32 -> 0.0047890333 | I44: =I16/I$32 -> 0.0053444864 | J44: =J16/J$32 -> 0.0048582513 | ... AY44: =AY16/AY$32 -> 0.0018499231
B45: UNITED KINGDOM | C45: =C17/C$32 -> 0.0038386705 | D45: =D17/D$32 -> 0.0039605284 | E45: =E17/E$32 -> 0.0049209238 | F45: =F17/F$32 -> 0.0048243701 | G45: =G17/G$32 -> 0.0044394848 | H45: =H17/H$32 -> 0.0051111614 | I45: =I17/I$32 -> 0.0054921781 | J45: =J17/J$32 -> 0.0046833257 | ... AY45: =AY17/AY$32 -> 0.0035172637
B46: UNITED STATES | C46: =C18/C$32 -> 0.048183171 | D46: =D18/D$32 -> 0.051327474 | E46: =E18/E$32 -> 0.068186948 | F46: =F18/F$32 -> 0.053770318 | G46: =G18/G$32 -> 0.055615708 | H46: =H18/H$32 -> 0.052879431 | I46: =I18/I$32 -> 0.053750927 | J46: =J18/J$32 -> 0.057256184 | ... AY46: =AY18/AY$32 -> 0.040765805
B47: CANADA | C47: n/a | D47: =D19/D$32 -> 0.0044740565 | E47: =E19/E$32 -> 0.0055649573 | F47: =F19/F$32 -> 0.0052987609 | G47: =G19/G$32 -> 0.0066418497 | H47: =H19/H$32 -> 0.0065711267 | I47: =I19/I$32 -> 0.0065199077 | J47: =J19/J$32 -> 0.0067013425 | K47: =K19/K$32 -> 0.0066472574 | ... AY47: =AY19/AY$32 -> 0.0056301515
B48: COSTA RICA | C48: n/a | D48: =D20/D$32 -> 0.0043785316 | E48: =E20/E$32 -> 0.0033669067 | F48: =F20/F$32 -> 0.0025917943 | G48: =G20/G$32 -> 0.0038503732 | H48: =H20/H$32 -> 0.0046689281 | I48: =I20/I$32 -> 0.0046888373 | J48: =J20/J$32 -> 0.0037378046 | K48: =K20/K$32 -> 0.0037828806 | ... AY48: =AY20/AY$32 -> 0.0029180857
B49: BARBADOS | C49: n/a | D49: =D21/D$32 -> 0.0014863627 | E49: =E21/E$32 -> 0.0015005588 | F49: =F21/F$32 -> 0.0011533398 | G49: =G21/G$32 -> 0.0013875345 | H49: =H21/H$32 -> 0.0013233708 | I49: =I21/I$32 -> 0.0014467879 | J49: =J21/J$32 -> 0.0011519078 | K49: =K21/K$32 -> 0.0013195184 | ... AY49: =AY21/AY$32 -> 0.0010497555
B50: PANAMA | C50: n/a | D50: =D22/D$32 -> 0.0018418412 | E50: =E22/E$32 -> 0.0016181088 | F50: =F22/F$32 -> 0.0012364678 | G50: =G22/G$32 -> 0.0014434396 | H50: =H22/H$32 -> 0.0011756921 | I50: =I22/I$32 -> 0.001918685 | J50: =J22/J$32 -> 0.0014013604 | K50: =K22/K$32 -> 0.0021880538 | ... AY50: =AY22/AY$32 -> 0.0018550845
B51: BELIZE | C51: n/a | D51: n/a | E51: n/a | F51: n/a | G51: n/a | H51: =H23/H$32 -> 0.0020076555 | I51: =I23/I$32 -> 0.0023331701 | J51: =J23/J$32 -> 0.0024870666 | K51: =K23/K$32 -> 0.0023126396 | L51: =L23/L$32 -> 0.0022901578 | M51: =M23/M$32 -> 0.0026502473 | N51: =N23/N$32 -> 0.0022747029 | O51: =O23/O$32 -> 0.0018155267 | ... AY51: =AY23/AY$32 -> 0.0015189187
B52: CHINA | C52: n/a | D52: n/a | E52: n/a | F52: n/a | G52: n/a | H52: =H24/H$32 -> 0.0021323433 | I52: =I24/I$32 -> 0.0011944058 | J52: =J24/J$32 -> 0.0020635111 | K52: =K24/K$32 -> 0.0018462551 | L52: =L24/L$32 -> 0.0018077954 | M52: =M24/M$32 -> 0.0012991363 | N52: =N24/N$32 -> 0.0020963615 | O52: =O24/O$32 -> 0.0012485285 | ... AY52: =AY24/AY$32 -> 0.00054852395
B53: CUBA | C53: n/a | D53: n/a | E53: n/a | F53: n/a | G53: n/a | H53: =H25/H$32 -> 0.0056703471 | I53: =I25/I$32 -> 0.0063497625 | J53: =J25/J$32 -> 0.0056864735 | K53: =K25/K$32 -> 0.006063337 | L53: =L25/L$32 -> 0.0059465707 | M53: =M25/M$32 -> 0.0073353448 | N53: =N25/N$32 -> 0.0068236604 | O53: =O25/O$32 -> 0.0070078785 | ... AY53: =AY25/AY$32 -> 0
B54: KENYA | C54: n/a | D54: n/a | E54: n/a | F54: n/a | G54: n/a | H54: =H26/H$32 -> 0.0025454365 | I54: =I26/I$32 -> 0.0020918023 | J54: =J26/J$32 -> 0.0020814658 | K54: =K26/K$32 -> 0.0018452129 | L54: =L26/L$32 -> 0.0021296919 | M54: =M26/M$32 -> 0.0022594551 | N54: =N26/N$32 -> 0.0025927851 | O54: =O26/O$32 -> 0.0022652771 | ... AY54: =AY26/AY$32 -> 0.00055966887
B55: MEXICO | C55: n/a | D55: n/a | E55: n/a | F55: n/a | G55: n/a | H55: =H27/H$32 -> 0.0037489175 | I55: =I27/I$32 -> 0.0033933696 | J55: =J27/J$32 -> 0.0033657589 | K55: =K27/K$32 -> 0.0034571972 | L55: =L27/L$32 -> 0.0034868497 | M55: =M27/M$32 -> 0.0033477606 | N55: =N27/N$32 -> 0.0035902207 | O55: =O27/O$32 -> 0.0028222226 | ... AY55: =AY27/AY$32 -> 0.0026054519
B56: NEPAL | C56: n/a | D56: n/a | E56: n/a | F56: n/a | G56: n/a | H56: =H28/H$32 -> 0.0037433166 | I56: =I28/I$32 -> 0.0028718672 | J56: =J28/J$32 -> 0.0026730223 | K56: =K28/K$32 -> 0.0037144378 | L56: =L28/L$32 -> 0.0032512543 | M56: =M28/M$32 -> 0.0066546137 | N56: =N28/N$32 -> 0.0071166176 | O56: =O28/O$32 -> 0.0070875129 | ... AY56: =AY28/AY$32 -> 0.0031027558
B57: PERU | C57: n/a | D57: n/a | E57: n/a | F57: n/a | G57: n/a | H57: =H29/H$32 -> 0.0019868187 | I57: =I29/I$32 -> 0.0018300487 | J57: =J29/J$32 -> 0.0014233315 | K57: =K29/K$32 -> 0.001758482 | L57: =L29/L$32 -> 0.0017451034 | M57: =M29/M$32 -> 0.0021822772 | N57: =N29/N$32 -> 0.0020424309 | O57: =O29/O$32 -> 0.0024009341 | ... AY57: =AY29/AY$32 -> 0.0024343277
B58: ZIMBABWE | C58: n/a | D58: n/a | E58: n/a | F58: n/a | G58: n/a | H58: =H30/H$32 -> 0.0013324184 | I58: =I30/I$32 -> 0.00079723129 | J58: =J30/J$32 -> 0.00081781481 | K58: =K30/K$32 -> 0.00086107863 | L58: =L30/L$32 -> 0.00094500438 | M58: =M30/M$32 -> 0.0011814098 | N58: =N30/N$32 -> 0.00076000042 | O58: =O30/O$32 -> 0.00081746561 | ... AY58: =AY30/AY$32 -> 0.0043742168
B59: OTHER | C59: =C31/C$32 -> 0.051950673 | D59: =D31/D$32 -> 0.046031188 | E59: =E31/E$32 -> 0.038512546 | F59: =F31/F$32 -> 0.048105255 | G59: =G31/G$32 -> 0.047076213 | H59: =H31/H$32 -> 0.029879048 | I59: =I31/I$32 -> 0.030274665 | J59: =J31/J$32 -> 0.031514984 | ... AY59: =AY31/AY$32 -> 0.019720055
B60: TOTALS | C60: =SUM(C36:C59) -> 1 | D60: =SUM(D36:D59) -> 1 | E60: =SUM(E36:E59) -> 1 | F60: =SUM(F36:F59) -> 1 | G60: =SUM(G36:G59) -> 1 | H60: =SUM(H36:H59) -> 1 | I60: =SUM(I36:I59) -> 1 | J60: =SUM(J36:J59) -> 1 | ... AP60: =SUM(AP36:AP59) -> 1 | AQ60: =AQ32/AQ$32 -> 1 | AR60: =AR32/AR$32 -> 1 | AS60: =AS32/AS$32 -> 1 | AT60: =AT32/AT$32 -> 1 | AU60: =AU32/AU$32 -> 1 | AV60: =AV32/AV$32 -> 1 | AW60: =AW32/AW$32 -> 1 | AX60: =AX32/AX$32 -> 1 | AY60: =AY32/AY$32 -> 1
B61: REMITTANCE INFLOWS BY COUNTRY (US$ - Actual Amounts)
B62: * aggregated information does not include one reporting entity.
B63: Source: Money Service Providers (MSP's) licensed by Cayman Islands Monetary Authority (CIMA).
B64: n/a - data not collected

Sheet Trans INFLOWS
B2: CAYMAN ISLANDS REMITTANCE REPORT BY NUMBER OF TRANSACTIONS, BY COUNTRY & VALUE (in US$)
B3: (Workers' remittances transmitted by the remittance companies licensed as Money Service Providers)
B4: REMITTANCE INFLOWS BY TRANSACTIONS FOR ALL COUNTRIES (Actual Amounts)
B5: ALL COUNTRIES | C5: Year 2012 | D5: Year 2013 | E5: Year 2014* | F5: Year 2015 | G5: Year 2016 | H5: 2017Q1 | I5: 2017Q2 | J5: 2017Q3 | K5: 2017Q4 | L5: Year 2017 | M5: 2018Q1 | N5: 2018Q2 | O5: 2018Q3 | P5: 2018Q4 | Q5: Year 2018 | R5: 2019Q1 | S5: 2019Q2 | T5: 2019Q3 | U5: 2019Q4 | V5: Year 2019 | W5: 2020Q1 | X5: 2020Q2 | Y5: 2020Q3 | Z5: 2020Q4 | AA5: Year 2020 | AB5: 2021Q1 | AC5: 2021Q2 | AD5: 2021Q3 | AE5: 2021Q4 | AF5: Year 2021 | AG5: 2022Q1 | AH5: 2022Q2 | AI5: 2022Q3 | AJ5: 2022Q4 | AK5: Year 2022 | AL5: 2023Q1 | AM5: 2023Q2 | AN5: 2023Q3 | AO5: 2023Q4 | AP5: Year 2023 | AQ5: 2024Q1 | AR5: 2024Q2 | AS5: 2024Q3 | AT5: 2024Q4 | AU5: Year 2024 | AV5: 2025Q1 | AW5: 2025Q2 | AX5: 2025Q3 | AY5: 2025Q4
B6: TOTAL TRANSACTIONS | C6: 15330 | D6: 17772 | E6: 18707 | F6: 15944 | G6: 20955 | H6: 5497 | I6: 6089 | J6: 6792 | K6: 6486 | L6: =SUM(H6:K6) -> 24864 | M6: 6148 | N6: 6594 | O6: 6775 | P6: 6809 | Q6: =SUM(M6:P6) -> 26326 | R6: 6319 | S6: 7110 | T6: 7096 | U6: 6697 | V6: =SUM(R6:U6) -> 27222 | W6: 6047 | X6: 4256 | Y6: 4862 | Z6: 5401 | AA6: =SUM(W6:Z6) -> 20566 | AB6: 5695 | AC6: 5822 | AD6: 6414 | AE6: 6923 | AF6: =SUM(AB6:AE6) -> 24854 | AG6: 5799 | AH6: 6065 | AI6: 6705 | AJ6: 6636 | AK6: =SUM(AG6:AJ6) -> 25205 | AL6: 6387 | AM6: 6546 | AN6: 7018 | AO6: 6609 | AP6: 26560 | AQ6: 6772 | AR6: 6865 | AS6: 6954 | AT6: 6730 | AU6: 27321 | AV6: 5808 | AW6: 6090 | AX6: 6366 | AY6: 6094
B8: REMITTANCE INFLOWS BY COUNTRY and VALUE (Actual Amounts)
B10: COUNTRY | C10: Year 2012 | D10: Year 2013 | E10: Year 2014* | F10: Year 2015 | G10: Year 2016 | H10: 2017Q1 | I10: 2017Q2 | J10: 2017Q3 | K10: 2017Q4 | L10: Year 2017 | M10: 2018Q1 | N10: 2018Q2 | O10: 2018Q3 | P10: 2018Q4 | Q10: Year 2018 | R10: 2019Q1 | S10: 2019Q2 | T10: 2019Q3 | U10: 2019Q4 | V10: Year 2019 | W10: 2020Q1 | X10: 2020Q2 | Y10: 2020Q3 | Z10: 2020Q4 | AA10: Year 2020 | AB10: 2021Q1 | AC10: 2021Q2 | AD10: 2021Q3 | AE10: 2021Q4 | AF10: Year 2021 | AG10: 2022Q1 | AH10: 2022Q2 | AI10: 2022Q3 | AJ10: 2022Q4 | AK10: Year 2022 | AL10: 2023Q1 | AM10: 2023Q2 | AN10: 2023Q3 | AO10: 2023Q4 | AP10: Year 2023 | AQ10: 2024Q1 | AR10: 2024Q2 | AS10: 2024Q3 | AT10: 2024Q4 | AU10: Year 2024 | AV10: 2025Q1 | AW10: 2025Q2 | AX10: 2025Q3 | AY10: 2025Q4
B11: JAMAICA | C11: 1259922 | D11: 1196086 | E11: 951576.57 | F11: 825503 | G11: 748502.12 | H11: 230833 | I11: 221084.36 | J11: 229708.15 | K11: 249260.4 | L11: =SUM(H11:K11) -> 930885.91 | M11: 245028.03 | N11: 277722.52 | O11: 240766 | P11: 277961.1 | Q11: =SUM(M11:P11) -> 1041477.7 | R11: 284080.32 | S11: 233145.06 | T11: 258258.06 | U11: 175394.6 | V11: =SUM(R11:U11) -> 950878.04 | W11: 167005.19 | X11: 87077.35 | Y11: 161439.34 | Z11: 154287.11 | AA11: =SUM(W11:Z11) -> 569808.99 | AB11: 194338.05 | AC11: 260917.42 | AD11: 311606.2 | AE11: 338587.85 | AF11: =SUM(AB11:AE11) -> 1105449.5 | AG11: 322030.19 | AH11: 348499.85 | AI11: 370678.19 | AJ11: 425086.06 | AK11: =SUM(AG11:AJ11) -> 1466294.3 | AL11: 379820.76 | AM11: 337541.9 | AN11: 384203.8 | AO11: 389551.94 | AP11: 1491118.4 | AQ11: 331585.9 | AR11: 359485.6 | AS11: 358001.21 | AT11: 371451.41 | AU11: 1420524.1 | AV11: 293637.24 | AW11: 334997.75 | AX11: 338239.65 | AY11: 249453.88
B12: HONDURAS | C12: 122361 | D12: 129767 | E12: 105945.43 | F12: 85267 | G12: 112709.09 | H12: 27469 | I12: 21409.35 | J12: 25656.21 | K12: 30752.61 | L12: =SUM(H12:K12) -> 105287.17 | M12: 32478.68 | N12: 21200.77 | O12: 26840 | P12: 31622.81 | Q12: =SUM(M12:P12) -> 112142.26 | R12: 27809.8 | S12: 25895.83 | T12: 26781.24 | U12: 35088.549 | V12: =SUM(R12:U12) -> 115575.42 | W12: 29188.23 | X12: 4834.63 | Y12: 13147.03 | Z12: 9106.48 | AA12: =SUM(W12:Z12) -> 56276.37 | AB12: 19735.3 | AC12: 33746.34 | AD12: 32921.97 | AE12: 27857.77 | AF12: =SUM(AB12:AE12) -> 114261.38 | AG12: 22325.46 | AH12: 22043.65 | AI12: 20473.769 | AJ12: 34948.291 | AK12: =SUM(AG12:AJ12) -> 99791.17 | AL12: 31745.389 | AM12: 29140.394 | AN12: 34322.46 | AO12: 39303.54 | AP12: 134511.78 | AQ12: 22214.879 | AR12: 25641.226 | AS12: 29351.148 | AT12: 23745.37 | AU12: 100952.62 | AV12: 19515.308 | AW12: 35858.33 | AX12: 31388.927 | AY12: 21893.01
B13: PHILIPPINES | C13: 75979 | D13: 81026 | E13: 79820.17 | F13: 92836 | G13: 136908.62 | H13: 37152 | I13: 22185.32 | J13: 30648.41 | K13: 36748.93 | L13: =SUM(H13:K13) -> 126734.66 | M13: 33065.73 | N13: 41536.72 | O13: 32465 | P13: 44586.75 | Q13: =SUM(M13:P13) -> 151654.2 | R13: 46080.99 | S13: 49111.03 | T13: 70772.22 | U13: 83640.9 | V13: =SUM(R13:U13) -> 249605.14 | W13: 57007.12 | X13: 4638.79 | Y13: 9809.87 | Z13: 23032.7 | AA13: =SUM(W13:Z13) -> 94488.48 | AB13: 24869.13 | AC13: 26961.27 | AD13: 43064.51 | AE13: 62152.7 | AF13: =SUM(AB13:AE13) -> 157047.61 | AG13: 74619.45 | AH13: 59637.12 | AI13: 78739.555 | AJ13: 72764.22 | AK13: =SUM(AG13:AJ13) -> 285760.35 | AL13: 87732.689 | AM13: 68751.27 | AN13: 68950.43 | AO13: 67800.85 | AP13: 293235.24 | AQ13: 51040.14 | AR13: 51151.19 | AS13: 60463.651 | AT13: 57882.69 | AU13: 220537.67 | AV13: 28587.964 | AW13: 37689.749 | AX13: 36644.46 | AY13: 16753.01
B14: DOMINICAN REPUBLIC | C14: 41199 | D14: 50279 | E14: 40527.22 | F14: 52365 | G14: 79713.48 | H14: 6744 | I14: 3066.29 | J14: 11581.84 | K14: 6238.52 | L14: =SUM(H14:K14) -> 27630.65 | M14: 5194.01 | N14: 3841.32 | O14: 6145 | P14: 10189.87 | Q14: =SUM(M14:P14) -> 25370.2 | R14: 7476.03 | S14: 14083.76 | T14: 14322.68 | U14: 11419.14 | V14: =SUM(R14:U14) -> 47301.61 | W14: 9994.41 | X14: 0 | Y14: 3456.18 | Z14: 1569.45 | AA14: =SUM(W14:Z14) -> 15020.04 | AB14: 4737.91 | AC14: 6315.41 | AD14: 6756.38 | AE14: 5657.93 | AF14: =SUM(AB14:AE14) -> 23467.63 | AG14: 18979.6 | AH14: 10762.88 | AI14: 13580.27 | AJ14: 8640.04 | AK14: =SUM(AG14:AJ14) -> 51962.79 | AL14: 12655.42 | AM14: 14797.95 | AN14: 10637.81 | AO14: 14442.21 | AP14: 52533.39 | AQ14: 13041 | AR14: 12427.1 | AS14: 9381.27 | AT14: 14652.63 | AU14: 49502 | AV14: 7289.4216 | AW14: 8272.73 | AX14: 17707.34 | AY14: 8299.89
B15: NICARAGUA | C15: 32879 | D15: 36665 | E15: 24351.23 | F15: 25789 | G15: 17128.36 | H15: 2795 | I15: 3344.72 | J15: 4087.84 | K15: 4297.48 | L15: =SUM(H15:K15) -> 14525.04 | M15: 6119.18 | N15: 2296.26 | O15: 9029 | P15: 7730.47 | Q15: =SUM(M15:P15) -> 25174.91 | R15: 10902.06 | S15: 8016.01 | T15: 19878.16 | U15: 15670.7 | V15: =SUM(R15:U15) -> 54466.93 | W15: 3183.15 | X15: 91.42 | Y15: 606.69 | Z15: 2871.2 | AA15: =SUM(W15:Z15) -> 6752.46 | AB15: 3507 | AC15: 6228.22 | AD15: 6084.13 | AE15: 4437.18 | AF15: =SUM(AB15:AE15) -> 20256.53 | AG15: 3924.61 | AH15: 10556.25 | AI15: 9429.47 | AJ15: 12805.32 | AK15: =SUM(AG15:AJ15) -> 36715.65 | AL15: 9302.78 | AM15: 8631.62 | AN15: 5611.75 | AO15: 10717.51 | AP15: 34263.66 | AQ15: 5773.15 | AR15: 7826.64 | AS15: 10408.04 | AT15: 8161.63 | AU15: 32169.46 | AV15: 6514.3281 | AW15: 7575.8 | AX15: 13190.45 | AY15: 7271.74
B16: COLOMBIA | C16: 73122 | D16: 97018 | E16: 75808.27 | F16: 28687 | G16: 21958.29 | H16: 5676 | I16: 19805.05 | J16: 7576.71 | K16: 12743.72 | L16: =SUM(H16:K16) -> 45801.48 | M16: 20923.72 | N16: 9886.9 | O16: 20307 | P16: 13969.14 | Q16: =SUM(M16:P16) -> 65086.76 | R16: 4660.84 | S16: 4542.15 | T16: 6123.54 | U16: 8881.09 | V16: =SUM(R16:U16) -> 24207.62 | W16: 4257.13 | X16: 2700.1 | Y16: 9133.2 | Z16: 17045.34 | AA16: =SUM(W16:Z16) -> 33135.77 | AB16: 5957.74 | AC16: 11874.73 | AD16: 10882.55 | AE16: 11109.99 | AF16: =SUM(AB16:AE16) -> 39825.01 | AG16: 5502.54 | AH16: 6203.4 | AI16: 8121.32 | AJ16: 3841.96 | AK16: =SUM(AG16:AJ16) -> 23669.22 | AL16: 5875.93 | AM16: 4127.59 | AN16: 3951.16 | AO16: 5339.36 | AP16: 19294.04 | AQ16: 4073.06 | AR16: 2850.04 | AS16: 4835.72 | AT16: 6307.89 | AU16: 18066.71 | AV16: 4358.7533 | AW16: 7028.65 | AX16: 8011.1671 | AY16: 17343.52
B17: GUYANA | C17: 11719 | D17: 14391 | E17: 16574.13 | F17: 7918 | G17: 20873.3 | H17: 8908 | I17: 3253.61 | J17: 5076.71 | K17: 12693.18 | L17: =SUM(H17:K17) -> 29931.5 | M17: 3936.3 | N17: 4425.03 | O17: 3624 | P17: 2805.41 | Q17: =SUM(M17:P17) -> 14790.74 | R17: 3158.33 | S17: 11281.45 | T17: 3425.21 | U17: 2742.6538 | V17: =SUM(R17:U17) -> 20607.644 | W17: 3197.64 | X17: 592.22 | Y17: 1149.38 | Z17: 2174.9 | AA17: =SUM(W17:Z17) -> 7114.14 | AB17: 2004.67 | AC17: 1490.96 | AD17: 791.91 | AE17: 3098.59 | AF17: =SUM(AB17:AE17) -> 7386.13 | AG17: 1864.6 | AH17: 6284.97 | AI17: 2539.7339 | AJ17: 3679.6529 | AK17: =SUM(AG17:AJ17) -> 14368.957 | AL17: 4936.1688 | AM17: 4956.41 | AN17: 5807.64 | AO17: 6193.44 | AP17: 21893.659 | AQ17: 10262.746 | AR17: 6610.5776 | AS17: 11834.138 | AT17: 6570.7276 | AU17: 35278.189 | AV17: 7083.4957 | AW17: 15287.535 | AX17: 4436.1862 | AY17: 5383.63
B18: TRINIDAD & TOBAGO | C18: 38308 | D18: 69897 | E18: 79862.4 | F18: 83189 | G18: 48797.29 | H18: 13416 | I18: 20915.27 | J18: 14862.3 | K18: 25256.51 | L18: =SUM(H18:K18) -> 74450.08 | M18: 20260.83 | N18: 17741.3 | O18: 17354 | P18: 20932.38 | Q18: =SUM(M18:P18) -> 76288.51 | R18: 11279.47 | S18: 27056.15 | T18: 30304.08 | U18: 13689.179 | V18: =SUM(R18:U18) -> 82328.879 | W18: 20238.94 | X18: 3912.56 | Y18: 8744.92 | Z18: 6705.96 | AA18: =SUM(W18:Z18) -> 39602.38 | AB18: 5915.39 | AC18: 15199.6 | AD18: 18043.45 | AE18: 13549.47 | AF18: =SUM(AB18:AE18) -> 52707.91 | AG18: 13301.54 | AH18: 19127.94 | AI18: 17557.407 | AJ18: 12913.46 | AK18: =SUM(AG18:AJ18) -> 62900.347 | AL18: 12371.01 | AM18: 13317.211 | AN18: 10329.27 | AO18: 14648.14 | AP18: 50665.631 | AQ18: 26682.763 | AR18: 11161.277 | AS18: 12644.181 | AT18: 14776.317 | AU18: 65264.539 | AV18: 17112.686 | AW18: 12410.5 | AX18: 11416.153 | AY18: 12003.77
B19: INDIA | C19: 0 | D19: 0 | E19: 0 | F19: 0 | G19: 0 | H19: 0 | I19: 0 | J19: 0 | K19: 0 | L19: =SUM(H19:K19) -> 0 | M19: 0 | N19: 0 | O19: 0 | P19: 0 | Q19: =SUM(M19:P19) -> 0 | R19: 0 | S19: 0 | T19: 0 | U19: 0 | V19: =SUM(R19:U19) -> 0 | W19: 0 | X19: 0 | Y19: 0 | Z19: 0 | AA19: =SUM(W19:Z19) -> 0 | AB19: 0 | AC19: 0 | AD19: 0 | AE19: 0 | AF19: =SUM(AB19:AE19) -> 0 | AG19: 1687.08 | AH19: 0 | AI19: 0 | AJ19: 0 | AK19: =SUM(AG19:AJ19) -> 1687.08 | AL19: 0 | AM19: 0 | AN19: 0 | AO19: 0 | AP19: 0 | AQ19: 0 | AR19: 0 | AS19: 0 | AT19: 0 | AU19: 0 | AV19: 0 | AW19: 0 | AX19: 0 | AY19: 0
B20: UNITED KINGDOM | C20: 463743 | D20: 667883 | E20: 547945.43 | F20: 448071 | G20: 506693.42 | H20: 105298 | I20: 110998.57 | J20: 148668.78 | K20: 157810.25 | L20: =SUM(H20:K20) -> 522775.6 | M20: 98614.6 | N20: 120751.28 | O20: 136301 | P20: 152147.88 | Q20: =SUM(M20:P20) -> 507814.76 | R20: 108992.42 | S20: 118533.94 | T20: 115487.82 | U20: 106942.63 | V20: =SUM(R20:U20) -> 449956.81 | W20: 86290.46 | X20: 81595.46 | Y20: 99091.58 | Z20: 208283.26 | AA20: =SUM(W20:Z20) -> 475260.76 | AB20: 151172.56 | AC20: 124943.96 | AD20: 243638 | AE20: 177326.34 | AF20: =SUM(AB20:AE20) -> 697080.86 | AG20: 183405.6 | AH20: 170971.23 | AI20: 158000.5 | AJ20: 145538.19 | AK20: =SUM(AG20:AJ20) -> 657915.52 | AL20: 142231.12 | AM20: 142540.95 | AN20: 185860.67 | AO20: 172372.97 | AP20: 643005.7 | AQ20: 144526.32 | AR20: 147582.6 | AS20: 131446.44 | AT20: 134175.29 | AU20: 557730.65 | AV20: 129463.7 | AW20: 146487.18 | AX20: 162518.7 | AY20: 133358.62
B21: UNITED STATES | C21: 2415709 | D21: 3077253 | E21: 3021535.9 | F21: 3252040 | G21: 3311120 | H21: 861903 | I21: 938460.03 | J21: 1029044.9 | K21: 1022723 | L21: =SUM(H21:K21) -> 3852130.9 | M21: 901495.41 | N21: 1018760.9 | O21: 1015652 | P21: 1002645.3 | Q21: =SUM(M21:P21) -> 3938553.6 | R21: 912357.92 | S21: 973212.81 | T21: 966859.66 | U21: 927513.16 | V21: =SUM(R21:U21) -> 3779943.6 | W21: 787139.47 | X21: 710077.82 | Y21: 896532.98 | Z21: 1001397 | AA21: =SUM(W21:Z21) -> 3395147.3 | AB21: 1134948.8 | AC21: 1226358.2 | AD21: 1271690.9 | AE21: 1432107.9 | AF21: =SUM(AB21:AE21) -> 5065105.8 | AG21: 1054496.1 | AH21: 1304980.4 | AI21: 1488487.8 | AJ21: 1459870.9 | AK21: =SUM(AG21:AJ21) -> 5307835.2 | AL21: 1307278.7 | AM21: 1349697.2 | AN21: 1430796.5 | AO21: 1321387.2 | AP21: 5409159.7 | AQ21: 1269721.4 | AR21: 1313749.7 | AS21: 1357236 | AT21: 1297855.4 | AU21: 5238562.5 | AV21: 1008095.1 | AW21: 1249714.1 | AX21: 1267764.9 | AY21: 1281585.9
B22: CANADA | C22: n/a | D22: 687246 | E22: 689183.28 | F22: 517747 | G22: 459812.17 | H22: 122252 | I22: 152390.51 | J22: 124816.5 | K22: 114608.85 | L22: =SUM(H22:K22) -> 514067.86 | M22: 99524.16 | N22: 113091.54 | O22: 150817 | P22: 124095.75 | Q22: =SUM(M22:P22) -> 487528.45 | R22: 118840.62 | S22: 137877.18 | T22: 136705.95 | U22: 113743.76 | V22: =SUM(R22:U22) -> 507167.51 | W22: 108641.38 | X22: 78968.31 | Y22: 95154.55 | Z22: 119887.47 | AA22: =SUM(W22:Z22) -> 402651.71 | AB22: 162161.17 | AC22: 124120.28 | AD22: 155838.28 | AE22: 154687.94 | AF22: =SUM(AB22:AE22) -> 596807.67 | AG22: 162591.48 | AH22: 139630.45 | AI22: 126451.41 | AJ22: 145289.35 | AK22: =SUM(AG22:AJ22) -> 573962.69 | AL22: 130784.92 | AM22: 145033.78 | AN22: 160396.65 | AO22: 148853.93 | AP22: 585069.27 | AQ22: 142590.04 | AR22: 147640.87 | AS22: 164160.36 | AT22: 131975.66 | AU22: 586366.93 | AV22: 90175.794 | AW22: 131142.04 | AX22: 121688.43 | AY22: 120948.22
B23: COSTA RICA | C23: n/a | D23: 19887 | E23: 26075.33 | F23: 17578 | G23: 9562.68 | H23: 446 | I23: 6608.6 | J23: 2627.77 | K23: 7582.92 | L23: =SUM(H23:K23) -> 17265.29 | M23: 5029.08 | N23: 1842.65 | O23: 5668 | P23: 3163.31 | Q23: =SUM(M23:P23) -> 15703.04 | R23: 2663.27 | S23: 3518.93 | T23: 3030 | U23: 4715.76 | V23: =SUM(R23:U23) -> 13927.96 | W23: 0 | X23: 4119.11 | Y23: 585.24 | Z23: 100 | AA23: =SUM(W23:Z23) -> 4804.35 | AB23: 7592.49 | AC23: 3261.49 | AD23: 1523.73 | AE23: 498.96 | AF23: =SUM(AB23:AE23) -> 12876.67 | AG23: 3574.44 | AH23: 1927.53 | AI23: 4994.02 | AJ23: 1918.56 | AK23: =SUM(AG23:AJ23) -> 12414.55 | AL23: 2663 | AM23: 905 | AN23: 4367.85 | AO23: 3195.21 | AP23: 11131.06 | AQ23: 5249.29 | AR23: 1397.48 | AS23: 128.7 | AT23: 1508.4981 | AU23: 8283.9681 | AV23: 5019.3544 | AW23: 3067.26 | AX23: 3097.58 | AY23: 6440.45
B24: BARBADOS | C24: n/a | D24: 52558 | E24: 27565.37 | F24: 18038 | G24: 17155.54 | H24: 7000 | I24: 3384.29 | J24: 11870.38 | K24: 15761.25 | L24: =SUM(H24:K24) -> 38015.92 | M24: 3348.97 | N24: 2867.72 | O24: 2141 | P24: 4795.65 | Q24: =SUM(M24:P24) -> 13153.34 | R24: 6826.37 | S24: 7265.73 | T24: 6264.64 | U24: 5265.31 | V24: =SUM(R24:U24) -> 25622.05 | W24: 8212.3 | X24: 0 | Y24: 3384.57 | Z24: 1063.82 | AA24: =SUM(W24:Z24) -> 12660.69 | AB24: 13155.77 | AC24: 4878.59 | AD24: 3855.22 | AE24: 7144.19 | AF24: =SUM(AB24:AE24) -> 29033.77 | AG24: 10638.13 | AH24: 1960.56 | AI24: 15420.02 | AJ24: 13370.612 | AK24: =SUM(AG24:AJ24) -> 41389.322 | AL24: 4432.642 | AM24: 1857.94 | AN24: 10026.78 | AO24: 4559.84 | AP24: 20877.202 | AQ24: 2374.2976 | AR24: 2998.75 | AS24: 4943.05 | AT24: 7976.34 | AU24: 18292.438 | AV24: 10174.927 | AW24: 4604.18 | AX24: 11365.849 | AY24: 4957.95
B25: PANAMA | C25: n/a | D25: 12376 | E25: 17126.41 | F25: 9892 | G25: 13079.93 | H25: 5587 | I25: 4816.05 | J25: 3751.05 | K25: 6391.08 | L25: =SUM(H25:K25) -> 20545.18 | M25: 10764.11 | N25: 6789.64 | O25: 9798 | P25: 5929.95 | Q25: =SUM(M25:P25) -> 33281.7 | R25: 9668.47 | S25: 11676.47 | T25: 15046.33 | U25: 4463.3262 | V25: =SUM(R25:U25) -> 40854.596 | W25: 9068.59 | X25: 4783.55 | Y25: 4595.13 | Z25: 2714.4 | AA25: =SUM(W25:Z25) -> 21161.67 | AB25: 578.5 | AC25: 242.36 | AD25: 1495.62 | AE25: 2009.55 | AF25: =SUM(AB25:AE25) -> 4326.03 | AG25: 8131.82 | AH25: 1249.6 | AI25: 291 | AJ25: 1839.2793 | AK25: =SUM(AG25:AJ25) -> 11511.699 | AL25: 2629.739 | AM25: 2109.0788 | AN25: 4738 | AO25: 3516.7 | AP25: 12993.518 | AQ25: 3169.86 | AR25: 1984.1 | AS25: 252.2 | AT25: 480.15 | AU25: 5886.31 | AV25: 562.21218 | AW25: 2017.6 | AX25: 5695.36 | AY25: 873
B26: BELIZE | C26: n/a | D26: n/a | E26: n/a | F26: n/a | G26: n/a | H26: 895 | I26: 1139.28 | J26: 4294.94 | K26: 918.05 | L26: =SUM(H26:K26) -> 7247.27 | M26: 2019.91 | N26: 1571.27 | O26: 2903 | P26: 1276.3 | Q26: =SUM(M26:P26) -> 7770.48 | R26: 3539.51 | S26: 1783.51 | T26: 1649.99 | U26: 4280.45 | V26: =SUM(R26:U26) -> 11253.46 | W26: 4188.87 | X26: 659.22 | Y26: 1257.86 | Z26: 2034.94 | AA26: =SUM(W26:Z26) -> 8140.89 | AB26: 918.08 | AC26: 2631.37 | AD26: 672.91 | AE26: 313.32 | AF26: =SUM(AB26:AE26) -> 4535.68 | AG26: 1250.64 | AH26: 1075.27 | AI26: 870.03 | AJ26: 2435.6332 | AK26: =SUM(AG26:AJ26) -> 5631.5732 | AL26: 2550.9212 | AM26: 1497.07 | AN26: 1538.08 | AO26: 725.01 | AP26: 6311.0812 | AQ26: 3032.3 | AR26: 1714.44 | AS26: 1628.65 | AT26: 2244.73 | AU26: 8620.12 | AV26: 1392.9388 | AW26: 961.3 | AX26: 2485.69 | AY26: 2200.6
B27: CHINA | C27: n/a | D27: n/a | E27: n/a | F27: n/a | G27: n/a | H27: 611 | I27: 5505.72 | J27: 0 | K27: 317.45 | L27: =SUM(H27:K27) -> 6434.17 | M27: 197.8 | N27: 378.79 | O27: 757 | P27: 1186.8 | Q27: =SUM(M27:P27) -> 2520.39 | R27: 0 | S27: 692.3 | T27: 1341.08 | U27: 2541.74 | V27: =SUM(R27:U27) -> 4575.12 | W27: 100 | X27: 0 | Y27: 486 | Z27: 0 | AA27: =SUM(W27:Z27) -> 586 | AB27: 0 | AC27: 476.19 | AD27: 0 | AE27: 0 | AF27: =SUM(AB27:AE27) -> 476.19 | AG27: 0 | AH27: 1305.64 | AI27: 0 | AJ27: 0 | AK27: =SUM(AG27:AJ27) -> 1305.64 | AL27: 0 | AM27: 0 | AN27: 0 | AO27: 1977.01 | AP27: 1977.01 | AQ27: 2521.95 | AR27: 0 | AS27: 0 | AT27: 0 | AU27: 2521.95 | AV27: 0 | AW27: 0 | AX27: 0 | AY27: 0
B28: CUBA | C28: n/a | D28: n/a | E28: n/a | F28: n/a | G28: n/a | H28: 0 | I28: 0 | J28: 0 | K28: 0 | L28: =SUM(H28:K28) -> 0 | M28: 0 | N28: 0 | O28: 0 | P28: 0 | Q28: =SUM(M28:P28) -> 0 | R28: 0 | S28: 0 | T28: 0 | U28: 0 | V28: =SUM(R28:U28) -> 0 | W28: 0 | X28: 0 | Y28: 0 | Z28: 0 | AA28: =SUM(W28:Z28) -> 0 | AB28: 0 | AC28: 0 | AD28: 0 | AE28: 0 | AF28: =SUM(AB28:AE28) -> 0 | AG28: 0 | AH28: 0 | AI28: 0 | AJ28: 0 | AK28: =SUM(AG28:AJ28) -> 0 | AL28: 0 | AM28: 0 | AN28: 0 | AO28: 0 | AP28: 0 | AQ28: 0 | AR28: 0 | AS28: 0 | AT28: 0 | AU28: 0 | AV28: 0 | AW28: 0 | AX28: 0 | AY28: 0
B29: KENYA | C29: n/a | D29: n/a | E29: n/a | F29: n/a | G29: n/a | H29: 0 | I29: 3399.59 | J29: 101.21 | K29: 4022.19 | L29: =SUM(H29:K29) -> 7522.99 | M29: 3636.44 | N29: 150 | O29: 1115 | P29: 1165.19 | Q29: =SUM(M29:P29) -> 6066.63 | R29: 533.76 | S29: 203.29 | T29: 8898.77 | U29: 274.89 | V29: =SUM(R29:U29) -> 9910.71 | W29: 239.7 | X29: 0 | Y29: 3285.59 | Z29: 3110.25 | AA29: =SUM(W29:Z29) -> 6635.54 | AB29: 0 | AC29: 0 | AD29: 2566.78 | AE29: 4348.48 | AF29: =SUM(AB29:AE29) -> 6915.26 | AG29: 684.63 | AH29: 0 | AI29: 2107.33 | AJ29: 7704.74 | AK29: =SUM(AG29:AJ29) -> 10496.7 | AL29: 1690.36 | AM29: 2594.66 | AN29: 1300.92 | AO29: 846.09 | AP29: 6432.03 | AQ29: 179.38 | AR29: 3363.58 | AS29: 2397.82 | AT29: 3633.9 | AU29: 9574.68 | AV29: 1511.3201 | AW29: 1011.9 | AX29: 0 | AY29: 706.88
B30: MEXICO | C30: n/a | D30: n/a | E30: n/a | F30: n/a | G30: n/a | H30: 5601 | I30: 404.91 | J30: 0 | K30: 2411 | L30: =SUM(H30:K30) -> 8416.91 | M30: 3398.85 | N30: 0 | O30: 2521 | P30: 0 | Q30: =SUM(M30:P30) -> 5919.85 | R30: 2279.77 | S30: 0 | T30: 0 | U30: 552.94 | V30: =SUM(R30:U30) -> 2832.71 | W30: 0 | X30: 700.92 | Y30: 595.23 | Z30: 0 | AA30: =SUM(W30:Z30) -> 1296.15 | AB30: 0 | AC30: 50 | AD30: 0 | AE30: 1673.82 | AF30: =SUM(AB30:AE30) -> 1723.82 | AG30: 0 | AH30: 204.68 | AI30: 1244.81 | AJ30: 1065.26 | AK30: =SUM(AG30:AJ30) -> 2514.75 | AL30: 845.65 | AM30: 0 | AN30: 416.67 | AO30: 2017.97 | AP30: 3280.29 | AQ30: 448.07 | AR30: 0 | AS30: 3146.7043 | AT30: 0 | AU30: 3594.7743 | AV30: 0 | AW30: 0 | AX30: 312.71429 | AY30: 1073.4
B31: NEPAL | C31: n/a | D31: n/a | E31: n/a | F31: n/a | G31: n/a | H31: 0 | I31: 0 | J31: 0 | K31: 0 | L31: =SUM(H31:K31) -> 0 | M31: 0 | N31: 0 | O31: 0 | P31: 0 | Q31: =SUM(M31:P31) -> 0 | R31: 0 | S31: 145.5 | T31: 1639.76 | U31: 2840.8 | V31: =SUM(R31:U31) -> 4626.06 | W31: 9668.33 | X31: 145.5 | Y31: 3260.42 | Z31: 1755.7 | AA31: =SUM(W31:Z31) -> 14829.95 | AB31: 2716 | AC31: 1309.5 | AD31: 3065.2 | AE31: 5003.41 | AF31: =SUM(AB31:AE31) -> 12094.11 | AG31: 388 | AH31: 1195.32 | AI31: 0 | AJ31: 0 | AK31: =SUM(AG31:AJ31) -> 1583.32 | AL31: 0 | AM31: 0 | AN31: 0 | AO31: 0 | AP31: 0 | AQ31: 0 | AR31: 5289.38 | AS31: 0 | AT31: 7561.13 | AU31: 12850.51 | AV31: 4391.3198 | AW31: 2395.9 | AX31: 1212.5 | AY31: 0
B32: PERU | C32: n/a | D32: n/a | E32: n/a | F32: n/a | G32: n/a | H32: 2311 | I32: 2854.83 | J32: 0 | K32: 500 | L32: =SUM(H32:K32) -> 5665.83 | M32: 6928.75 | N32: 2790.79 | O32: 1000 | P32: 4535.3 | Q32: =SUM(M32:P32) -> 15254.84 | R32: 776 | S32: 300 | T32: 0 | U32: 0 | V32: =SUM(R32:U32) -> 1076 | W32: 300 | X32: 0 | Y32: 0 | Z32: 0 | AA32: =SUM(W32:Z32) -> 300 | AB32: 0 | AC32: 0 | AD32: 0 | AE32: 0 | AF32: =SUM(AB32:AE32) -> 0 | AG32: 0 | AH32: 0 | AI32: 514.58 | AJ32: 485 | AK32: =SUM(AG32:AJ32) -> 999.58 | AL32: 1226.19 | AM32: 1733.02 | AN32: 4413.11 | AO32: 4268.73 | AP32: 11641.05 | AQ32: 2463.8 | AR32: 1331.81 | AS32: 2953.44 | AT32: 577.15 | AU32: 7326.2 | AV32: 162.96005 | AW32: 2517.44 | AX32: 97 | AY32: 3998.3
B33: ZIMBABWE | C33: n/a | D33: n/a | E33: n/a | F33: n/a | G33: n/a | H33: 776 | I33: 620.8 | J33: 0 | K33: 0 | L33: =SUM(H33:K33) -> 1396.8 | M33: 0 | N33: 1066.04 | O33: 0 | P33: 0 | Q33: =SUM(M33:P33) -> 1066.04 | R33: 38.8 | S33: 34.52 | T33: 1404.45 | U33: 575.47 | V33: =SUM(R33:U33) -> 2053.24 | W33: 2045.75 | X33: 1208.09 | Y33: 502.54 | Z33: 2073.72 | AA33: =SUM(W33:Z33) -> 5830.1 | AB33: 765.33 | AC33: 442.15 | AD33: 2232.64 | AE33: 176.88 | AF33: =SUM(AB33:AE33) -> 3617 | AG33: 1354.18 | AH33: 119.43 | AI33: 0 | AJ33: 0 | AK33: =SUM(AG33:AJ33) -> 1473.61 | AL33: 929.26 | AM33: 485 | AN33: 929.25 | AO33: 97 | AP33: 2440.51 | AQ33: 2311.92 | AR33: 3399.43 | AS33: 0 | AT33: 1173.62 | AU33: 6884.97 | AV33: 83 | AW33: 511.01381 | AX33: 420 | AY33: 3673.71
B34: OTHER | C34: 1347765 | D34: 1009527 | E34: 782515 | F34: 608091 | G34: 1027951.8 | H34: 241134 | I34: 342980.69 | J34: 436575.87 | K34: 391292.59 | L34: =SUM(H34:K34) -> 1411983.1 | M34: 347938.15 | N34: 384084.89 | O34: 372861 | P34: 393038.61 | Q34: =SUM(M34:P34) -> 1497922.6 | R34: 353974.61 | S34: 434665.32 | T34: 458998.93 | U34: 477910.79 | V34: =SUM(R34:U34) -> 1725549.6 | W34: 406674.74 | X34: 188053.65 | Y34: 337698.3 | Z34: 269113.02 | AA34: =SUM(W34:Z34) -> 1201539.7 | AB34: 259086.66 | AC34: 363657.92 | AD34: 355979.26 | AE34: 423489.44 | AF34: =SUM(AB34:AE34) -> 1402213.3 | AG34: 444420.45 | AH34: 273988.69 | AI34: 285685.81 | AJ34: 296259.99 | AK34: =SUM(AG34:AJ34) -> 1300354.9 | AL34: 260524.91 | AM34: 263656.2 | AN34: 326198.72 | AO34: 261306.36 | AP34: 1111686.2 | AQ34: 375825.1 | AR34: 349145.62 | AS34: 329108.34 | AT34: 299798.3 | AU34: 1353877.4 | AV34: 319580.54 | AW34: 368409.87 | AX34: 348200.34 | AY34: 414623.33
B35: VALUE IN US$ | C35: =SUM(C11:C34) -> 5882706 | D35: =SUM(D11:D34) -> 7201859 | E35: =SUM(E11:E34) -> 6486412.1 | F35: =SUM(F11:F34) -> 6073011 | G35: =SUM(G11:G34) -> 6531966.2 | H35: =SUM(H11:H34) -> 1686807 | I35: =SUM(I11:I34) -> 1888627.8 | J35: =SUM(J11:J34) -> 2090949.6 | ... AG35: =SUM(AG11:AG34) -> 2335170.5 | AH35: 2381724.9 | AI35: 2605187 | AJ35: 2650456.6 | AK35: =SUM(AG35:AJ35) -> 9972539 | AL35: 2402227.6 | AM35: 2393374.3 | AN35: 2654797.5 | AO35: 2473121 | AP35: 9923520.4 | AQ35: 2419087.4 | AR35: 2456751.4 | AS35: 2494321.1 | AT35: 2392508.8 | AU35: 9762668.7 | AV35: 1954712.3 | AW35: 2371960.8 | AX35: 2385893.4 | AY35: 2312842.8
B36: * aggregated information does not include one reporting entity.
B37: n/a - data not collected
B38: Source: Money Service Providers (MSP's) licensed by Cayman Islands Monetary Authority (CIMA).

Sheet Trans OUTFLOWS
B2: CAYMAN ISLANDS REMITTANCE REPORT BY NUMBER OF TRANSACTIONS, BY COUNTRY & VALUE (in US$)
B3: (Workers' remittances transmitted by the remittance companies licensed as Money Service Providers)
B4: REMITTANCE OUTFLOWS BY TRANSACTIONS, COUNTRY, VALUE (Actual Amounts)
B5: Transactions (more than) > CI$500
B6: COUNTRY | C6: Year 2012 | D6: Year 2013 | E6: Year 2014* | F6: Year 2015 | G6: Year 2016 | H6: 2017Q1 | I6: 2017Q2 | J6: 2017Q3 | K6: 2017Q4 | L6: Year 2017 | M6: 2018Q1 | N6: 2018Q2 | O6: 2018Q3 | P6: 2018Q4 | Q6: Year 2018 | R6: 2019Q1 | S6: 2019Q2 | T6: 2019Q3 | U6: 2019Q4 | V6: Year 2019 | W6: 2020Q1 | X6: 2020Q2 | Y6: 2020Q3 | Z6: 2020Q4 | AA6: Year 2020 | AB6: 2021Q1 | AC6: 2021Q2 | AD6: 2021Q3 | AE6: 2021Q4 | AF6: Year 2021 | AG6: 2022Q1 | AH6: 2022Q2 | AI6: 2022Q3 | AJ6: 2022Q4 | AK6: Year 2022 | AL6: 2023Q1 | AM6: 2023Q2 | AN6: 2023Q3 | AO6: 2023Q4 | AP6: Year 2023 | AQ6: 2024Q1 | AR6: 2024Q2 | AS6: 2024Q3 | AT6: 2024Q4 | AU6: Year 2024 | AV6: 2025Q1 | AW6: 2025Q2 | AX6: 2025Q3 | AY6: 2025Q4
B7: JAMAICA | C7: 39235 | D7: 35978 | E7: 33756 | F7: 33069 | G7: 40565 | H7: 10156 | I7: 10830 | J7: 11424 | K7: 12447 | L7: =SUM(H7:K7) -> 44857 | M7: 11296 | N7: 12035 | O7: 12647 | P7: 10825 | Q7: =SUM(M7:P7) -> 46803 | R7: 12644 | S7: 13363 | T7: 13916 | U7: 16461 | V7: =SUM(R7:U7) -> 56384 | W7: 12980 | X7: 11069 | Y7: 24063 | Z7: 18067 | AA7: =SUM(W7:Z7) -> 66179 | AB7: 16872 | AC7: 16860 | AD7: 16057 | AE7: 19282 | AF7: =SUM(AB7:AE7) -> 69071 | AG7: 16683 | AH7: 18734 | AI7: 18428 | AJ7: 20810 | AK7: =SUM(AG7:AJ7) -> 74655 | AL7: 17677 | AM7: 19249 | AN7: 19103 | AO7: 22165 | AP7: 78194 | AQ7: 20519 | AR7: 21087 | AS7: 20320 | AT7: 23569 | AU7: 85495 | AV7: 21552 | AW7: 22870 | AX7: 22131 | AY7: 24028
B8: HONDURAS | C8: 3444 | D8: 3293 | E8: 3712 | F8: 5374 | G8: 4321 | H8: 1149 | I8: 1161 | J8: 1154 | K8: 1244 | L8: =SUM(H8:K8) -> 4708 | M8: 1245 | N8: 1346 | O8: 1421 | P8: 1414 | Q8: =SUM(M8:P8) -> 5426 | R8: 1160 | S8: 1155 | T8: 1193 | U8: 1345 | V8: =SUM(R8:U8) -> 4853 | W8: 1065 | X8: 792 | Y8: 1952 | Z8: 1638 | AA8: =SUM(W8:Z8) -> 5447 | AB8: 1643 | AC8: 1624 | AD8: 1635 | AE8: 1781 | AF8: =SUM(AB8:AE8) -> 6683 | AG8: 1519 | AH8: 1802 | AI8: 1858 | AJ8: 1742 | AK8: =SUM(AG8:AJ8) -> 6921 | AL8: 1861 | AM8: 2141 | AN8: 2122 | AO8: 2222 | AP8: 8346 | AQ8: 2228 | AR8: 2256 | AS8: 2377 | AT8: 2521 | AU8: 9382 | AV8: 2585 | AW8: 2716 | AX8: 2694 | AY8: 2622
B9: PHILIPPINES | C9: 7916 | D9: 8121 | E9: 9527 | F9: 11827 | G9: 13200 | H9: 3565 | I9: 3810 | J9: 3719 | K9: 4191 | L9: =SUM(H9:K9) -> 15285 | M9: 4552 | N9: 4687 | O9: 4330 | P9: 4933 | Q9: =SUM(M9:P9) -> 18502 | R9: 5196 | S9: 5447 | T9: 5255 | U9: 6134 | V9: =SUM(R9:U9) -> 22032 | W9: 5962 | X9: 3356 | Y9: 7016 | Z9: 6070 | AA9: =SUM(W9:Z9) -> 22404 | AB9: 5988 | AC9: 6016 | AD9: 6031 | AE9: 6411 | AF9: =SUM(AB9:AE9) -> 24446 | AG9: 6131 | AH9: 6522 | AI9: 6669 | AJ9: 6807 | AK9: =SUM(AG9:AJ9) -> 26129 | AL9: 6930 | AM9: 6965 | AN9: 6618 | AO9: 6774 | AP9: 27287 | AQ9: 6478 | AR9: 6528 | AS9: 6110 | AT9: 6793 | AU9: 25909 | AV9: 6558 | AW9: 6856 | AX9: 6764 | AY9: 7080
B10: DOMINICAN REPUBLIC | C10: 8993 | D10: 1011 | E10: 1218 | F10: 1098 | G10: 1610 | H10: 483 | I10: 528 | J10: 506 | K10: 517 | L10: =SUM(H10:K10) -> 2034 | M10: 567 | N10: 627 | O10: 536 | P10: 609 | Q10: =SUM(M10:P10) -> 2339 | R10: 593 | S10: 561 | T10: 579 | U10: 665 | V10: =SUM(R10:U10) -> 2398 | W10: 528 | X10: 246 | Y10: 732 | Z10: 653 | AA10: =SUM(W10:Z10) -> 2159 | AB10: 590 | AC10: 606 | AD10: 644 | AE10: 657 | AF10: =SUM(AB10:AE10) -> 2497 | AG10: 686 | AH10: 753 | AI10: 714 | AJ10: 794 | AK10: =SUM(AG10:AJ10) -> 2947 | AL10: 802 | AM10: 832 | AN10: 777 | AO10: 878 | AP10: 3289 | AQ10: 887 | AR10: 1032 | AS10: 974 | AT10: 1059 | AU10: 3952 | AV10: 1088 | AW10: 1094 | AX10: 1171 | AY10: 1307
B11: NICARAGUA | C11: 954 | D11: 983 | E11: 952 | F11: 2661 | G11: 1279 | H11: 303 | I11: 331 | J11: 321 | K11: 328 | L11: =SUM(H11:K11) -> 1283 | M11: 357 | N11: 386 | O11: 351 | P11: 381 | Q11: =SUM(M11:P11) -> 1475 | R11: 394 | S11: 406 | T11: 328 | U11: 397 | V11: =SUM(R11:U11) -> 1525 | W11: 408 | X11: 312 | Y11: 663 | Z11: 539 | AA11: =SUM(W11:Z11) -> 1922 | AB11: 516 | AC11: 399 | AD11: 387 | AE11: 404 | AF11: =SUM(AB11:AE11) -> 1706 | AG11: 426 | AH11: 508 | AI11: 510 | AJ11: 539 | AK11: =SUM(AG11:AJ11) -> 1983 | AL11: 653 | AM11: 708 | AN11: 686 | AO11: 761 | AP11: 2808 | AQ11: 910 | AR11: 983 | AS11: 768 | AT11: 825 | AU11: 3486 | AV11: 1051 | AW11: 1059 | AX11: 897 | AY11: 1084
B12: COLOMBIA | C12: 1268 | D12: 1178 | E12: 913 | F12: 1546 | G12: 990 | H12: 236 | I12: 350 | J12: 233 | K12: 323 | L12: =SUM(H12:K12) -> 1142 | M12: 341 | N12: 300 | O12: 280 | P12: 428 | Q12: =SUM(M12:P12) -> 1349 | R12: 400 | S12: 323 | T12: 272 | U12: 299 | V12: =SUM(R12:U12) -> 1294 | W12: 339 | X12: 185 | Y12: 404 | Z12: 343 | AA12: =SUM(W12:Z12) -> 1271 | AB12: 274 | AC12: 246 | AD12: 264 | AE12: 287 | AF12: =SUM(AB12:AE12) -> 1071 | AG12: 294 | AH12: 292 | AI12: 314 | AJ12: 316 | AK12: =SUM(AG12:AJ12) -> 1216 | AL12: 286 | AM12: 296 | AN12: 334 | AO12: 325 | AP12: 1241 | AQ12: 296 | AR12: 293 | AS12: 316 | AT12: 417 | AU12: 1322 | AV12: 379 | AW12: 434 | AX12: 387 | AY12: 453
B13: GUYANA | C13: 503 | D13: 517 | E13: 555 | F13: 1068 | G13: 435 | H13: 97 | I13: 73 | J13: 84 | K13: 110 | L13: =SUM(H13:K13) -> 364 | M13: 98 | N13: 110 | O13: 101 | P13: 131 | Q13: =SUM(M13:P13) -> 440 | R13: 99 | S13: 92 | T13: 70 | U13: 156 | V13: =SUM(R13:U13) -> 417 | W13: 131 | X13: 142 | Y13: 268 | Z13: 234 | AA13: =SUM(W13:Z13) -> 775 | AB13: 204 | AC13: 199 | AD13: 159 | AE13: 225 | AF13: =SUM(AB13:AE13) -> 787 | AG13: 219 | AH13: 200 | AI13: 168 | AJ13: 198 | AK13: =SUM(AG13:AJ13) -> 785 | AL13: 170 | AM13: 219 | AN13: 201 | AO13: 226 | AP13: 816 | AQ13: 210 | AR13: 198 | AS13: 189 | AT13: 227 | AU13: 824 | AV13: 195 | AW13: 184 | AX13: 157 | AY13: 175
B14: TRINIDAD & TOBAGO | C14: 172 | D14: 133 | E14: 155 | F14: 189 | G14: 128 | H14: 41 | I14: 42 | J14: 36 | K14: 46 | L14: =SUM(H14:K14) -> 165 | M14: 29 | N14: 29 | O14: 32 | P14: 25 | Q14: =SUM(M14:P14) -> 115 | R14: 22 | S14: 30 | T14: 15 | U14: 25 | V14: =SUM(R14:U14) -> 92 | W14: 19 | X14: 16 | Y14: 31 | Z14: 46 | AA14: =SUM(W14:Z14) -> 112 | AB14: 30 | AC14: 26 | AD14: 32 | AE14: 28 | AF14: =SUM(AB14:AE14) -> 116 | AG14: 24 | AH14: 26 | AI14: 24 | AJ14: 22 | AK14: =SUM(AG14:AJ14) -> 96 | AL14: 31 | AM14: 35 | AN14: 28 | AO14: 49 | AP14: 143 | AQ14: 31 | AR14: 32 | AS14: 72 | AT14: 47 | AU14: 182 | AV14: 82 | AW14: 63 | AX14: 45 | AY14: 54
B15: INDIA | C15: 393 | D15: 362 | E15: 422 | F15: 541 | G15: 448 | H15: 143 | I15: 167 | J15: 141 | K15: 169 | L15: =SUM(H15:K15) -> 620 | M15: 230 | N15: 252 | O15: 222 | P15: 305 | Q15: =SUM(M15:P15) -> 1009 | R15: 328 | S15: 337 | T15: 299 | U15: 346 | V15: =SUM(R15:U15) -> 1310 | W15: 310 | X15: 140 | Y15: 236 | Z15: 241 | AA15: =SUM(W15:Z15) -> 927 | AB15: 225 | AC15: 179 | AD15: 161 | AE15: 209 | AF15: =SUM(AB15:AE15) -> 774 | AG15: 212 | AH15: 223 | AI15: 225 | AJ15: 228 | AK15: =SUM(AG15:AJ15) -> 888 | AL15: 213 | AM15: 173 | AN15: 131 | AO15: 136 | AP15: 653 | AQ15: 129 | AR15: 101 | AS15: 86 | AT15: 98 | AU15: 414 | AV15: 73 | AW15: 95 | AX15: 86 | AY15: 82
B16: UNITED KINGDOM | C16: 261 | D16: 256 | E16: 358 | F16: 533 | G16: 348 | H16: 115 | I16: 114 | J16: 103 | K16: 98 | L16: =SUM(H16:K16) -> 430 | M16: 74 | N16: 97 | O16: 110 | P16: 112 | Q16: =SUM(M16:P16) -> 393 | R16: 116 | S16: 104 | T16: 82 | U16: 109 | V16: =SUM(R16:U16) -> 411 | W16: 102 | X16: 41 | Y16: 93 | Z16: 99 | AA16: =SUM(W16:Z16) -> 335 | AB16: 75 | AC16: 89 | AD16: 97 | AE16: 91 | AF16: =SUM(AB16:AE16) -> 352 | AG16: 81 | AH16: 106 | AI16: 105 | AJ16: 92 | AK16: =SUM(AG16:AJ16) -> 384 | AL16: 98 | AM16: 119 | AN16: 116 | AO16: 125 | AP16: 458 | AQ16: 108 | AR16: 101 | AS16: 97 | AT16: 143 | AU16: 449 | AV16: 100 | AW16: 123 | AX16: 144 | AY16: 133
B17: UNITED STATES | C17: 3641 | D17: 3280 | E17: 4529 | F17: 4228 | G17: 4275 | H17: 1153 | I17: 1201 | J17: 1244 | K17: 1291 | L17: =SUM(H17:K17) -> 4889 | M17: 1162 | N17: 1264 | O17: 1245 | P17: 1359 | Q17: =SUM(M17:P17) -> 5030 | R17: 1210 | S17: 1241 | T17: 1420 | U17: 1474 | V17: =SUM(R17:U17) -> 5345 | W17: 1163 | X17: 573 | Y17: 1523 | Z17: 1575 | AA17: =SUM(W17:Z17) -> 4834 | AB17: 1305 | AC17: 1297 | AD17: 1412 | AE17: 1587 | AF17: =SUM(AB17:AE17) -> 5601 | AG17: 1269 | AH17: 1471 | AI17: 1506 | AJ17: 1569 | AK17: =SUM(AG17:AJ17) -> 5815 | AL17: 1383 | AM17: 1453 | AN17: 1561 | AO17: 1645 | AP17: 6042 | AQ17: 1483 | AR17: 1516 | AS17: 1673 | AT17: 1787 | AU17: 6459 | AV17: 1615 | AW17: 1680 | AX17: 1651 | AY17: 1679
B18: CANADA | C18: n/a | D18: 304 | E18: 404 | F18: 503 | G18: 568 | H18: 159 | I18: 178 | J18: 185 | K18: 180 | L18: =SUM(H18:K18) -> 702 | M18: 179 | N18: 152 | O18: 159 | P18: 165 | Q18: =SUM(M18:P18) -> 655 | R18: 162 | S18: 184 | T18: 166 | U18: 201 | V18: =SUM(R18:U18) -> 713 | W18: 203 | X18: 57 | Y18: 172 | Z18: 200 | AA18: =SUM(W18:Z18) -> 632 | AB18: 185 | AC18: 149 | AD18: 175 | AE18: 208 | AF18: =SUM(AB18:AE18) -> 717 | AG18: 203 | AH18: 192 | AI18: 201 | AJ18: 223 | AK18: =SUM(AG18:AJ18) -> 819 | AL18: 184 | AM18: 182 | AN18: 213 | AO18: 258 | AP18: 837 | AQ18: 245 | AR18: 264 | AS18: 258 | AT18: 289 | AU18: 1056 | AV18: 245 | AW18: 251 | AX18: 237 | AY18: 235
B19: COSTA RICA | C19: n/a | D19: 349 | E19: 242 | F19: 190 | G19: 370 | H19: 112 | I19: 114 | J19: 91 | K19: 97 | L19: =SUM(H19:K19) -> 414 | M19: 95 | N19: 107 | O19: 132 | P19: 140 | Q19: =SUM(M19:P19) -> 474 | R19: 113 | S19: 108 | T19: 108 | U19: 130 | V19: =SUM(R19:U19) -> 459 | W19: 145 | X19: 77 | Y19: 151 | Z19: 133 | AA19: =SUM(W19:Z19) -> 506 | AB19: 110 | AC19: 81 | AD19: 92 | AE19: 107 | AF19: =SUM(AB19:AE19) -> 390 | AG19: 75 | AH19: 82 | AI19: 87 | AJ19: 100 | AK19: =SUM(AG19:AJ19) -> 344 | AL19: 98 | AM19: 112 | AN19: 121 | AO19: 99 | AP19: 430 | AQ19: 115 | AR19: 144 | AS19: 131 | AT19: 124 | AU19: 514 | AV19: 137 | AW19: 136 | AX19: 114 | AY19: 142
B20: BARBADOS | C20: n/a | D20: 110 | E20: 102 | F20: 126 | G20: 93 | H20: 28 | I20: 38 | J20: 18 | K20: 25 | L20: =SUM(H20:K20) -> 109 | M20: 29 | N20: 27 | O20: 19 | P20: 33 | Q20: =SUM(M20:P20) -> 108 | R20: 36 | S20: 48 | T20: 38 | U20: 39 | V20: =SUM(R20:U20) -> 161 | W20: 35 | X20: 17 | Y20: 22 | Z20: 25 | AA20: =SUM(W20:Z20) -> 99 | AB20: 20 | AC20: 31 | AD20: 32 | AE20: 38 | AF20: =SUM(AB20:AE20) -> 121 | AG20: 26 | AH20: 25 | AI20: 44 | AJ20: 35 | AK20: =SUM(AG20:AJ20) -> 130 | AL20: 31 | AM20: 26 | AN20: 32 | AO20: 28 | AP20: 117 | AQ20: 29 | AR20: 30 | AS20: 40 | AT20: 33 | AU20: 132 | AV20: 36 | AW20: 34 | AX20: 42 | AY20: 47
B21: PANAMA | C21: n/a | D21: 97 | E21: 101 | F21: 84 | G21: 124 | H21: 54 | I21: 42 | J21: 25 | K21: 51 | L21: =SUM(H21:K21) -> 172 | M21: 34 | N21: 32 | O21: 24 | P21: 49 | Q21: =SUM(M21:P21) -> 139 | R21: 34 | S21: 36 | T21: 22 | U21: 38 | V21: =SUM(R21:U21) -> 130 | W21: 10 | X21: 14 | Y21: 31 | Z21: 16 | AA21: =SUM(W21:Z21) -> 71 | AB21: 19 | AC21: 12 | AD21: 11 | AE21: 20 | AF21: =SUM(AB21:AE21) -> 62 | AG21: 14 | AH21: 21 | AI21: 32 | AJ21: 29 | AK21: =SUM(AG21:AJ21) -> 96 | AL21: 27 | AM21: 22 | AN21: 22 | AO21: 31 | AP21: 102 | AQ21: 31 | AR21: 33 | AS21: 24 | AT21: 34 | AU21: 122 | AV21: 42 | AW21: 65 | AX21: 55 | AY21: 59
B22: BELIZE | C22: n/a | D22: n/a | E22: n/a | F22: n/a | G22: n/a | H22: 119 | I22: 39 | J22: 44 | K22: 57 | L22: =SUM(H22:K22) -> 259 | M22: 59 | N22: 47 | O22: 39 | P22: 40 | Q22: =SUM(M22:P22) -> 185 | R22: 36 | S22: 30 | T22: 27 | U22: 31 | V22: =SUM(R22:U22) -> 124 | W22: 33 | X22: 22 | Y22: 55 | Z22: 46 | AA22: =SUM(W22:Z22) -> 156 | AB22: 31 | AC22: 39 | AD22: 31 | AE22: 121 | AF22: =SUM(AB22:AE22) -> 222 | AG22: 51 | AH22: 56 | AI22: 42 | AJ22: 60 | AK22: =SUM(AG22:AJ22) -> 209 | AL22: 46 | AM22: 53 | AN22: 41 | AO22: 53 | AP22: 193 | AQ22: 49 | AR22: 33 | AS22: 57 | AT22: 54 | AU22: 193 | AV22: 49 | AW22: 51 | AX22: 35 | AY22: 38
B23: CHINA | C23: n/a | D23: n/a | E23: n/a | F23: n/a | G23: n/a | H23: 46 | I23: 26 | J23: 46 | K23: 63 | L23: =SUM(H23:K23) -> 181 | M23: 33 | N23: 55 | O23: 32 | P23: 39 | Q23: =SUM(M23:P23) -> 159 | R23: 35 | S23: 42 | T23: 26 | U23: 16 | V23: =SUM(R23:U23) -> 119 | W23: 12 | X23: 8 | Y23: 37 | Z23: 40 | AA23: =SUM(W23:Z23) -> 97 | AB23: 46 | AC23: 28 | AD23: 22 | AE23: 27 | AF23: =SUM(AB23:AE23) -> 123 | AG23: 22 | AH23: 11 | AI23: 21 | AJ23: 26 | AK23: =SUM(AG23:AJ23) -> 80 | AL23: 20 | AM23: 23 | AN23: 25 | AO23: 21 | AP23: 89 | AQ23: 27 | AR23: 24 | AS23: 10 | AT23: 17 | AU23: 78 | AV23: 14 | AW23: 21 | AX23: 24 | AY23: 25
B24: CUBA | C24: n/a | D24: n/a | E24: n/a | F24: n/a | G24: n/a | H24: 115 | I24: 82 | J24: 77 | K24: 63 | L24: =SUM(H24:K24) -> 337 | M24: 109 | N24: 94 | O24: 115 | P24: 122 | Q24: =SUM(M24:P24) -> 440 | R24: 150 | S24: 155 | T24: 139 | U24: 76 | V24: =SUM(R24:U24) -> 520 | W24: 28 | X24: 0 | Y24: 0 | Z24: 0 | AA24: =SUM(W24:Z24) -> 28 | AB24: 0 | AC24: 0 | AD24: 0 | AE24: 0 | AF24: =SUM(AB24:AE24) -> 0 | AG24: 0 | AH24: 0 | AI24: 0 | AJ24: 0 | AK24: =SUM(AG24:AJ24) -> 0 | AL24: 0 | AM24: 0 | AN24: 0 | AO24: 0 | AP24: 0 | AQ24: 0 | AR24: 0 | AS24: 0 | AT24: 0 | AU24: 0 | AV24: 0 | AW24: 0 | AX24: 0 | AY24: 0
B25: KENYA | C25: n/a | D25: n/a | E25: n/a | F25: n/a | G25: n/a | H25: 110 | I25: 57 | J25: 58 | K25: 39 | L25: =SUM(H25:K25) -> 264 | M25: 58 | N25: 70 | O25: 62 | P25: 54 | Q25: =SUM(M25:P25) -> 244 | R25: 93 | S25: 78 | T25: 63 | U25: 78 | V25: =SUM(R25:U25) -> 312 | W25: 79 | X25: 25 | Y25: 54 | Z25: 33 | AA25: =SUM(W25:Z25) -> 191 | AB25: 44 | AC25: 31 | AD25: 53 | AE25: 67 | AF25: =SUM(AB25:AE25) -> 195 | AG25: 59 | AH25: 72 | AI25: 65 | AJ25: 81 | AK25: =SUM(AG25:AJ25) -> 277 | AL25: 95 | AM25: 70 | AN25: 29 | AO25: 31 | AP25: 225 | AQ25: 18 | AR25: 14 | AS25: 9 | AT25: 21 | AU25: 62 | AV25: 19 | AW25: 31 | AX25: 33 | AY25: 22
B26: MEXICO | C26: n/a | D26: n/a | E26: n/a | F26: n/a | G26: n/a | H26: 160 | I26: 98 | J26: 95 | K26: 108 | L26: =SUM(H26:K26) -> 461 | M26: 103 | N26: 131 | O26: 87 | P26: 115 | Q26: =SUM(M26:P26) -> 436 | R26: 150 | S26: 179 | T26: 120 | U26: 130 | V26: =SUM(R26:U26) -> 579 | W26: 170 | X26: 31 | Y26: 105 | Z26: 115 | AA26: =SUM(W26:Z26) -> 421 | AB26: 134 | AC26: 91 | AD26: 109 | AE26: 147 | AF26: =SUM(AB26:AE26) -> 481 | AG26: 142 | AH26: 136 | AI26: 125 | AJ26: 185 | AK26: =SUM(AG26:AJ26) -> 588 | AL26: 159 | AM26: 145 | AN26: 158 | AO26: 149 | AP26: 611 | AQ26: 103 | AR26: 90 | AS26: 110 | AT26: 75 | AU26: 378 | AV26: 82 | AW26: 68 | AX26: 83 | AY26: 121
B27: NEPAL | C27: n/a | D27: n/a | E27: n/a | F27: n/a | G27: n/a | H27: 58 | I27: 83 | J27: 93 | K27: 113 | L27: =SUM(H27:K27) -> 347 | M27: 229 | N27: 256 | O27: 259 | P27: 292 | Q27: =SUM(M27:P27) -> 1036 | R27: 314 | S27: 268 | T27: 209 | U27: 207 | V27: =SUM(R27:U27) -> 998 | W27: 258 | X27: 104 | Y27: 202 | Z27: 170 | AA27: =SUM(W27:Z27) -> 734 | AB27: 187 | AC27: 182 | AD27: 189 | AE27: 174 | AF27: =SUM(AB27:AE27) -> 732 | AG27: 157 | AH27: 222 | AI27: 213 | AJ27: 259 | AK27: =SUM(AG27:AJ27) -> 851 | AL27: 369 | AM27: 300 | AN27: 187 | AO27: 149 | AP27: 1005 | AQ27: 180 | AR27: 159 | AS27: 121 | AT27: 111 | AU27: 571 | AV27: 184 | AW27: 178 | AX27: 147 | AY27: 169
B28: PERU | C28: n/a | D28: n/a | E28: n/a | F28: n/a | G28: n/a | H28: 62 | I28: 54 | J28: 42 | K28: 50 | L28: =SUM(H28:K28) -> 208 | M28: 66 | N28: 65 | O28: 65 | P28: 59 | Q28: =SUM(M28:P28) -> 255 | R28: 74 | S28: 79 | T28: 75 | U28: 67 | V28: =SUM(R28:U28) -> 295 | W28: 92 | X28: 19 | Y28: 54 | Z28: 57 | AA28: =SUM(W28:Z28) -> 222 | AB28: 33 | AC28: 51 | AD28: 40 | AE28: 50 | AF28: =SUM(AB28:AE28) -> 174 | AG28: 41 | AH28: 52 | AI28: 90 | AJ28: 96 | AK28: =SUM(AG28:AJ28) -> 279 | AL28: 84 | AM28: 76 | AN28: 69 | AO28: 95 | AP28: 324 | AQ28: 100 | AR28: 112 | AS28: 102 | AT28: 100 | AU28: 414 | AV28: 118 | AW28: 106 | AX28: 105 | AY28: 121
B29: ZIMBABWE | C29: n/a | D29: n/a | E29: n/a | F29: n/a | G29: n/a | H29: 51 | I29: 22 | J29: 16 | K29: 20 | L29: =SUM(H29:K29) -> 109 | M29: 22 | N29: 16 | O29: 16 | P29: 25 | Q29: =SUM(M29:P29) -> 79 | R29: 20 | S29: 29 | T29: 24 | U29: 28 | V29: =SUM(R29:U29) -> 101 | W29: 25 | X29: 21 | Y29: 44 | Z29: 40 | AA29: =SUM(W29:Z29) -> 130 | AB29: 31 | AC29: 39 | AD29: 33 | AE29: 33 | AF29: =SUM(AB29:AE29) -> 136 | AG29: 28 | AH29: 36 | AI29: 60 | AJ29: 74 | AK29: =SUM(AG29:AJ29) -> 198 | AL29: 54 | AM29: 70 | AN29: 59 | AO29: 56 | AP29: 239 | AQ29: 72 | AR29: 74 | AS29: 75 | AT29: 112 | AU29: 333 | AV29: 145 | AW29: 150 | AX29: 150 | AY29: 159
B30: OTHER | C30: 4524 | D30: 3476 | E30: 3351 | F30: 9782 | G30: 4209 | H30: 814 | I30: 755 | J30: 799 | K30: 738 | L30: =SUM(H30:K30) -> 3106 | M30: 904 | N30: 848 | O30: 778 | P30: 849 | Q30: =SUM(M30:P30) -> 3379 | R30: 860 | S30: 692 | T30: 764 | U30: 910 | V30: =SUM(R30:U30) -> 3226 | W30: 875 | X30: 372 | Y30: 918 | Z30: 722 | AA30: =SUM(W30:Z30) -> 2887 | AB30: 676 | AC30: 652 | AD30: 662 | AE30: 593 | AF30: =SUM(AB30:AE30) -> 2583 | AG30: 555 | AH30: 595 | AI30: 591 | AJ30: 818 | AK30: =SUM(AG30:AJ30) -> 2559 | AL30: 765 | AM30: 773 | AN30: 638 | AO30: 657 | AP30: 2833 | AQ30: 820 | AR30: 701 | AS30: 667 | AT30: 709 | AU30: 2897 | AV30: 870 | AW30: 890 | AX30: 714 | AY30: 769
B31: TOTAL TRANSACTIONS | C31: =SUM(C7:C30) -> 71304 | D31: =SUM(D7:D30) -> 59448 | E31: =SUM(E7:E30) -> 60297 | F31: =SUM(F7:F30) -> 72819 | G31: =SUM(G7:G30) -> 72963 | H31: =SUM(H7:H30) -> 19329 | I31: =SUM(I7:I30) -> 20195 | J31: =SUM(J7:J30) -> 20554 | ... AE31: =SUM(AE7:AE30) -> 32547 | AF31: =SUM(AB31:AE31) -> 119040 | AG31: =SUM(AG7:AG30) -> 28917 | AH31: =SUM(AH7:AH30) -> 32137 | AI31: =SUM(AI7:AI30) -> 32092 | AJ31: =SUM(AJ7:AJ30) -> 35103 | AK31: =SUM(AG31:AJ31) -> 128249 | AL31: =SUM(AL7:AL30) -> 32036 | AM31: 34042 | AN31: 33271 | AO31: 36933 | AP31: 136282 | AQ31: 35068 | AR31: 35805 | AS31: 34586 | AT31: 39165 | AU31: 144624 | AV31: 37219 | AW31: 39155 | AX31: 37866 | AY31: 40604
B32: VALUE IN US$ (>CI$500) | C32: 72868981 | D32: 68247854 | E32: 72605020 | F32: 66255359 | G32: 81913238 | H32: 21306641 | I32: 22683575 | J32: 23146791 | K32: 25258106 | L32: =SUM(H32:K32) -> 92395113 | M32: 24703417 | N32: 26202088 | O32: 26438638 | P32: 25391993 | Q32: =SUM(M32:P32) -> 1.0273614e+08 | R32: 27663462 | S32: 27663462 | T32: 28754640 | U32: 33460019 | V32: =SUM(R32:U32) -> 1.1754158e+08 | W32: 28733529 | X32: 21947553 | Y32: 49588920 | Z32: 36559916 | AA32: =SUM(W32:Z32) -> 1.3682992e+08 | AB32: 34067889 | AC32: 39829588 | AD32: 33299629 | AE32: 38542029 | AF32: =SUM(AB32:AE32) -> 1.4573914e+08 | AG32: 34623546 | AH32: 38059607 | AI32: 38196387 | AJ32: 41540120 | AK32: =SUM(AG32:AJ32) -> 1.5241966e+08 | AL32: 38160145 | AM32: 40086884 | AN32: 38847823 | AO32: 43097326 | AP32: 1.6019218e+08 | AQ32: 41186695 | AR32: 42405184 | AS32: 40933534 | AT32: 43940731 | AU32: 1.6846614e+08 | AV32: 41959383 | AW32: 47864972 | AX32: 45590582 | AY32: 50103909
B34: REMITTANCE OUTFLOWS BY TRANSACTIONS, COUNTRY, VALUE (Actual Amounts)
B35: Transactions (less than) < CI$500
B36: COUNTRY | C36: Year 2012 | D36: Year 2013 | E36: Year 2014* | F36: Year 2015 | G36: Year 2016 | H36: 2017Q1 | I36: 2017Q2 | J36: 2017Q3 | K36: 2017Q4 | L36: Year 2017 | M36: 2018Q1 | N36: 2018Q2 | O36: 2018Q3 | P36: 2018Q4 | Q36: Year 2018 | R36: 2019Q1 | S36: 2019Q2 | T36: 2019Q3 | U36: 2019Q4 | V36: Year 2019 | W36: 2020Q1 | X36: 2020Q2 | Y36: 2020Q3 | Z36: 2020Q4 | AA36: Year 2020 | AB36: 2021Q1 | AC36: 2021Q2 | AD36: 2021Q3 | AE36: 2021Q4 | AF36: Year 2021 | AG36: 2022Q1 | AH36: 2022Q2 | AI36: 2022Q3 | AJ36: 2022Q4 | AK36: Year 2022 | AL36: 2023Q1 | AM36: 2023Q2 | AN36: 2023Q3 | AO36: 2023Q4 | AP36: Year 2023 | AQ36: 2024Q1 | AR36: 2024Q2 | AS36: 2024Q3 | AT36: 2024Q4 | AU36: Year 2024 | AV36: 2025Q1 | AW36: 2025Q2 | AX36: 2025Q3 | AY36: 2025Q4
B37: JAMAICA | C37: 447533 | D37: 454785 | E37: 426955 | F37: 426390 | G37: 459307 | H37: 116389 | I37: 128105 | J37: 117713 | K37: 123267 | L37: =SUM(H37:K37) -> 485474 | M37: 119014 | N37: 120448 | O37: 116951 | P37: 127568 | Q37: =SUM(M37:P37) -> 483981 | R37: 121087 | S37: 123023 | T37: 117783 | U37: 125484 | V37: =SUM(R37:U37) -> 487377 | W37: 118278 | X37: 49411 | Y37: 118222 | Z37: 119945 | AA37: =SUM(W37:Z37) -> 405856 | AB37: 112009 | AC37: 111112 | AD37: 107569 | AE37: 115690 | AF37: =SUM(AB37:AE37) -> 446380 | AG37: 108068 | AH37: 119630 | AI37: 115402 | AJ37: 125312 | AK37: =SUM(AG37:AJ37) -> 468412 | AL37: 113738 | AM37: 116930 | AN37: 111759 | AO37: 120255 | AP37: 462682 | AQ37: 116781 | AR37: 117513 | AS37: 108315 | AT37: 115405 | AU37: 458014 | AV37: 110529 | AW37: 111796 | AX37: 104522 | AY37: 107068
B38: HONDURAS | C38: 43267 | D38: 45477 | E38: 48961 | F38: 47031 | G38: 51497 | H38: 13857 | I38: 14184 | J38: 14607 | K38: 14577 | L38: =SUM(H38:K38) -> 57225 | M38: 14555 | N38: 15235 | O38: 14965 | P38: 15798 | Q38: =SUM(M38:P38) -> 60553 | R38: 15537 | S38: 15882 | T38: 15704 | U38: 16720 | V38: =SUM(R38:U38) -> 63843 | W38: 14841 | X38: 6419 | Y38: 14450 | Z38: 15423 | AA38: =SUM(W38:Z38) -> 51133 | AB38: 14058 | AC38: 13475 | AD38: 14837 | AE38: 14948 | AF38: =SUM(AB38:AE38) -> 57318 | AG38: 13609 | AH38: 14800 | AI38: 14278 | AJ38: 14854 | AK38: =SUM(AG38:AJ38) -> 57541 | AL38: 13991 | AM38: 12926 | AN38: 12833 | AO38: 13209 | AP38: 52959 | AQ38: 12798 | AR38: 13060 | AS38: 12278 | AT38: 12616 | AU38: 50752 | AV38: 11740 | AW38: 12132 | AX38: 11557 | AY38: 12004
B39: PHILIPPINES | C39: 55824 | D39: 55080 | E39: 59114 | F39: 56504 | G39: 66871 | H39: 17218 | I39: 17462 | J39: 18478 | K39: 19193 | L39: =SUM(H39:K39) -> 72351 | M39: 19011 | N39: 19602 | O39: 20041 | P39: 21157 | Q39: =SUM(M39:P39) -> 79811 | R39: 20592 | S39: 20706 | T39: 21509 | U39: 22582 | V39: =SUM(R39:U39) -> 85389 | W39: 20896 | X39: 6589 | Y39: 15614 | Z39: 18077 | AA39: =SUM(W39:Z39) -> 61176 | AB39: 17401 | AC39: 17631 | AD39: 17943 | AE39: 19051 | AF39: =SUM(AB39:AE39) -> 72026 | AG39: 17975 | AH39: 18568 | AI39: 19977 | AJ39: 20581 | AK39: =SUM(AG39:AJ39) -> 77101 | AL39: 19474 | AM39: 18465 | AN39: 18421 | AO39: 18418 | AP39: 74778 | AQ39: 17029 | AR39: 16733 | AS39: 16366 | AT39: 16248 | AU39: 66376 | AV39: 14724 | AW39: 14517 | AX39: 14714 | AY39: 15438
B40: DOMINICAN REPUBLIC | C40: 9922 | D40: 9856 | E40: 9582 | F40: 8291 | G40: 11030 | H40: 3075 | I40: 3150 | J40: 3071 | K40: 3126 | L40: =SUM(H40:K40) -> 12422 | M40: 3014 | N40: 3061 | O40: 2853 | P40: 3154 | Q40: =SUM(M40:P40) -> 12082 | R40: 2902 | S40: 3161 | T40: 3056 | U40: 3078 | V40: =SUM(R40:U40) -> 12197 | W40: 2738 | X40: 912 | Y40: 2228 | Z40: 2470 | AA40: =SUM(W40:Z40) -> 8348 | AB40: 2146 | AC40: 2131 | AD40: 2254 | AE40: 2326 | AF40: =SUM(AB40:AE40) -> 8857 | AG40: 2251 | AH40: 2335 | AI40: 2348 | AJ40: 2618 | AK40: =SUM(AG40:AJ40) -> 9552 | AL40: 2391 | AM40: 2457 | AN40: 2357 | AO40: 2432 | AP40: 9637 | AQ40: 2213 | AR40: 2418 | AS40: 2308 | AT40: 2395 | AU40: 9334 | AV40: 2241 | AW40: 2236 | AX40: 2297 | AY40: 2366
B41: NICARAGUA | C41: 10616 | D41: 10755 | E41: 9455 | F41: 10472 | G41: 12112 | H41: 3234 | I41: 3303 | J41: 3552 | K41: 3519 | L41: =SUM(H41:K41) -> 13608 | M41: 3600 | N41: 3744 | O41: 3802 | P41: 4079 | Q41: =SUM(M41:P41) -> 15225 | R41: 4283 | S41: 4732 | T41: 4646 | U41: 5166 | V41: =SUM(R41:U41) -> 18827 | W41: 4905 | X41: 2211 | Y41: 4818 | Z41: 5230 | AA41: =SUM(W41:Z41) -> 17164 | AB41: 4635 | AC41: 3916 | AD41: 5120 | AE41: 5461 | AF41: =SUM(AB41:AE41) -> 19132 | AG41: 5134 | AH41: 5711 | AI41: 6003 | AJ41: 6296 | AK41: =SUM(AG41:AJ41) -> 23144 | AL41: 6408 | AM41: 5915 | AN41: 5816 | AO41: 6070 | AP41: 24209 | AQ41: 6031 | AR41: 6124 | AS41: 5582 | AT41: 5778 | AU41: 23515 | AV41: 5823 | AW41: 6005 | AX41: 5798 | AY41: 6181
B42: COLOMBIA | C42: 8293 | D42: 7403 | E42: 6874 | F42: 5393 | G42: 6658 | H42: 1735 | I42: 1785 | J42: 1747 | K42: 1786 | L42: =SUM(H42:K42) -> 7053 | M42: 1611 | N42: 1738 | O42: 1668 | P42: 1995 | Q42: =SUM(M42:P42) -> 7012 | R42: 1834 | S42: 1892 | T42: 1769 | U42: 1944 | V42: =SUM(R42:U42) -> 7439 | W42: 1871 | X42: 765 | Y42: 1628 | Z42: 2169 | AA42: =SUM(W42:Z42) -> 6433 | AB42: 1802 | AC42: 1738 | AD42: 1794 | AE42: 1725 | AF42: =SUM(AB42:AE42) -> 7059 | AG42: 1528 | AH42: 1654 | AI42: 1759 | AJ42: 2042 | AK42: =SUM(AG42:AJ42) -> 6983 | AL42: 1887 | AM42: 1844 | AN42: 1799 | AO42: 1844 | AP42: 7374 | AQ42: 1800 | AR42: 1881 | AS42: 1741 | AT42: 1934 | AU42: 7356 | AV42: 1695 | AW42: 1428 | AX42: 1552 | AY42: 1636
B43: GUYANA | C43: 4461 | D43: 4241 | E43: 3805 | F43: 3011 | G43: 3781 | H43: 895 | I43: 836 | J43: 916 | K43: 909 | L43: =SUM(H43:K43) -> 3556 | M43: 892 | N43: 803 | O43: 866 | P43: 1041 | Q43: =SUM(M43:P43) -> 3602 | R43: 950 | S43: 1008 | T43: 932 | U43: 1228 | V43: =SUM(R43:U43) -> 4118 | W43: 1092 | X43: 494 | Y43: 1179 | Z43: 1256 | AA43: =SUM(W43:Z43) -> 4021 | AB43: 997 | AC43: 1005 | AD43: 957 | AE43: 1010 | AF43: =SUM(AB43:AE43) -> 3969 | AG43: 891 | AH43: 1001 | AI43: 904 | AJ43: 961 | AK43: =SUM(AG43:AJ43) -> 3757 | AL43: 938 | AM43: 834 | AN43: 864 | AO43: 901 | AP43: 3537 | AQ43: 770 | AR43: 778 | AS43: 671 | AT43: 724 | AU43: 2943 | AV43: 610 | AW43: 591 | AX43: 516 | AY43: 586
B44: TRINIDAD & TOBAGO | C44: 1156 | D44: 1044 | E44: 1043 | F44: 992 | G44: 1081 | H44: 271 | I44: 271 | J44: 319 | K44: 353 | L44: =SUM(H44:K44) -> 1214 | M44: 252 | N44: 231 | O44: 214 | P44: 202 | Q44: =SUM(M44:P44) -> 899 | R44: 156 | S44: 195 | T44: 186 | U44: 227 | V44: =SUM(R44:U44) -> 764 | W44: 238 | X44: 123 | Y44: 282 | Z44: 345 | AA44: =SUM(W44:Z44) -> 988 | AB44: 243 | AC44: 257 | AD44: 323 | AE44: 330 | AF44: =SUM(AB44:AE44) -> 1153 | AG44: 279 | AH44: 353 | AI44: 297 | AJ44: 396 | AK44: =SUM(AG44:AJ44) -> 1325 | AL44: 343 | AM44: 354 | AN44: 330 | AO44: 361 | AP44: 1388 | AQ44: 311 | AR44: 312 | AS44: 362 | AT44: 393 | AU44: 1378 | AV44: 363 | AW44: 373 | AX44: 357 | AY44: 408
B45: INDIA | C45: 1189 | D45: 1132 | E45: 1343 | F45: 1231 | G45: 1291 | H45: 324 | I45: 355 | J45: 347 | K45: 329 | L45: =SUM(H45:K45) -> 1355 | M45: 416 | N45: 393 | O45: 432 | P45: 508 | Q45: =SUM(M45:P45) -> 1749 | R45: 613 | S45: 558 | T45: 523 | U45: 618 | V45: =SUM(R45:U45) -> 2312 | W45: 514 | X45: 157 | Y45: 427 | Z45: 461 | AA45: =SUM(W45:Z45) -> 1559 | AB45: 419 | AC45: 314 | AD45: 380 | AE45: 386 | AF45: =SUM(AB45:AE45) -> 1499 | AG45: 402 | AH45: 443 | AI45: 350 | AJ45: 361 | AK45: =SUM(AG45:AJ45) -> 1556 | AL45: 348 | AM45: 307 | AN45: 211 | AO45: 256 | AP45: 1122 | AQ45: 229 | AR45: 201 | AS45: 151 | AT45: 167 | AU45: 748 | AV45: 146 | AW45: 143 | AX45: 108 | AY45: 139
B46: UNITED KINGDOM | C46: 1824 | D46: 1839 | E46: 2437 | F46: 1857 | G46: 2100 | H46: 606 | I46: 782 | J46: 631 | K46: 728 | L46: =SUM(H46:K46) -> 2747 | M46: 595 | N46: 673 | O46: 698 | P46: 769 | Q46: =SUM(M46:P46) -> 2735 | R46: 704 | S46: 713 | T46: 613 | U46: 760 | V46: =SUM(R46:U46) -> 2790 | W46: 645 | X46: 163 | Y46: 522 | Z46: 539 | AA46: =SUM(W46:Z46) -> 1869 | AB46: 461 | AC46: 510 | AD46: 537 | AE46: 582 | AF46: =SUM(AB46:AE46) -> 2090 | AG46: 465 | AH46: 533 | AI46: 493 | AJ46: 507 | AK46: =SUM(AG46:AJ46) -> 1998 | AL46: 521 | AM46: 481 | AN46: 461 | AO46: 585 | AP46: 2048 | AQ46: 504 | AR46: 514 | AS46: 476 | AT46: 596 | AU46: 2090 | AV46: 435 | AW46: 436 | AX46: 534 | AY46: 510
B47: UNITED STATES | C47: 21693 | D47: 24113 | E47: 33800 | F47: 22750 | G47: 27903 | H47: 6350 | I47: 6944 | J47: 7691 | K47: 7447 | L47: =SUM(H47:K47) -> 28432 | M47: 6437 | N47: 6842 | O47: 7567 | P47: 8005 | Q47: =SUM(M47:P47) -> 28851 | R47: 6417 | S47: 7039 | T47: 7764 | U47: 7824 | V47: =SUM(R47:U47) -> 29044 | W47: 6052 | X47: 2132 | Y47: 5800 | Z47: 6648 | AA47: =SUM(W47:Z47) -> 20632 | AB47: 4996 | AC47: 5182 | AD47: 5576 | AE47: 5913 | AF47: =SUM(AB47:AE47) -> 21667 | AG47: 4723 | AH47: 5296 | AI47: 5648 | AJ47: 6202 | AK47: =SUM(AG47:AJ47) -> 21869 | AL47: 5301 | AM47: 5610 | AN47: 6141 | AO47: 6622 | AP47: 23674 | AQ47: 5771 | AR47: 6041 | AS47: 6077 | AT47: 6508 | AU47: 24397 | AV47: 5284 | AW47: 5293 | AX47: 5245 | AY47: 5744
B48: CANADA | C48: 0 | D48: 1722 | E48: 2115 | F48: 2158 | G48: 2620 | H48: 642 | I48: 634 | J48: 628 | K48: 669 | L48: =SUM(H48:K48) -> 2573 | M48: 610 | N48: 640 | O48: 678 | P48: 795 | Q48: =SUM(M48:P48) -> 2723 | R48: 746 | S48: 756 | T48: 753 | U48: 817 | V48: =SUM(R48:U48) -> 3072 | W48: 695 | X48: 206 | Y48: 547 | Z48: 645 | AA48: =SUM(W48:Z48) -> 2093 | AB48: 463 | AC48: 550 | AD48: 582 | AE48: 642 | AF48: =SUM(AB48:AE48) -> 2237 | AG48: 513 | AH48: 636 | AI48: 635 | AJ48: 692 | AK48: =SUM(AG48:AJ48) -> 2476 | AL48: 588 | AM48: 613 | AN48: 647 | AO48: 767 | AP48: 2615 | AQ48: 775 | AR48: 727 | AS48: 742 | AT48: 880 | AU48: 3124 | AV48: 780 | AW48: 738 | AX48: 692 | AY48: 758
... B51: PANAMA | C51: 0 | D51: 1148 | E51: 810 | F51: 646 | G51: 796 | H51: 189 | I51: 221 | J51: 276 | K51: 264 | L51: =SUM(H51:K51) -> 950 | M51: 291 | N51: 254 | O51: 249 | P51: 270 | Q51: =SUM(M51:P51) -> 1064 | R51: 263 | S51: 282 | T51: 206 | U51: 253 | V51: =SUM(R51:U51) -> 1004 | W51: 215 | X51: 94 | Y51: 239 | Z51: 214 | AA51: =SUM(W51:Z51) -> 762 | AB51: 169 | AC51: 176 | AD51: 207 | AE51: 240 | AF51: =SUM(AB51:AE51) -> 792 | AG51: 208 | AH51: 216 | AI51: 214 | AJ51: 209 | AK51: =SUM(AG51:AJ51) -> 847 | AL51: 196 | AM51: 156 | AN51: 169 | AO51: 222 | AP51: 743 | AQ51: 252 | AR51: 270 | AS51: 272 | AT51: 342 | AU51: 1136 | AV51: 374 | AW51: 416 | AX51: 400 | AY51: 448
B52: BELIZE | C52: n/a | D52: n/a | E52: n/a | F52: n/a | G52: n/a | H52: 231 | I52: 376 | J52: 376 | K52: 366 | L52: =SUM(H52:K52) -> 1349 | M52: 380 | N52: 357 | O52: 323 | P52: 390 | Q52: =SUM(M52:P52) -> 1450 | R52: 324 | S52: 398 | T52: 411 | U52: 445 | V52: =SUM(R52:U52) -> 1578 | W52: 410 | X52: 181 | Y52: 453 | Z52: 463 | AA52: =SUM(W52:Z52) -> 1507 | AB52: 371 | AC52: 438 | AD52: 453 | AE52: 445 | AF52: =SUM(AB52:AE52) -> 1707 | AG52: 346 | AH52: 374 | AI52: 410 | AJ52: 436 | AK52: =SUM(AG52:AJ52) -> 1566 | AL52: 376 | AM52: 412 | AN52: 421 | AO52: 383 | AP52: 1592 | AQ52: 367 | AR52: 348 | AS52: 365 | AT52: 347 | AU52: 1427 | AV52: 345 | AW52: 376 | AX52: 355 | AY52: 349
B53: CHINA | C53: n/a | D53: n/a | E53: n/a | F53: n/a | G53: n/a | H53: 69 | I53: 120 | J53: 116 | K53: 133 | L53: =SUM(H53:K53) -> 438 | M53: 124 | N53: 143 | O53: 125 | P53: 137 | Q53: =SUM(M53:P53) -> 529 | R53: 106 | S53: 113 | T53: 93 | U53: 110 | V53: =SUM(R53:U53) -> 422 | W53: 36 | X53: 9 | Y53: 55 | Z53: 60 | AA53: =SUM(W53:Z53) -> 160 | AB53: 54 | AC53: 19 | AD53: 25 | AE53: 26 | AF53: =SUM(AB53:AE53) -> 124 | AG53: 19 | AH53: 23 | AI53: 37 | AJ53: 31 | AK53: =SUM(AG53:AJ53) -> 110 | AL53: 36 | AM53: 30 | AN53: 31 | AO53: 36 | AP53: 133 | AQ53: 33 | AR53: 30 | AS53: 25 | AT53: 31 | AU53: 119 | AV53: 28 | AW53: 28 | AX53: 23 | AY53: 28
B54: CUBA | C54: n/a | D54: n/a | E54: n/a | F54: n/a | G54: n/a | H54: 1197 | I54: 1494 | J54: 1614 | K54: 1945 | L54: =SUM(H54:K54) -> 6250 | M54: 1910 | N54: 2100 | O54: 2097 | P54: 2384 | Q54: =SUM(M54:P54) -> 8491 | R54: 2470 | S54: 2701 | T54: 2486 | U54: 2059 | V54: =SUM(R54:U54) -> 9716 | W54: 1165 | X54: 0 | Y54: 0 | Z54: 0 | AA54: =SUM(W54:Z54) -> 1165 | AB54: 0 | AC54: 0 | AD54: 0 | AE54: 0 | AF54: =SUM(AB54:AE54) -> 0 | AG54: 0 | AH54: 0 | AI54: 0 | AJ54: 0 | AK54: =SUM(AG54:AJ54) -> 0 | AL54: 0 | AM54: 0 | AN54: 0 | AO54: 0 | AP54: 0 | AQ54: 0 | AR54: 0 | AS54: 0 | AT54: 0 | AU54: 0 | AV54: 0 | AW54: 0 | AX54: 0 | AY54: 0
B55: KENYA | C55: n/a | D55: n/a | E55: n/a | F55: n/a | G55: n/a | H55: 207 | I55: 245 | J55: 255 | K55: 274 | L55: =SUM(H55:K55) -> 981 | M55: 266 | N55: 278 | O55: 266 | P55: 302 | Q55: =SUM(M55:P55) -> 1112 | R55: 362 | S55: 415 | T55: 353 | U55: 409 | V55: =SUM(R55:U55) -> 1539 | W55: 463 | X55: 126 | Y55: 284 | Z55: 341 | AA55: =SUM(W55:Z55) -> 1214 | AB55: 336 | AC55: 328 | AD55: 357 | AE55: 393 | AF55: =SUM(AB55:AE55) -> 1414 | AG55: 364 | AH55: 402 | AI55: 415 | AJ55: 487 | AK55: =SUM(AG55:AJ55) -> 1668 | AL55: 429 | AM55: 329 | AN55: 184 | AO55: 186 | AP55: 1128 | AQ55: 129 | AR55: 82 | AS55: 82 | AT55: 99 | AU55: 392 | AV55: 99 | AW55: 116 | AX55: 103 | AY55: 120
B56: MEXICO | C56: n/a | D56: n/a | E56: n/a | F56: n/a | G56: n/a | H56: 325 | I56: 352 | J56: 354 | K56: 359 | L56: =SUM(H56:K56) -> 1390 | M56: 326 | N56: 295 | O56: 316 | P56: 464 | Q56: =SUM(M56:P56) -> 1401 | R56: 543 | S56: 542 | T56: 497 | U56: 502 | V56: =SUM(R56:U56) -> 2084 | W56: 478 | X56: 215 | Y56: 476 | Z56: 564 | AA56: =SUM(W56:Z56) -> 1733 | AB56: 522 | AC56: 567 | AD56: 523 | AE56: 516 | AF56: =SUM(AB56:AE56) -> 2128 | AG56: 441 | AH56: 457 | AI56: 515 | AJ56: 528 | AK56: =SUM(AG56:AJ56) -> 1941 | AL56: 472 | AM56: 442 | AN56: 455 | AO56: 564 | AP56: 1933 | AQ56: 485 | AR56: 475 | AS56: 344 | AT56: 337 | AU56: 1641 | AV56: 295 | AW56: 236 | AX56: 210 | AY56: 232
B57: NEPAL | C57: n/a | D57: n/a | E57: n/a | F57: n/a | G57: n/a | H57: 51 | I57: 137 | J57: 149 | K57: 147 | L57: =SUM(H57:K57) -> 484 | M57: 202 | N57: 262 | O57: 264 | P57: 296 | Q57: =SUM(M57:P57) -> 1024 | R57: 302 | S57: 307 | T57: 287 | U57: 305 | V57: =SUM(R57:U57) -> 1201 | W57: 282 | X57: 76 | Y57: 189 | Z57: 245 | AA57: =SUM(W57:Z57) -> 792 | AB57: 250 | AC57: 161 | AD57: 218 | AE57: 263 | AF57: =SUM(AB57:AE57) -> 892 | AG57: 202 | AH57: 258 | AI57: 285 | AJ57: 290 | AK57: =SUM(AG57:AJ57) -> 1035 | AL57: 325 | AM57: 291 | AN57: 207 | AO57: 222 | AP57: 1045 | AQ57: 194 | AR57: 162 | AS57: 144 | AT57: 134 | AU57: 634 | AV57: 133 | AW57: 129 | AX57: 106 | AY57: 99
B58: PERU | C58: n/a | D58: n/a | E58: n/a | F58: n/a | G58: n/a | H58: 197 | I58: 181 | J58: 156 | K58: 171 | L58: =SUM(H58:K58) -> 705 | M58: 192 | N58: 195 | O58: 188 | P58: 211 | Q58: =SUM(M58:P58) -> 786 | R58: 225 | S58: 236 | T58: 214 | U58: 246 | V58: =SUM(R58:U58) -> 921 | W58: 237 | X58: 80 | Y58: 138 | Z58: 156 | AA58: =SUM(W58:Z58) -> 611 | AB58: 134 | AC58: 145 | AD58: 116 | AE58: 114 | AF58: =SUM(AB58:AE58) -> 509 | AG58: 131 | AH58: 164 | AI58: 175 | AJ58: 200 | AK58: =SUM(AG58:AJ58) -> 670 | AL58: 261 | AM58: 205 | AN58: 170 | AO58: 210 | AP58: 846 | AQ58: 193 | AR58: 182 | AS58: 147 | AT58: 167 | AU58: 689 | AV58: 148 | AW58: 149 | AX58: 137 | AY58: 161
B59: ZIMBABWE | C59: n/a | D59: n/a | E59: n/a | F59: n/a | G59: n/a | H59: 80 | I59: 113 | J59: 123 | K59: 132 | L59: =SUM(H59:K59) -> 448 | M59: 128 | N59: 126 | O59: 89 | P59: 121 | Q59: =SUM(M59:P59) -> 464 | R59: 156 | S59: 167 | T59: 153 | U59: 212 | V59: =SUM(R59:U59) -> 688 | W59: 203 | X59: 73 | Y59: 180 | Z59: 203 | AA59: =SUM(W59:Z59) -> 659 | AB59: 154 | AC59: 181 | AD59: 250 | AE59: 67 | AF59: =SUM(AB59:AE59) -> 652 | AG59: 213 | AH59: 206 | AI59: 225 | AJ59: 300 | AK59: =SUM(AG59:AJ59) -> 944 | AL59: 369 | AM59: 307 | AN59: 304 | AO59: 339 | AP59: 1319 | AQ59: 328 | AR59: 362 | AS59: 401 | AT59: 483 | AU59: 1574 | AV59: 499 | AW59: 523 | AX59: 450 | AY59: 542
B60: OTHER | C60: 23918 | D60: 20007 | E60: 13293 | F60: 17228 | G60: 20574 | H60: 3466 | I60: 3083 | J60: 3128 | K60: 3259 | L60: =SUM(H60:K60) -> 12936 | M60: 3215 | N60: 3293 | O60: 2887 | P60: 3350 | Q60: =SUM(M60:P60) -> 12745 | R60: 3318 | S60: 3409 | T60: 3218 | U60: 4050 | V60: =SUM(R60:U60) -> 13995 | W60: 3413 | X60: 1444 | Y60: 3309 | Z60: 3238 | AA60: =SUM(W60:Z60) -> 11404 | AB60: 2867 | AC60: 2860 | AD60: 2872 | AE60: 3317 | AF60: =SUM(AB60:AE60) -> 11916 | AG60: 2607 | AH60: 2831 | AI60: 2949 | AJ60: 3437 | AK60: =SUM(AG60:AJ60) -> 11824 | AL60: 3149 | AM60: 2880 | AN60: 2394 | AO60: 2737 | AP60: 11160 | AQ60: 3049 | AR60: 2738 | AS60: 2940 | AT60: 3101 | AU60: 11828 | AV60: 2917 | AW60: 3004 | AX60: 2607 | AY60: 2996
B61: TOTAL TRANSACTIONS | C61: =SUM(C37:C60) -> 629696 | D61: =SUM(D37:D60) -> 641145 | E61: =SUM(E37:E60) -> 621887 | F61: 605665 | G61: =SUM(G37:G60) -> 669878 | H61: =SUM(H37:H60) -> 171250 | I61: =SUM(I37:I60) -> 184803 | J61: =SUM(J37:J60) -> 176913 | K61: =SUM(K37:K60) -> 183705 | L61: =SUM(L37:L60) -> 716671 | M61: =SUM(M37:M60) -> 177704 | N61: =SUM(N37:N60) -> 181448 | ... AJ61: =SUM(AJ37:AJ60) -> 187493 | AK61: =SUM(AG61:AJ61) -> 699028 | AL61: =SUM(AL37:AL60) -> 172188 | AM61: 172374 | AN61: 166510 | AO61: 177231 | AP61: 688303 | AQ61: 170608 | AR61: 171532 | AS61: 160341 | AT61: 169230 | AU61: 671711 | AV61: 159708 | AW61: 161217 | AX61: 152771 | AY61: 158360
B62: VALUE IN US$ (<CI$500) | C62: 105860228 | D62: 1.0638718e+08 | E62: 1.0730618e+08 | F62: 103290506 | G62: 117427576 | H62: 29756900 | I62: 30877042 | J62: 31770850 | K62: 32923805 | L62: =SUM(H62:K62) -> 1.253286e+08 | M62: 31057514 | N62: 32670524 | O62: 32519928 | P62: 35848583 | Q62: =SUM(M62:P62) -> 1.3209655e+08 | R62: 34648947 | S62: 35990317 | T62: 35872317 | U62: 39010043 | V62: =SUM(R62:U62) -> 1.4552162e+08 | W62: 34854285 | X62: 15997926 | Y62: 36427594 | Z62: 37556016 | AA62: =SUM(W62:Z62) -> 1.2483582e+08 | AB62: 33570672 | AC62: 28345264 | AD62: 33674586 | AE62: 36825835 | AF62: =SUM(AB62:AE62) -> 1.3241636e+08 | AG62: 34326841 | AH62: 37768604 | AI62: 37703002 | AJ62: 40666663 | AK62: =SUM(AG62:AJ62) -> 1.5046511e+08 | AL62: 37425952 | AM62: 37324833 | AN62: 36436211 | AO62: 38981821 | AP62: 1.5016882e+08 | AQ62: 36903707 | AR62: 37259443 | AS62: 35181228 | AT62: 40448568 | AU62: 1.4979295e+08 | AV62: 33029952 | AW62: 35514927 | AX62: 34023254 | AY62: 35818647
B63: GRAND TOTAL | C63: =C62+C32 -> 178729209 | D63: =D62+D32 -> 1.7463503e+08 | E63: =E32+E62 -> 1.7991119e+08 | F63: =F32+F62 -> 169545865 | G63: 199340814 | H63: =H32+H62 -> 51063541 | I63: =I32+I62 -> 53560617 | J63: =J32+J62 -> 54917641 | K63: =K32+K62 -> 58181910 | L63: =L32+L62 -> 2.1772371e+08 | M63: =M32+M62 -> 55760931 | N63: =N32+N62 -> 58872612 | O63: =O32+O62 -> 58958566 | ... AE63: =AE32+AE62 -> 75367864 | AF63: =+AF62+AF32 -> 2.7815549e+08 | AG63: =AG32+AG62 -> 68950387 | AH63: =AH32+AH62 -> 75828211 | AI63: =AI32+AI62 -> 75899389 | AJ63: =AJ32+AJ62 -> 82206783 | AK63: =AK32+AK62 -> 3.0288477e+08 | AL63: =AL32+AL62 -> 75586097 | AM63: 77411717 | AN63: 75284034 | AO63: 82079147 | AP63: 3.10361e+08 | AQ63: 78090402 | AR63: 79664627 | AS63: 76114762 | AT63: 84389298 | AU63: 3.1825909e+08 | AV63: 74989335 | AW63: 83379899 | AX63: 79613836 | AY63: 85922556
B64: * aggregated information does not include one reporting entity.
B65: n/a - data not collected
B66: Source: Money Service Providers (MSP's) licensed by Cayman Islands Monetary Authority (CIMA).

Sheet Tri-Year Comparison
I1: 1 | S1: 1 | AC1: 1 | AM1: 1
B2: OUTFLOWS | I2: 2 | L2: INFLOWS | S2: 2 | V2: TRANS OUTFLOWS | AC2: 2 | AF2: TRANS INFLOWS | AM2: 2
I3: 3 | S3: 3 | AC3: 3 | AM3: 3
I4: 4 | S4: 4 | AC4: 4 | AM4: 4
AC5: 5 | AF5: 2023Q4 | AG5: 2024Q4 | AH5: 2025Q4 | AI5: 17/18 Diff | AJ5: 18/19 Diff | AM5: 5
U6: COUNTRY | V6: 2023Q4 | W6: 2024Q4 | X6: 2025Q4 | Y6: 17/18 Diff | Z6: 18/19 Diff | AF6: 6609 | AG6: 6730 | AH6: 6094 | AI6: =AG6-AF6 -> 121 | AJ6: =AH6-AG6 -> -636 | AK6: =AI6/AF6 -> 0.018308367 | AL6: =AJ6/AG6 -> -0.094502229
A7: COUNTRY | B7: 2023Q4 | C7: 2024Q4 | D7: 2025Q4 | E7: 17/18 Diff | F7: 18/19 Diff | K7: COUNTRY | L7: 2023Q4 | M7: 2024Q4 | N7: 2025Q4 | O7: 17/18 Diff | P7: 18/19 Diff | U7: JAMAICA | V7: 22165 | W7: 23569 | X7: 24028 | Y7: =W7-V7 -> 1404 | Z7: =X7-W7 -> 459 | AA7: =Y7/V7 -> 0.063343109 | AB7: =Z7/W7 -> 0.019474734 | AC7: =_xlfn.RANK.EQ(V7,V$7:V$29,0) -> 1
A8: JAMAICA | B8: 51036313 | C8: 53115922 | D8: 53553092 | E8: =C8-B8 -> 2079609.4 | F8: =D8-C8 -> 437170.19 | G8: =E8/B8 -> 0.040747641 | H8: =F8/C8 -> 0.0082304923 | I8: =_xlfn.RANK.EQ(B8,B$8:B$30,0) -> 1 | K8: JAMAICA | L8: 389551.94 | M8: 371451.41 | N8: 249453.88 | O8: =M8-L8 -> -18100.526 | P8: =N8-M8 -> -121997.53 | Q8: =O8/L8 -> -0.046464988 | R8: =P8/M8 -> -0.3284347 | S8: =_xlfn.RANK.EQ(L8,L$8:L$30,0) -> 2 | U8: HONDURAS | V8: 2222 | W8: 2521 | X8: 2622 | Y8: =W8-V8 -> 299 | Z8: =X8-W8 -> 101 | AA8: =Y8/V8 -> 0.13456346 | AB8: =Z8/W8 -> 0.040063467 | AC8: =_xlfn.RANK.EQ(V8,V$7:V$29,0) -> 3
A9: HONDURAS | B9: 5545879.7 | C9: 5660470.5 | D9: 5697698.1 | E9: =C9-B9 -> 114590.82 | F9: =D9-C9 -> 37227.577 | G9: =E9/B9 -> 0.020662334 | H9: =F9/C9 -> 0.0065767636 | I9: =_xlfn.RANK.EQ(B9,B$8:B$30,0) -> 3 | K9: HONDURAS | L9: 39303.54 | M9: 23745.37 | N9: 21893.01 | O9: =M9-L9 -> -15558.17 | P9: =N9-M9 -> -1852.36 | Q9: =O9/L9 -> -0.39584653 | R9: =P9/M9 -> -0.078009313 | S9: =_xlfn.RANK.EQ(L9,L$8:L$30,0) -> 6 | U9: PHILIPPINES | V9: 6774 | W9: 6793 | X9: 7080 | Y9: =W9-V9 -> 19 | Z9: =X9-W9 -> 287 | AA9: =Y9/V9 -> 0.002804842 | AB9: =Z9/W9 -> 0.042249374 | AC9: =_xlfn.RANK.EQ(V9,V$7:V$29,0) -> 2
A10: PHILIPPINES | B10: 12432787 | C10: 11941542 | D10: 12468319 | E10: =C10-B10 -> -491244.7 | F10: =D10-C10 -> 526777.07 | G10: =E10/B10 -> -0.039512034 | H10: =F10/C10 -> 0.044112985 | I10: =_xlfn.RANK.EQ(B10,B$8:B$30,0) -> 2 | K10: PHILIPPINES | L10: 67800.85 | M10: 57882.69 | N10: 16753.01 | O10: =M10-L10 -> -9918.16 | P10: =N10-M10 -> -41129.68 | Q10: =O10/L10 -> -0.14628371 | R10: =P10/M10 -> -0.7105696 | S10: =_xlfn.RANK.EQ(L10,L$8:L$30,0) -> 5 | U10: DOMINICAN REPUBLIC | V10: 878 | W10: 1059 | X10: 1307 | Y10: =W10-V10 -> 181 | Z10: =X10-W10 -> 248 | AA10: =Y10/V10 -> 0.20615034 | AB10: =Z10/W10 -> 0.23418319 | AC10: =_xlfn.RANK.EQ(V10,V$7:V$29,0) -> 5 | AE10: COUNTRY | AF10: 2023Q4 | AG10: 2024Q4 | AH10: 2025Q4 | AI10: 17/18 Diff | AJ10: 18/19 Diff
A11: DOMINICAN REPUBLIC | B11: 1709015.3 | C11: 2003347.5 | D11: 2405387.9 | E11: =C11-B11 -> 294332.23 | F11: =D11-C11 -> 402040.34 | G11: =E11/B11 -> 0.17222328 | H11: =F11/C11 -> 0.20068427 | I11: =_xlfn.RANK.EQ(B11,B$8:B$30,0) -> 6 | K11: DOMINICAN REPUBLIC | L11: 14442.21 | M11: 14652.63 | N11: 8299.89 | O11: =M11-L11 -> 210.42 | P11: =N11-M11 -> -6352.74 | Q11: =O11/L11 -> 0.014569792 | R11: =P11/M11 -> -0.4335563 | S11: =_xlfn.RANK.EQ(L11,L$8:L$30,0) -> 8 | U11: NICARAGUA | V11: 761 | W11: 825 | X11: 1084 | Y11: =W11-V11 -> 64 | Z11: =X11-W11 -> 259 | AA11: =Y11/V11 -> 0.084099869 | AB11: =Z11/W11 -> 0.31393939 | AC11: =_xlfn.RANK.EQ(V11,V$7:V$29,0) -> 6 | AE11: JAMAICA | AF11: 389551.94 | AG11: 371451.41 | AH11: 249453.88 | AI11: =AG11-AF11 -> -18100.526 | AJ11: =AH11-AG11 -> -121997.53 | AK11: =AI11/AF11 -> -0.046464988 | AL11: =AJ11/AG11 -> -0.3284347 | AM11: =_xlfn.RANK.EQ(AF11,AF$11:AF$33,0) -> 2
A12: NICARAGUA | B12: 2169701.2 | C12: 2158984 | D12: 2444760.7 | E12: =C12-B12 -> -10717.257 | F12: =D12-C12 -> 285776.72 | G12: =E12/B12 -> -0.0049395081 | H12: =F12/C12 -> 0.1323663 | I12: =_xlfn.RANK.EQ(B12,B$8:B$30,0) -> 5 | K12: NICARAGUA | L12: 10717.51 | M12: 8161.63 | N12: 7271.74 | O12: =M12-L12 -> -2555.88 | P12: =N12-M12 -> -889.89 | Q12: =O12/L12 -> -0.23847703 | R12: =P12/M12 -> -0.10903337 | S12: =_xlfn.RANK.EQ(L12,L$8:L$30,0) -> 9 | U12: COLUMBIA | V12: 325 | W12: 417 | X12: 453 | Y12: =W12-V12 -> 92 | Z12: =X12-W12 -> 36 | AA12: =Y12/V12 -> 0.28307692 | AB12: =Z12/W12 -> 0.086330935 | AC12: =_xlfn.RANK.EQ(V12,V$7:V$29,0) -> 7 | AE12: HONDURAS | AF12: 39303.54 | AG12: 23745.37 | AH12: 21893.01 | AI12: =AG12-AF12 -> -15558.17 | AJ12: =AH12-AG12 -> -1852.36 | AK12: =AI12/AF12 -> -0.39584653 | AL12: =AJ12/AG12 -> -0.078009313 | AM12: =_xlfn.RANK.EQ(AF12,AF$11:AF$33,0) -> 6
A13: COLOMBIA | B13: 806817.55 | C13: 879728.72 | D13: 876663.66 | E13: =C13-B13 -> 72911.175 | F13: =D13-C13 -> -3065.0629 | G13: =E13/B13 -> 0.090368851 | H13: =F13/C13 -> -0.0034841 | I13: =_xlfn.RANK.EQ(B13,B$8:B$30,0) -> 7 | K13: COLOMBIA | L13: 5339.36 | M13: 6307.89 | N13: 17343.52 | O13: =M13-L13 -> 968.53 | P13: =N13-M13 -> 11035.63 | Q13: =O13/L13 -> 0.1813944 | R13: =P13/M13 -> 1.7494963 | S13: =_xlfn.RANK.EQ(L13,L$8:L$30,0) -> 11 | U13: GUYANA | V13: 226 | W13: 227 | X13: 175 | Y13: =W13-V13 -> 1 | Z13: =X13-W13 -> -52 | AA13: =Y13/V13 -> 0.0044247788 | AB13: =Z13/W13 -> -0.22907489 | AC13: =_xlfn.RANK.EQ(V13,V$7:V$29,0) -> 9 | AE13: PHILIPPINES | AF13: 67800.85 | AG13: 57882.69 | AH13: 16753.01 | AI13: =AG13-AF13 -> -9918.16 | AJ13: =AH13-AG13 -> -41129.68 | AK13: =AI13/AF13 -> -0.14628371 | AL13: =AJ13/AG13 -> -0.7105696 | AM13: =_xlfn.RANK.EQ(AF13,AF$11:AF$33,0) -> 5
A14: GUYANA | B14: 520614.04 | C14: 477966.75 | D14: 389232.67 | E14: =C14-B14 -> -42647.29 | F14: =D14-C14 -> -88734.082 | G14: =E14/B14 -> -0.081917286 | H14: =F14/C14 -> -0.18564907 | I14: =_xlfn.RANK.EQ(B14,B$8:B$30,0) -> 9 | K14: GUYANA | L14: 6193.44 | M14: 6570.7276 | N14: 5383.63 | O14: =M14-L14 -> 377.28762 | P14: =N14-M14 -> -1187.0976 | Q14: =O14/L14 -> 0.060917296 | R14: =P14/M14 -> -0.18066456 | S14: =_xlfn.RANK.EQ(L14,L$8:L$30,0) -> 10 | U14: TRINIDAD & TOBAGO | V14: 49 | W14: 47 | X14: 54 | Y14: =W14-V14 -> -2 | Z14: =X14-W14 -> 7 | AA14: =Y14/V14 -> -0.040816327 | AB14: =Z14/W14 -> 0.14893617 | AC14: =_xlfn.RANK.EQ(V14,V$7:V$29,0) -> 18 | AE14: DOMINICAN REPUBLIC | AF14: 14442.21 | AG14: 14652.63 | AH14: 8299.89 | AI14: =AG14-AF14 -> 210.42 | AJ14: =AH14-AG14 -> -6352.74 | AK14: =AI14/AF14 -> 0.014569792 | AL14: =AJ14/AG14 -> -0.4335563 | AM14: =_xlfn.RANK.EQ(AF14,AF$11:AF$33,0) -> 8
A15: TRINIDAD & TOBAGO | B15: 128123.96 | C15: 143676.14 | D15: 143862.27 | E15: =C15-B15 -> 15552.181 | F15: =D15-C15 -> 186.12762 | G15: =E15/B15 -> 0.12138386 | H15: =F15/C15 -> 0.0012954664 | I15: =_xlfn.RANK.EQ(B15,B$8:B$30,0) -> 16 | K15: TRINIDAD & TOBAGO | L15: 14648.14 | M15: 14776.317 | N15: 12003.77 | O15: =M15-L15 -> 128.17714 | P15: =N15-M15 -> -2772.5471 | Q15: =O15/L15 -> 0.008750404 | R15: =P15/M15 -> -0.18763452 | S15: =_xlfn.RANK.EQ(L15,L$8:L$30,0) -> 7 | U15: INDIA | V15: 136 | W15: 98 | X15: 82 | Y15: =W15-V15 -> -38 | Z15: =X15-W15 -> -16 | AA15: =Y15/V15 -> -0.27941176 | AB15: =Z15/W15 -> -0.16326531 | AC15: =_xlfn.RANK.EQ(V15,V$7:V$29,0) -> 12 | AE15: NICARAGUA | AF15: 10717.51 | AG15: 8161.63 | AH15: 7271.74 | AI15: =AG15-AF15 -> -2555.88 | AJ15: =AH15-AG15 -> -889.89 | AK15: =AI15/AF15 -> -0.23847703 | AL15: =AJ15/AG15 -> -0.10903337 | AM15: =_xlfn.RANK.EQ(AF15,AF$11:AF$33,0) -> 9
A16: INDIA | B16: 264322.24 | C16: 209720.13 | D16: 158950.12 | E16: =C16-B16 -> -54602.114 | F16: =D16-C16 -> -50770.008 | G16: =E16/B16 -> -0.20657404 | H16: =F16/C16 -> -0.24208458 | I16: =_xlfn.RANK.EQ(B16,B$8:B$30,0) -> 13 | K16: INDIA | L16: 0 | M16: 0 | N16: 0 | O16: =M16-L16 -> 0 | P16: =N16-M16 -> 0 | Q16: 0 | R16: 0 | S16: =_xlfn.RANK.EQ(L16,L$8:L$30,0) -> 21 | U16: UNITED KINGDOM | V16: 125 | W16: 143 | X16: 133 | Y16: =W16-V16 -> 18 | Z16: =X16-W16 -> -10 | AA16: =Y16/V16 -> 0.144 | AB16: =Z16/W16 -> -0.06993007 | AC16: =_xlfn.RANK.EQ(V16,V$7:V$29,0) -> 13 | AE16: COLUMBIA | AF16: 5339.36 | AG16: 6307.89 | AH16: 17343.52 | AI16: =AG16-AF16 -> 968.53 | AJ16: =AH16-AG16 -> 11035.63 | AK16: =AI16/AF16 -> 0.1813944 | AL16: =AJ16/AG16 -> 1.7494963 | AM16: =_xlfn.RANK.EQ(AF16,AF$11:AF$33,0) -> 11
A17: UNITED KINGDOM | B17: 274433.51 | C17: 277500.45 | D17: 302212.29 | E17: =C17-B17 -> 3066.9385 | F17: =D17-C17 -> 24711.839 | G17: =E17/B17 -> 0.011175525 | H17: =F17/C17 -> 0.089051528 | I17: =_xlfn.RANK.EQ(B17,B$8:B$30,0) -> 12 | K17: UNITED KINGDOM | L17: 172372.97 | M17: 134175.29 | N17: 133358.62 | O17: =M17-L17 -> -38197.675 | P17: =N17-M17 -> -816.67 | Q17: =O17/L17 -> -0.22159899 | R17: =P17/M17 -> -0.0060865902 | S17: =_xlfn.RANK.EQ(L17,L$8:L$30,0) -> 3 | U17: UNITED STATES | V17: 1645 | W17: 1787 | X17: 1679 | Y17: =W17-V17 -> 142 | Z17: =X17-W17 -> -108 | AA17: =Y17/V17 -> 0.086322188 | AB17: =Z17/W17 -> -0.060436486 | AC17: =_xlfn.RANK.EQ(V17,V$7:V$29,0) -> 4 | AE17: GUYANA | AF17: 6193.44 | AG17: 6570.7276 | AH17: 5383.63 | AI17: =AG17-AF17 -> 377.28762 | AJ17: =AH17-AG17 -> -1187.0976 | AK17: =AI17/AF17 -> 0.060917296 | AL17: =AJ17/AG17 -> -0.18066456 | AM17: =_xlfn.RANK.EQ(AF17,AF$11:AF$33,0) -> 10
A18: UNITED STATES | B18: 3645807.8 | C18: 3782631.9 | D18: 3502702.2 | E18: =C18-B18 -> 136824.11 | F18: =D18-C18 -> -279929.7 | G18: =E18/B18 -> 0.037529162 | H18: =F18/C18 -> -0.074003949 | I18: =_xlfn.RANK.EQ(B18,B$8:B$30,0) -> 4 | K18: UNITED STATES | L18: 1321387.2 | M18: 1297855.4 | N18: 1281585.9 | O18: =M18-L18 -> -23531.809 | P18: =N18-M18 -> -16269.538 | Q18: =O18/L18 -> -0.017808413 | R18: =P18/M18 -> -0.012535709 | S18: =_xlfn.RANK.EQ(L18,L$8:L$30,0) -> 1 | U18: CANADA | V18: 258 | W18: 289 | X18: 235 | Y18: =W18-V18 -> 31 | Z18: =X18-W18 -> -54 | AA18: =Y18/V18 -> 0.12015504 | AB18: =Z18/W18 -> -0.18685121 | AC18: =_xlfn.RANK.EQ(V18,V$7:V$29,0) -> 8 | AE18: TRINIDAD & TOBAGO | AF18: 14648.14 | AG18: 14776.317 | AH18: 12003.77 | AI18: =AG18-AF18 -> 128.17714 | AJ18: =AH18-AG18 -> -2772.5471 | AK18: =AI18/AF18 -> 0.008750404 | AL18: =AJ18/AG18 -> -0.18763452 | AM18: =_xlfn.RANK.EQ(AF18,AF$11:AF$33,0) -> 7
A19: CANADA | B19: 533298.89 | C19: 599879.35 | D19: 483757.01 | E19: =C19-B19 -> 66580.461 | F19: =D19-C19 -> -116122.34 | G19: =E19/B19 -> 0.12484643 | H19: =F19/C19 -> -0.19357616 | I19: =_xlfn.RANK.EQ(B19,B$8:B$30,0) -> 8 | K19: CANADA | L19: 148853.93 | M19: 131975.66 | N19: 120948.22 | O19: =M19-L19 -> -16878.265 | P19: =N19-M19 -> -11027.443 | Q19: =O19/L19 -> -0.11338811 | R19: =P19/M19 -> -0.083556643 | S19: =_xlfn.RANK.EQ(L19,L$8:L$30,0) -> 4 | U19: COSTA RICA | V19: 99 | W19: 124 | X19: 142 | Y19: =W19-V19 -> 25 | Z19: =X19-W19 -> 18 | AA19: =Y19/V19 -> 0.25252525 | AB19: =Z19/W19 -> 0.14516129 | AC19: =_xlfn.RANK.EQ(V19,V$7:V$29,0) -> 14 | AE19: INDIA | AF19: 0 | AG19: 0 | AH19: 0 | AI19: =AG19-AF19 -> 0 | AJ19: =AH19-AG19 -> 0 | AK19: 0 | AL19: 0 | AM19: =_xlfn.RANK.EQ(AF19,AF$11:AF$33,0) -> 21
A20: COSTA RICA | B20: 237331.98 | C20: 237183.84 | D20: 250729.38 | E20: =C20-B20 -> -148.14098 | F20: =D20-C20 -> 13545.54 | G20: =E20/B20 -> -0.00062419306 | H20: =F20/C20 -> 0.057109877 | I20: =_xlfn.RANK.EQ(B20,B$8:B$30,0) -> 14 | K20: COSTA RICA | L20: 3195.21 | M20: 1508.4981 | N20: 6440.45 | O20: =M20-L20 -> -1686.7119 | P20: =N20-M20 -> 4931.9519 | Q20: =O20/L20 -> -0.52788765 | R20: =P20/M20 -> 3.2694452 | S20: =_xlfn.RANK.EQ(L20,L$8:L$30,0) -> 15 | U20: BARBADOS | V20: 28 | W20: 33 | X20: 47 | Y20: =W20-V20 -> 5 | Z20: =X20-W20 -> 14 | AA20: =Y20/V20 -> 0.17857143 | AB20: =Z20/W20 -> 0.42424242 | AC20: =_xlfn.RANK.EQ(V20,V$7:V$29,0) -> 21 | AE20: UNITED KINGDOM | AF20: 172372.97 | AG20: 134175.29 | AH20: 133358.62 | AI20: =AG20-AF20 -> -38197.675 | AJ20: =AH20-AG20 -> -816.67 | AK20: =AI20/AF20 -> -0.22159899 | AL20: =AJ20/AG20 -> -0.0060865902 | AM20: =_xlfn.RANK.EQ(AF20,AF$11:AF$33,0) -> 3
A21: BARBADOS | B21: 62747.552 | C21: 76468.92 | D21: 90197.68 | E21: =C21-B21 -> 13721.368 | F21: =D21-C21 -> 13728.76 | G21: =E21/B21 -> 0.21867575 | H21: =F21/C21 -> 0.17953386 | I21: =_xlfn.RANK.EQ(B21,B$8:B$30,0) -> 20 | K21: BARBADOS | L21: 4559.84 | M21: 7976.34 | N21: 4957.95 | O21: =M21-L21 -> 3416.5 | P21: =N21-M21 -> -3018.39 | Q21: =O21/L21 -> 0.74925875 | R21: =P21/M21 -> -0.37841792 | S21: =_xlfn.RANK.EQ(L21,L$8:L$30,0) -> 12 | U21: PANAMA | V21: 31 | W21: 34 | X21: 59 | Y21: =W21-V21 -> 3 | Z21: =X21-W21 -> 25 | AA21: =Y21/V21 -> 0.096774194 | AB21: =Z21/W21 -> 0.73529412 | AC21: =_xlfn.RANK.EQ(V21,V$7:V$29,0) -> 19 | AE21: UNITED STATES | AF21: 1321387.2 | AG21: 1297855.4 | AH21: 1281585.9 | AI21: =AG21-AF21 -> -23531.809 | AJ21: =AH21-AG21 -> -16269.538 | AK21: =AI21/AF21 -> -0.017808413 | AL21: =AJ21/AG21 -> -0.012535709 | AM21: =_xlfn.RANK.EQ(AF21,AF$11:AF$33,0) -> 1
A22: PANAMA | B22: 89277.84 | C22: 108219.87 | D22: 159393.6 | E22: =C22-B22 -> 18942.03 | F22: =D22-C22 -> 51173.73 | G22: =E22/B22 -> 0.21216945 | H22: =F22/C22 -> 0.47286815 | I22: =_xlfn.RANK.EQ(B22,B$8:B$30,0) -> 18 | K22: PANAMA | L22: 3516.7 | M22: 480.15 | N22: 873 | O22: =M22-L22 -> -3036.55 | P22: =N22-M22 -> 392.85 | Q22: =O22/L22 -> -0.86346575 | R22: =P22/M22 -> 0.81818182 | S22: =_xlfn.RANK.EQ(L22,L$8:L$30,0) -> 14 | U22: BELIZE | V22: 53 | W22: 54 | X22: 38 | Y22: =W22-V22 -> 1 | Z22: =X22-W22 -> -16 | AA22: =Y22/V22 -> 0.018867925 | AB22: =Z22/W22 -> -0.2962963 | AC22: =_xlfn.RANK.EQ(V22,V$7:V$29,0) -> 17 | AE22: CANADA | AF22: 148853.93 | AG22: 131975.66 | AH22: 120948.22 | AI22: =AG22-AF22 -> -16878.265 | AJ22: =AH22-AG22 -> -11027.443 | AK22: =AI22/AF22 -> -0.11338811 | AL22: =AJ22/AG22 -> -0.083556643 | AM22: =_xlfn.RANK.EQ(AF22,AF$11:AF$33,0) -> 4
A23: BELIZE | B23: 141119.69 | C23: 140872.18 | D23: 130509.38 | E23: =C23-B23 -> -247.5122 | F23: =D23-C23 -> -10362.8 | G23: =E23/B23 -> -0.0017539168 | H23: =F23/C23 -> -0.073561721 | I23: =_xlfn.RANK.EQ(B23,B$8:B$30,0) -> 15 | K23: BELIZE | L23: 725.01 | M23: 2244.73 | N23: 2200.6 | O23: =M23-L23 -> 1519.72 | P23: =N23-M23 -> -44.13 | Q23: =O23/L23 -> 2.0961366 | R23: =P23/M23 -> -0.01965938 | S23: =_xlfn.RANK.EQ(L23,L$8:L$30,0) -> 19 | U23: CHINA | V23: 21 | W23: 17 | X23: 25 | Y23: =W23-V23 -> -4 | Z23: =X23-W23 -> 8 | AA23: =Y23/V23 -> -0.19047619 | AB23: =Z23/W23 -> 0.47058824 | AC23: =_xlfn.RANK.EQ(V23,V$7:V$29,0) -> 22 | AE23: COSTA RICA | AF23: 3195.21 | AG23: 1508.4981 | AH23: 6440.45 | AI23: =AG23-AF23 -> -1686.7119 | AJ23: =AH23-AG23 -> 4931.9519 | AK23: =AI23/AF23 -> -0.52788765 | AL23: =AJ23/AG23 -> 3.2694452 | AM23: =_xlfn.RANK.EQ(AF23,AF$11:AF$33,0) -> 15
A24: CHINA | B24: 40793.34 | C24: 34647.26 | D24: 47130.58 | E24: =C24-B24 -> -6146.08 | F24: =D24-C24 -> 12483.32 | G24: =E24/B24 -> -0.15066381 | H24: =F24/C24 -> 0.36029747 | I24: =_xlfn.RANK.EQ(B24,B$8:B$30,0) -> 21 | K24: CHINA | L24: 1977.01 | M24: 0 | N24: 0 | O24: =M24-L24 -> -1977.01 | P24: =N24-M24 -> 0 | Q24: =O24/L24 -> -1 | R24: =P24/M24 -> #DIV/0! | S24: =_xlfn.RANK.EQ(L24,L$8:L$30,0) -> 17 | U24: CUBA | V24: 0 | W24: 0 | X24: 0 | Y24: =W24-V24 -> 0 | Z24: =X24-W24 -> 0 | AA24: =Y24/V24 -> #DIV/0! | AB24: =Z24/W24 -> #DIV/0! | AC24: =_xlfn.RANK.EQ(V24,V$7:V$29,0) -> 23 | AE24: BARBADOS | AF24: 4559.84 | AG24: 7976.34 | AH24: 4957.95 | AI24: =AG24-AF24 -> 3416.5 | AJ24: =AH24-AG24 -> -3018.39 | AK24: =AI24/AF24 -> 0.74925875 | AL24: =AJ24/AG24 -> -0.37841792 | AM24: =_xlfn.RANK.EQ(AF24,AF$11:AF$33,0) -> 12
A25: CUBA | B25: 0 | C25: 0 | D25: 0 | E25: =C25-B25 -> 0 | F25: =D25-C25 -> 0 | G25: =E25/B25 -> #DIV/0! | H25: =F25/C25 -> #DIV/0! | I25: =_xlfn.RANK.EQ(B25,B$8:B$30,0) -> 23 | K25: CUBA | L25: 0 | M25: 0 | N25: 0 | O25: =M25-L25 -> 0 | P25: =N25-M25 -> 0 | Q25: 0 | R25: 0 | S25: =_xlfn.RANK.EQ(L25,L$8:L$30,0) -> 21 | U25: KENYA | V25: 31 | W25: 21 | X25: 22 | Y25: =W25-V25 -> -10 | Z25: =X25-W25 -> 1 | AA25: =Y25/V25 -> -0.32258065 | AB25: =Z25/W25 -> 0.047619048 | AC25: =_xlfn.RANK.EQ(V25,V$7:V$29,0) -> 19 | AE25: PANAMA | AF25: 3516.7 | AG25: 480.15 | AH25: 873 | AI25: =AG25-AF25 -> -3036.55 | AJ25: =AH25-AG25 -> 392.85 | AK25: =AI25/AF25 -> -0.86346575 | AL25: =AJ25/AG25 -> 0.81818182 | AM25: =_xlfn.RANK.EQ(AF25,AF$11:AF$33,0) -> 14
A26: KENYA | B26: 73981.893 | C26: 40782.279 | D26: 48088.18 | E26: =C26-B26 -> -33199.614 | F26: =D26-C26 -> 7305.901 | G26: =E26/B26 -> -0.44875324 | H26: =F26/C26 -> 0.17914401 | I26: =_xlfn.RANK.EQ(B26,B$8:B$30,0) -> 19 | K26: KENYA | L26: 846.09 | M26: 3633.9 | N26: 706.88 | O26: =M26-L26 -> 2787.81 | P26: =N26-M26 -> -2927.02 | Q26: =O26/L26 -> 3.2949332 | R26: =P26/M26 -> -0.80547621 | S26: =_xlfn.RANK.EQ(L26,L$8:L$30,0) -> 18 | U26: MEXICO | V26: 149 | W26: 75 | X26: 121 | Y26: =W26-V26 -> -74 | Z26: =X26-W26 -> 46 | AA26: =Y26/V26 -> -0.4966443 | AB26: =Z26/W26 -> 0.61333333 | AC26: =_xlfn.RANK.EQ(V26,V$7:V$29,0) -> 10 | AE26: BELIZE | AF26: 725.01 | AG26: 2244.73 | AH26: 2200.6 | AI26: =AG26-AF26 -> 1519.72 | AJ26: =AH26-AG26 -> -44.13 | AK26: =AI26/AF26 -> 2.0961366 | AL26: =AJ26/AG26 -> -0.01965938 | AM26: =_xlfn.RANK.EQ(AF26,AF$11:AF$33,0) -> 19
A27: MEXICO | B27: 99505.49 | C27: 165685.37 | D27: 223867.09 | E27: =C27-B27 -> 66179.882 | F27: =D27-C27 -> 58181.718 | G27: =E27/B27 -> 0.66508774 | H27: =F27/C27 -> 0.35115784 | I27: =_xlfn.RANK.EQ(B27,B$8:B$30,0) -> 17 | K27: MEXICO | L27: 2017.97 | M27: 0 | N27: 1073.4 | O27: =M27-L27 -> -2017.97 | P27: =N27-M27 -> 1073.4 | Q27: =O27/L27 -> -1 | R27: =P27/M27 -> #DIV/0! | S27: =_xlfn.RANK.EQ(L27,L$8:L$30,0) -> 16 | U27: NEPAL | V27: 149 | W27: 111 | X27: 169 | Y27: =W27-V27 -> -38 | Z27: =X27-W27 -> 58 | AA27: =Y27/V27 -> -0.25503356 | AB27: =Z27/W27 -> 0.52252252 | AC27: =_xlfn.RANK.EQ(V27,V$7:V$29,0) -> 10 | AE27: CHINA | AF27: 1977.01 | AG27: 0 | AH27: 0 | AI27: =AG27-AF27 -> -1977.01 | AJ27: =AH27-AG27 -> 0 | AK27: =AI27/AF27 -> -1 | AL27: =AJ27/AG27 -> #DIV/0! | AM27: =_xlfn.RANK.EQ(AF27,AF$11:AF$33,0) -> 17
A28: NEPAL | B28: 410311.2 | C28: 180031.45 | D28: 266596.71 | E28: =C28-B28 -> -230279.75 | F28: =D28-C28 -> 86565.257 | G28: =E28/B28 -> -0.56123193 | H28: =F28/C28 -> 0.48083408 | I28: =_xlfn.RANK.EQ(B28,B$8:B$30,0) -> 10 | K28: NEPAL | L28: 0 | M28: 7561.13 | N28: 0 | O28: =M28-L28 -> 7561.13 | P28: =N28-M28 -> -7561.13 | Q28: 0 | R28: 0 | S28: =_xlfn.RANK.EQ(L28,L$8:L$30,0) -> 21 | U28: PERU | V28: 95 | W28: 100 | X28: 121 | Y28: =W28-V28 -> 5 | Z28: =X28-W28 -> 21 | AA28: =Y28/V28 -> 0.052631579 | AB28: =Z28/W28 -> 0.21 | AC28: =_xlfn.RANK.EQ(V28,V$7:V$29,0) -> 15 | AE28: CUBA | AF28: 0 | AG28: 0 | AH28: 0 | AI28: =AG28-AF28 -> 0 | AJ28: =AH28-AG28 -> 0 | AK28: 0 | AL28: 0 | AM28: =_xlfn.RANK.EQ(AF28,AF$11:AF$33,0) -> 21
A29: PERU | B29: 11690.934 | C29: 161661.97 | D29: 209163.66 | E29: =C29-B29 -> 149971.04 | F29: =D29-C29 -> 47501.69 | G29: =E29/B29 -> 12.827978 | H29: =F29/C29 -> 0.29383342 | I29: =_xlfn.RANK.EQ(B29,B$8:B$30,0) -> 22 | K29: PERU | L29: 4268.73 | M29: 577.15 | N29: 3998.3 | O29: =M29-L29 -> -3691.58 | P29: =N29-M29 -> 3421.15 | Q29: =O29/L29 -> -0.86479585 | R29: =P29/M29 -> 5.9276618 | S29: =_xlfn.RANK.EQ(L29,L$8:L$30,0) -> 13 | U29: ZIMBABWE | V29: 56 | W29: 112 | X29: 159 | Y29: =W29-V29 -> 56 | Z29: =X29-W29 -> 47 | AA29: =Y29/V29 -> 1 | AB29: =Z29/W29 -> 0.41964286 | AC29: =_xlfn.RANK.EQ(V29,V$7:V$29,0) -> 16 | AE29: KENYA | AF29: 846.09 | AG29: 3633.9 | AH29: 706.88 | AI29: =AG29-AF29 -> 2787.81 | AJ29: =AH29-AG29 -> -2927.02 | AK29: 1 | AL29: =AJ29/AG29 -> -0.80547621 | AM29: =_xlfn.RANK.EQ(AF29,AF$11:AF$33,0) -> 18
A30: ZIMBABWE | B30: 351567.58 | C30: 268712.27 | D30: 375843.89 | E30: =C30-B30 -> -82855.308 | F30: =D30-C30 -> 107131.62 | G30: =E30/B30 -> -0.23567392 | H30: =F30/C30 -> 0.39868526 | I30: =_xlfn.RANK.EQ(B30,B$8:B$30,0) -> 11 | K30: ZIMBABWE | L30: 97 | M30: 1173.62 | N30: 3673.71 | O30: =M30-L30 -> 1076.62 | P30: =N30-M30 -> 2500.09 | Q30: =O30/L30 -> 11.099175 | R30: 1 | S30: =_xlfn.RANK.EQ(L30,L$8:L$30,0) -> 20 | U30: OTHER | V30: 657 | W30: 709 | X30: 769 | Y30: =W30-V30 -> 52 | Z30: =X30-W30 -> 60 | AA30: =Y30/V30 -> 0.079147641 | AB30: =Z30/W30 -> 0.084626234 | AE30: MEXICO | AF30: 2017.97 | AG30: 0 | AH30: 1073.4 | AI30: =AG30-AF30 -> -2017.97 | AJ30: =AH30-AG30 -> 1073.4 | AK30: =AI30/AF30 -> -1 | AL30: =AJ30/AG30 -> #DIV/0! | AM30: =_xlfn.RANK.EQ(AF30,AF$11:AF$33,0) -> 16
A31: OTHER | B31: 1493706 | C31: 1723663.8 | D31: 1694397.5 | E31: =C31-B31 -> 229957.8 | F31: =D31-C31 -> -29266.339 | G31: =E31/B31 -> 0.15395117 | H31: =F31/C31 -> -0.016979145 | K31: OTHER | L31: 261306.36 | M31: 299798.3 | N31: 414623.33 | O31: =M31-L31 -> 38491.937 | P31: =N31-M31 -> 114825.03 | Q31: =O31/L31 -> 0.14730578 | R31: =P31/M31 -> 0.38300762 | U31: TOTAL TRANSACTIONS | V31: =SUM(V7:V30) -> 36933 | W31: =SUM(W7:W30) -> 39165 | X31: =SUM(X7:X30) -> 40604 | Y31: =W31-V31 -> 2232 | Z31: =X31-W31 -> 1439 | AA31: =Y31/V31 -> 0.060433758 | AB31: =Z31/W31 -> 0.036741989 | AE31: NEPAL | AF31: 0 | AG31: 7561.13 | AH31: 0 | AI31: =AG31-AF31 -> 7561.13 | AJ31: =AH31-AG31 -> -7561.13 | AK31: 0 | AL31: 0 | AM31: =_xlfn.RANK.EQ(AF31,AF$11:AF$33,0) -> 21
A32: TOTALS | B32: =SUM(B8:B31) -> 82079147 | C32: =SUM(C8:C31) -> 84389299 | D32: =SUM(D8:D31) -> 85922556 | E32: =C32-B32 -> 2310151.6 | F32: =D32-C32 -> 1533257.1 | G32: =E32/B32 -> 0.028145415 | H32: =F32/C32 -> 0.018168856 | K32: TOTALS | L32: =SUM(L8:L31) -> 2473121 | M32: =SUM(M8:M31) -> 2392508.8 | N32: =SUM(N8:N31) -> 2312842.8 | O32: =M32-L32 -> -80612.176 | P32: =N32-M32 -> -79666.063 | Q32: =O32/L32 -> -0.032595322 | R32: =P32/M32 -> -0.033298127 | U32: VALUE IN US$ (>CI$500) | V32: 43097326 | W32: 43940731 | X32: 50103909 | Y32: =W32-V32 -> 843404.38 | Z32: =X32-W32 -> 6163178 | AA32: =Y32/V32 -> 0.019569761 | AB32: =Z32/W32 -> 0.14026116 | AE32: PERU | AF32: 4268.73 | AG32: 577.15 | AH32: 3998.3 | AI32: =AG32-AF32 -> -3691.58 | AJ32: =AH32-AG32 -> 3421.15 | AK32: =AI32/AF32 -> -0.86479585 | AL32: =AJ32/AG32 -> 5.9276618 | AM32: =_xlfn.RANK.EQ(AF32,AF$11:AF$33,0) -> 13
AE33: ZIMBABWE | AF33: 97 | AG33: 1173.62 | AH33: 3673.71 | AI33: =AG33-AF33 -> 1076.62 | AJ33: =AH33-AG33 -> 2500.09 | AK33: =AI33/AF33 -> 11.099175 | AL33: 0 | AM33: =_xlfn.RANK.EQ(AF33,AF$11:AF$33,0) -> 20
AE34: OTHER | AF34: 261306.36 | AG34: 299798.3 | AH34: 414623.33 | AI34: =AG34-AF34 -> 38491.937 | AJ34: =AH34-AG34 -> 114825.03 | AK34: =AI34/AF34 -> 0.14730578 | AL34: =AJ34/AG34 -> 0.38300762
A35: COUNTRY | B35: 2023Q4 | C35: 2024Q4 | D35: 2025Q4 | E35: 17/18 Diff | F35: 18/19 Diff | K35: COUNTRY | L35: 2023Q4 | M35: 2024Q4 | N35: 2025Q4 | O35: 17/18 Diff | P35: 18/19 Diff | AE35: VALUE IN US$ | AF35: =SUM(AF11:AF34) -> 2473121 | AG35: =SUM(AG11:AG34) -> 2392508.8 | AH35: =SUM(AH11:AH34) -> 2312842.8 | AI35: =AG35-AF35 -> -80612.176 | AJ35: =AH35-AG35 -> -79666.063 | AK35: =AI35/AF35 -> -0.032595322 | AL35: =AJ35/AG35 -> -0.033298127
A36: JAMAICA | B36: =B8/B$32 -> 0.6217939 | C36: =C8/C$32 -> 0.62941537 | D36: =D8/D$32 -> 0.62327164 | E36: =C36-B36 -> 0.0076214779 | F36: =D36-C36 -> -0.0061437346 | I36: =_xlfn.RANK.EQ(B36,B$36:B$58,0) -> 1 | K36: JAMAICA | L36: =L8/L$32 -> 0.1575143 | M36: =M8/M$32 -> 0.15525602 | N36: =N8/N$32 -> 0.10785596 | O36: =M36-L36 -> -0.0022582802 | P36: =N36-M36 -> -0.047400064 | S36: =_xlfn.RANK.EQ(L36,L$36:L$58,0) -> 2 | U36: COUNTRY | V36: 2023Q4 | W36: 2024Q4 | X36: 2025Q4 | Y36: 17/18 Diff | Z36: 18/19 Diff
A37: HONDURAS | B37: =B9/B$32 -> 0.067567463 | C37: =C9/C$32 -> 0.067075691 | D37: =D9/D$32 -> 0.066312018 | E37: =C37-B37 -> -0.00049177167 | F37: =D37-C37 -> -0.00076367258 | I37: =_xlfn.RANK.EQ(B37,B$36:B$58,0) -> 3 | K37: HONDURAS | L37: =L9/L$32 -> 0.015892283 | M37: =M9/M$32 -> 0.0099248829 | N37: =N9/N$32 -> 0.0094658445 | O37: =M37-L37 -> -0.0059674005 | P37: =N37-M37 -> -0.0004590384 | S37: =_xlfn.RANK.EQ(L37,L$36:L$58,0) -> 6 | U37: JAMAICA | V37: 120255 | W37: 115405 | X37: 107068 | Y37: =W37-V37 -> -4850 | Z37: =X37-W37 -> -8337 | AA37: =Y37/V37 -> -0.040330963 | AB37: =Z37/W37 -> -0.072241237 | AC37: =_xlfn.RANK.EQ(V37,V$37:V$59,0) -> 1
A38: PHILIPPINES | B38: =B10/B$32 -> 0.15147315 | C38: =C10/C$32 -> 0.14150541 | D38: =D10/D$32 -> 0.14511113 | E38: =C38-B38 -> -0.0099677405 | F38: =D38-C38 -> 0.0036057226 | I38: =_xlfn.RANK.EQ(B38,B$36:B$58,0) -> 2 | K38: PHILIPPINES | L38: =L10/L$32 -> 0.027415096 | M38: =M10/M$32 -> 0.024193302 | N38: =N10/N$32 -> 0.0072434712 | O38: =M38-L38 -> -0.0032217935 | P38: =N38-M38 -> -0.016949831 | S38: =_xlfn.RANK.EQ(L38,L$36:L$58,0) -> 5 | U38: HONDURAS | V38: 13209 | W38: 12616 | X38: 12004 | Y38: =W38-V38 -> -593 | Z38: =X38-W38 -> -612 | AA38: =Y38/V38 -> -0.044893633 | AB38: =Z38/W38 -> -0.048509829 | AC38: =_xlfn.RANK.EQ(V38,V$37:V$59,0) -> 3
A39: DOMINICAN REPUBLIC | B39: =B11/B$32 -> 0.020821553 | C39: =C11/C$32 -> 0.023739355 | D39: =D11/D$32 -> 0.027994836 | E39: =C39-B39 -> 0.0029178022 | F39: =D39-C39 -> 0.004255481 | I39: =_xlfn.RANK.EQ(B39,B$36:B$58,0) -> 6 | K39: DOMINICAN REPUBLIC | L39: =L11/L$32 -> 0.0058396697 | M39: =M11/M$32 -> 0.0061243786 | N39: =N11/N$32 -> 0.0035886097 | O39: =M39-L39 -> 0.00028470887 | P39: =N39-M39 -> -0.0025357689 | S39: =_xlfn.RANK.EQ(L39,L$36:L$58,0) -> 8 | U39: PHILIPPINES | V39: 18418 | W39: 16248 | X39: 15438 | Y39: =W39-V39 -> -2170 | Z39: =X39-W39 -> -810 | AA39: =Y39/V39 -> -0.11781952 | AB39: =Z39/W39 -> -0.04985229 | AC39: =_xlfn.RANK.EQ(V39,V$37:V$59,0) -> 2
A40: NICARAGUA | B40: =B12/B$32 -> 0.026434257 | C40: =C12/C$32 -> 0.025583623 | D40: =D12/D$32 -> 0.028453072 | E40: =C40-B40 -> -0.00085063389 | F40: =D40-C40 -> 0.0028694497 | I40: =_xlfn.RANK.EQ(B40,B$36:B$58,0) -> 5 | K40: NICARAGUA | L40: =L12/L$32 -> 0.0043335971 | M40: =M12/M$32 -> 0.003411327 | N40: =N12/N$32 -> 0.0031440702 | O40: =M40-L40 -> -0.00092227008 | P40: =N40-M40 -> -0.00026725682 | S40: =_xlfn.RANK.EQ(L40,L$36:L$58,0) -> 9 | U40: DOMINICAN REPUBLIC | V40: 2432 | W40: 2395 | X40: 2366 | Y40: =W40-V40 -> -37 | Z40: =X40-W40 -> -29 | AA40: =Y40/V40 -> -0.015213816 | AB40: =Z40/W40 -> -0.012108559 | AC40: =_xlfn.RANK.EQ(V40,V$37:V$59,0) -> 6 | AF40: 0.62901275 | AG40: 0.59539756 | AH40: =AF40-AG40 -> 0.033615196
A41: COLOMBIA | B41: =B13/B$32 -> 0.0098297506 | C41: =C13/C$32 -> 0.010424648 | D41: =D13/D$32 -> 0.010202951 | E41: =C41-B41 -> 0.00059489723 | F41: =D41-C41 -> -0.00022169647 | I41: =_xlfn.RANK.EQ(B41,B$36:B$58,0) -> 7 | K41: COLOMBIA | L41: =L13/L$32 -> 0.0021589562 | M41: =M13/M$32 -> 0.0026365169 | N41: =N13/N$32 -> 0.007498789 | O41: =M41-L41 -> 0.00047756068 | P41: =N41-M41 -> 0.0048622721 | S41: =_xlfn.RANK.EQ(L41,L$36:L$58,0) -> 11 | U41: NICARAGUA | V41: 6070 | W41: 5778 | X41: 6181 | Y41: =W41-V41 -> -292 | Z41: =X41-W41 -> 403 | AA41: =Y41/V41 -> -0.048105437 | AB41: =Z41/W41 -> 0.069747317 | AC41: =_xlfn.RANK.EQ(V41,V$37:V$59,0) -> 5
A42: GUYANA | B42: =B14/B$32 -> 0.0063428296 | C42: =C14/C$32 -> 0.0056638313 | D42: =D14/D$32 -> 0.0045300406 | E42: =C42-B42 -> -0.00067899826 | F42: =D42-C42 -> -0.0011337907 | I42: =_xlfn.RANK.EQ(B42,B$36:B$58,0) -> 9 | K42: GUYANA | L42: =L14/L$32 -> 0.0025043012 | M42: =M14/M$32 -> 0.0027463755 | N42: =N14/N$32 -> 0.0023277112 | O42: =M42-L42 -> 0.00024207425 | P42: =N42-M42 -> -0.0004186643 | S42: =_xlfn.RANK.EQ(L42,L$36:L$58,0) -> 10 | U42: COLUMBIA | V42: 1844 | W42: 1934 | X42: 1636 | Y42: =W42-V42 -> 90 | Z42: =X42-W42 -> -298 | AA42: =Y42/V42 -> 0.048806941 | AB42: =Z42/W42 -> -0.1540848 | AC42: =_xlfn.RANK.EQ(V42,V$37:V$59,0) -> 7
A43: TRINIDAD & TOBAGO | B43: =B15/B$32 -> 0.0015609807 | C43: =C15/C$32 -> 0.0017025398 | D43: =D15/D$32 -> 0.0016743248 | E43: =C43-B43 -> 0.00014155917 | F43: =D43-C43 -> -2.8214985e-05 | I43: =_xlfn.RANK.EQ(B43,B$36:B$58,0) -> 16 | K43: TRINIDAD & TOBAGO | L43: =L15/L$32 -> 0.005922937 | M43: =M15/M$32 -> 0.0061760763 | N43: =N15/N$32 -> 0.0051900501 | O43: =M43-L43 -> 0.00025313929 | P43: =N43-M43 -> -0.00098602615 | S43: =_xlfn.RANK.EQ(L43,L$36:L$58,0) -> 7 | U43: GUYANA | V43: 901 | W43: 724 | X43: 586 | Y43: =W43-V43 -> -177 | Z43: =X43-W43 -> -138 | AA43: =Y43/V43 -> -0.19644839 | AB43: =Z43/W43 -> -0.19060773 | AC43: =_xlfn.RANK.EQ(V43,V$37:V$59,0) -> 8 | AF43: 1828326.8 | AG43: 1653916.6 | AH43: =AF43-AG43 -> 174410.15
A44: INDIA | B44: =B16/B$32 -> 0.0032203337 | C44: =C16/C$32 -> 0.0024851507 | D44: =D16/D$32 -> 0.0018499231 | E44: =C44-B44 -> -0.00073518294 | F44: =D44-C44 -> -0.00063522765 | I44: =_xlfn.RANK.EQ(B44,B$36:B$58,0) -> 13 | K44: INDIA | L44: =L16/L$32 -> 0 | M44: =M16/M$32 -> 0 | N44: =N16/N$32 -> 0 | O44: =M44-L44 -> 0 | P44: =N44-M44 -> 0 | S44: =_xlfn.RANK.EQ(L44,L$36:L$58,0) -> 21 | U44: TRINIDAD & TOBAGO | V44: 361 | W44: 393 | X44: 408 | Y44: =W44-V44 -> 32 | Z44: =X44-W44 -> 15 | AA44: =Y44/V44 -> 0.088642659 | AB44: =Z44/W44 -> 0.038167939 | AC44: =_xlfn.RANK.EQ(V44,V$37:V$59,0) -> 14
A45: UNITED KINGDOM | B45: =B17/B$32 -> 0.0033435229 | C45: =C17/C$32 -> 0.003288337 | D45: =D17/D$32 -> 0.0035172637 | E45: =C45-B45 -> -5.5185983e-05 | F45: =D45-C45 -> 0.00022892677 | I45: =_xlfn.RANK.EQ(B45,B$36:B$58,0) -> 12 | K45: UNITED KINGDOM | L45: =L17/L$32 -> 0.069698557 | M45: =M17/M$32 -> 0.056081419 | N45: =N17/N$32 -> 0.057660046 | O45: =M45-L45 -> -0.013617138 | P45: =N45-M45 -> 0.0015786269 | S45: =_xlfn.RANK.EQ(L45,L$36:L$58,0) -> 3 | U45: INDIA | V45: 256 | W45: 167 | X45: 139 | Y45: =W45-V45 -> -89 | Z45: =X45-W45 -> -28 | AA45: =Y45/V45 -> -0.34765625 | AB45: =Z45/W45 -> -0.16766467 | AC45: =_xlfn.RANK.EQ(V45,V$37:V$59,0) -> 16
A46: UNITED STATES | B46: =B18/B$32 -> 0.044418198 | C46: =C18/C$32 -> 0.044823597 | D46: =D18/D$32 -> 0.040765805 | E46: =C46-B46 -> 0.00040539902 | F46: =D46-C46 -> -0.0040577912 | I46: =_xlfn.RANK.EQ(B46,B$36:B$58,0) -> 4 | K46: UNITED STATES | L46: =L18/L$32 -> 0.53429946 | M46: =M18/M$32 -> 0.5424663 | N46: =N18/N$32 -> 0.55411716 | O46: =M46-L46 -> 0.0081668382 | P46: =N46-M46 -> 0.011650864 | S46: =_xlfn.RANK.EQ(L46,L$36:L$58,0) -> 1 | U46: UNITED KINGDOM | V46: 585 | W46: 596 | X46: 510 | Y46: =W46-V46 -> 11 | Z46: =X46-W46 -> -86 | AA46: =Y46/V46 -> 0.018803419 | AB46: =Z46/W46 -> -0.1442953 | AC46: =_xlfn.RANK.EQ(V46,V$37:V$59,0) -> 10
A47: CANADA | B47: =B19/B$32 -> 0.0064973736 | C47: =C19/C$32 -> 0.0071084765 | D47: =D19/D$32 -> 0.0056301515 | E47: =C47-B47 -> 0.00061110287 | F47: =D47-C47 -> -0.001478325 | I47: =_xlfn.RANK.EQ(B47,B$36:B$58,0) -> 8 | K47: CANADA | L47: =L19/L$32 -> 0.060188696 | M47: =M19/M$32 -> 0.055162038 | N47: =N19/N$32 -> 0.052294181 | O47: =M47-L47 -> -0.005026658 | P47: =N47-M47 -> -0.0028678564 | S47: =_xlfn.RANK.EQ(L47,L$36:L$58,0) -> 4 | U47: UNITED STATES | V47: 6622 | W47: 6508 | X47: 5744 | Y47: =W47-V47 -> -114 | Z47: =X47-W47 -> -764 | AA47: =Y47/V47 -> -0.017215343 | AB47: =Z47/W47 -> -0.11739398 | AC47: =_xlfn.RANK.EQ(V47,V$37:V$59,0) -> 4
