Workbook
Name Remittance_Report: 'DATA TABLES'!#REF!
Name Remittance_Report: #REF!
Name Website__www.cima.ky: 'DATA TABLES'!#REF!
Name Website__www.cima.ky: #REF!

Sheet COVER
B9: PAGES
B11: Money Service Business Statistics Dashboard
B13: Data Tables
B15: Remittances - Total Outflows, Total Inflows, Net Remittances in US$
B17: Number of Transactions by Country and Value (in US$) - 5 Largest Countries by Number of Transactions
B19: Remittance Outflows by Country and By Country by Percentage in US$
B28: Contact Information
B29: Phone: 345-949-7089
B30: Website: www.cima.ky
B31: Email: ContactFinancialStability@cima.ky
B32: Prepared by Financial Stability and Statistics Division
B33: Updated: | C33: 46112

Sheet DASHBOARD
B36: Country | C36: Inflows | D36: Outflows | E36: # of Transactions (more than) > $CI500 - Outflows | F36: # of Transactions (less than) < $CI500 - Outflows
B37: Africa | C37: =SUM(C38:C39) -> 4380.59 | D37: =SUM(D38:D39) -> 423932.07 | E37: =SUM(E38:E39) -> 181 | F37: =SUM(F38:F39) -> 662
B38: KENYA | C38: =_xlfn.XLOOKUP(B38,INFLOWS!$B$8:$B$31,INFLOWS!$AY$8:$AY$31,) -> 706.88 | D38: =_xlfn.XLOOKUP(B38,OUTFLOWS!$B$8:$B$31,OUTFLOWS!$AY$8:$AY$31,) -> 48088.18 | E38: =_xlfn.XLOOKUP(B38,'Trans OUTFLOWS'!$B$7:$B$30,'Trans OUTFLOWS'!$AY$7:$AY$30,) -> 22 | F38: =_xlfn.XLOOKUP(B38,'Trans OUTFLOWS'!$B$37:$B$60,'Trans OUTFLOWS'!$AY$37:$AY$60,) -> 120
B39: ZIMBABWE | C39: =_xlfn.XLOOKUP(B39,INFLOWS!$B$8:$B$31,INFLOWS!$AY$8:$AY$31,) -> 3673.71 | D39: =_xlfn.XLOOKUP(B39,OUTFLOWS!$B$8:$B$31,OUTFLOWS!$AY$8:$AY$31,) -> 375843.89 | E39: =_xlfn.XLOOKUP(B39,'Trans OUTFLOWS'!$B$7:$B$30,'Trans OUTFLOWS'!$AY$7:$AY$30,) -> 159 | F39: =_xlfn.XLOOKUP(B39,'Trans OUTFLOWS'!$B$37:$B$60,'Trans OUTFLOWS'!$AY$37:$AY$60,) -> 542
B40: Asia | C40: =SUM(C41:C44) -> 16753.01 | D40: =SUM(D41:D44) -> 12940996 | E40: =SUM(E41:E44) -> 7356 | F40: =SUM(F41:F44) -> 15704
B41: CHINA | C41: =_xlfn.XLOOKUP(B41,INFLOWS!$B$8:$B$31,INFLOWS!$AY$8:$AY$31,) -> 0 | D41: =_xlfn.XLOOKUP(B41,OUTFLOWS!$B$8:$B$31,OUTFLOWS!$AY$8:$AY$31,) -> 47130.58 | E41: =_xlfn.XLOOKUP(B41,'Trans OUTFLOWS'!$B$7:$B$30,'Trans OUTFLOWS'!$AY$7:$AY$30,) -> 25 | F41: =_xlfn.XLOOKUP(B41,'Trans OUTFLOWS'!$B$37:$B$60,'Trans OUTFLOWS'!$AY$37:$AY$60,) -> 28
B42: INDIA | C42: =_xlfn.XLOOKUP(B42,INFLOWS!$B$8:$B$31,INFLOWS!$AY$8:$AY$31,) -> 0 | D42: =_xlfn.XLOOKUP(B42,OUTFLOWS!$B$8:$B$31,OUTFLOWS!$AY$8:$AY$31,) -> 158950.12 | E42: =_xlfn.XLOOKUP(B42,'Trans OUTFLOWS'!$B$7:$B$30,'Trans OUTFLOWS'!$AY$7:$AY$30,) -> 82 | F42: =_xlfn.XLOOKUP(B42,'Trans OUTFLOWS'!$B$37:$B$60,'Trans OUTFLOWS'!$AY$37:$AY$60,) -> 139
B43: NEPAL | C43: =_xlfn.XLOOKUP(B43,INFLOWS!$B$8:$B$31,INFLOWS!$AY$8:$AY$31,) -> 0 | D43: =_xlfn.XLOOKUP(B43,OUTFLOWS!$B$8:$B$31,OUTFLOWS!$AY$8:$AY$31,) -> 266596.71 | E43: =_xlfn.XLOOKUP(B43,'Trans OUTFLOWS'!$B$7:$B$30,'Trans OUTFLOWS'!$AY$7:$AY$30,) -> 169 | F43: =_xlfn.XLOOKUP(B43,'Trans OUTFLOWS'!$B$37:$B$60,'Trans OUTFLOWS'!$AY$37:$AY$60,) -> 99
B44: PHILIPPINES | C44: =_xlfn.XLOOKUP(B44,INFLOWS!$B$8:$B$31,INFLOWS!$AY$8:$AY$31,) -> 16753.01 | D44: =_xlfn.XLOOKUP(B44,OUTFLOWS!$B$8:$B$31,OUTFLOWS!$AY$8:$AY$31,) -> 12468319 | E44: =_xlfn.XLOOKUP(B44,'Trans OUTFLOWS'!$B$7:$B$30,'Trans OUTFLOWS'!$AY$7:$AY$30,) -> 7080 | F44: =_xlfn.XLOOKUP(B44,'Trans OUTFLOWS'!$B$37:$B$60,'Trans OUTFLOWS'!$AY$37:$AY$60,) -> 15438
B45: Caribbean | C45: =SUM(C46:C50) -> 274715.49 | D45: =SUM(D46:D50) -> 56192540 | E45: =SUM(E46:E50) -> 25436 | F45: =SUM(F46:F50) -> 109989
B46: BARBADOS | C46: =_xlfn.XLOOKUP(B46,INFLOWS!$B$8:$B$31,INFLOWS!$AY$8:$AY$31,) -> 4957.95 | D46: =_xlfn.XLOOKUP(B46,OUTFLOWS!$B$8:$B$31,OUTFLOWS!$AY$8:$AY$31,) -> 90197.68 | E46: =_xlfn.XLOOKUP(B46,'Trans OUTFLOWS'!$B$7:$B$30,'Trans OUTFLOWS'!$AY$7:$AY$30,) -> 47 | F46: =_xlfn.XLOOKUP(B46,'Trans OUTFLOWS'!$B$37:$B$60,'Trans OUTFLOWS'!$AY$37:$AY$60,) -> 147
B47: CUBA | C47: =_xlfn.XLOOKUP(B47,INFLOWS!$B$8:$B$31,INFLOWS!$AY$8:$AY$31,) -> 0 | D47: =_xlfn.XLOOKUP(B47,OUTFLOWS!$B$8:$B$31,OUTFLOWS!$AY$8:$AY$31,) -> 0 | E47: =_xlfn.XLOOKUP(B47,'Trans OUTFLOWS'!$B$7:$B$30,'Trans OUTFLOWS'!$AY$7:$AY$30,) -> 0 | F47: =_xlfn.XLOOKUP(B47,'Trans OUTFLOWS'!$B$37:$B$60,'Trans OUTFLOWS'!$AY$37:$AY$60,) -> 0
B48: DOMINICAN REPUBLIC | C48: =_xlfn.XLOOKUP(B48,INFLOWS!$B$8:$B$31,INFLOWS!$AY$8:$AY$31,) -> 8299.89 | D48: =_xlfn.XLOOKUP(B48,OUTFLOWS!$B$8:$B$31,OUTFLOWS!$AY$8:$AY$31,) -> 2405387.9 | E48: =_xlfn.XLOOKUP(B48,'Trans OUTFLOWS'!$B$7:$B$30,'Trans OUTFLOWS'!$AY$7:$AY$30,) -> 1307 | F48: =_xlfn.XLOOKUP(B48,'Trans OUTFLOWS'!$B$37:$B$60,'Trans OUTFLOWS'!$AY$37:$AY$60,) -> 2366
B49: JAMAICA | C49: =_xlfn.XLOOKUP(B49,INFLOWS!$B$8:$B$31,INFLOWS!$AY$8:$AY$31,) -> 249453.88 | D49: =_xlfn.XLOOKUP(B49,OUTFLOWS!$B$8:$B$31,OUTFLOWS!$AY$8:$AY$31,) -> 53553092 | E49: =_xlfn.XLOOKUP(B49,'Trans OUTFLOWS'!$B$7:$B$30,'Trans OUTFLOWS'!$AY$7:$AY$30,) -> 24028 | F49: =_xlfn.XLOOKUP(B49,'Trans OUTFLOWS'!$B$37:$B$60,'Trans OUTFLOWS'!$AY$37:$AY$60,) -> 107068
B50: TRINIDAD & TOBAGO | C50: =_xlfn.XLOOKUP(B50,INFLOWS!$B$8:$B$31,INFLOWS!$AY$8:$AY$31,) -> 12003.77 | D50: =_xlfn.XLOOKUP(B50,OUTFLOWS!$B$8:$B$31,OUTFLOWS!$AY$8:$AY$31,) -> 143862.27 | E50: =_xlfn.XLOOKUP(B50,'Trans OUTFLOWS'!$B$7:$B$30,'Trans OUTFLOWS'!$AY$7:$AY$30,) -> 54 | F50: =_xlfn.XLOOKUP(B50,'Trans OUTFLOWS'!$B$37:$B$60,'Trans OUTFLOWS'!$AY$37:$AY$60,) -> 408
B51: Central America | C51: =SUM(C52:C56) -> 38678.8 | D51: =SUM(D52:D56) -> 8683091.2 | E51: =SUM(E52:E56) -> 3945 | F51: =SUM(F52:F56) -> 19382
B52: BELIZE | C52: =_xlfn.XLOOKUP(B52,INFLOWS!$B$8:$B$31,INFLOWS!$AY$8:$AY$31,) -> 2200.6 | D52: =_xlfn.XLOOKUP(B52,OUTFLOWS!$B$8:$B$31,OUTFLOWS!$AY$8:$AY$31,) -> 130509.38 | E52: =_xlfn.XLOOKUP(B52,'Trans OUTFLOWS'!$B$7:$B$30,'Trans OUTFLOWS'!$AY$7:$AY$30,) -> 38 | F52: =_xlfn.XLOOKUP(B52,'Trans OUTFLOWS'!$B$37:$B$60,'Trans OUTFLOWS'!$AY$37:$AY$60,) -> 349
B53: COSTA RICA | C53: =_xlfn.XLOOKUP(B53,INFLOWS!$B$8:$B$31,INFLOWS!$AY$8:$AY$31,) -> 6440.45 | D53: =_xlfn.XLOOKUP(B53,OUTFLOWS!$B$8:$B$31,OUTFLOWS!$AY$8:$AY$31,) -> 250729.38 | E53: =_xlfn.XLOOKUP(B53,'Trans OUTFLOWS'!$B$7:$B$30,'Trans OUTFLOWS'!$AY$7:$AY$30,) -> 142 | F53: =_xlfn.XLOOKUP(B53,'Trans OUTFLOWS'!$B$37:$B$60,'Trans OUTFLOWS'!$AY$37:$AY$60,) -> 400
B54: HONDURAS | C54: =_xlfn.XLOOKUP(B54,INFLOWS!$B$8:$B$31,INFLOWS!$AY$8:$AY$31,) -> 21893.01 | D54: =_xlfn.XLOOKUP(B54,OUTFLOWS!$B$8:$B$31,OUTFLOWS!$AY$8:$AY$31,) -> 5697698.1 | E54: =_xlfn.XLOOKUP(B54,'Trans OUTFLOWS'!$B$7:$B$30,'Trans OUTFLOWS'!$AY$7:$AY$30,) -> 2622 | F54: =_xlfn.XLOOKUP(B54,'Trans OUTFLOWS'!$B$37:$B$60,'Trans OUTFLOWS'!$AY$37:$AY$60,) -> 12004
B55: NICARAGUA | C55: =_xlfn.XLOOKUP(B55,INFLOWS!$B$8:$B$31,INFLOWS!$AY$8:$AY$31,) -> 7271.74 | D55: =_xlfn.XLOOKUP(B55,OUTFLOWS!$B$8:$B$31,OUTFLOWS!$AY$8:$AY$31,) -> 2444760.7 | E55: =_xlfn.XLOOKUP(B55,'Trans OUTFLOWS'!$B$7:$B$30,'Trans OUTFLOWS'!$AY$7:$AY$30,) -> 1084 | F55: =_xlfn.XLOOKUP(B55,'Trans OUTFLOWS'!$B$37:$B$60,'Trans OUTFLOWS'!$AY$37:$AY$60,) -> 6181
B56: PANAMA | C56: =_xlfn.XLOOKUP(B56,INFLOWS!$B$8:$B$31,INFLOWS!$AY$8:$AY$31,) -> 873 | D56: =_xlfn.XLOOKUP(B56,OUTFLOWS!$B$8:$B$31,OUTFLOWS!$AY$8:$AY$31,) -> 159393.6 | E56: =_xlfn.XLOOKUP(B56,'Trans OUTFLOWS'!$B$7:$B$30,'Trans OUTFLOWS'!$AY$7:$AY$30,) -> 59 | F56: =_xlfn.XLOOKUP(B56,'Trans OUTFLOWS'!$B$37:$B$60,'Trans OUTFLOWS'!$AY$37:$AY$60,) -> 448
B57: Europe | C57: =SUM(C58) -> 133358.62 | D57: =SUM(D58) -> 302212.29 | E57: =SUM(E58) -> 133 | F57: =SUM(F58) -> 510
B58: UNITED KINGDOM | C58: =_xlfn.XLOOKUP(B58,INFLOWS!$B$8:$B$31,INFLOWS!$AY$8:$AY$31,) -> 133358.62 | D58: =_xlfn.XLOOKUP(B58,OUTFLOWS!$B$8:$B$31,OUTFLOWS!$AY$8:$AY$31,) -> 302212.29 | E58: =_xlfn.XLOOKUP(B58,'Trans OUTFLOWS'!$B$7:$B$30,'Trans OUTFLOWS'!$AY$7:$AY$30,) -> 133 | F58: =_xlfn.XLOOKUP(B58,'Trans OUTFLOWS'!$B$37:$B$60,'Trans OUTFLOWS'!$AY$37:$AY$60,) -> 510
B59: North America | C59: =SUM(C60:C62) -> 1403607.5 | D59: =SUM(D60:D62) -> 4210326.3 | E59: =SUM(E60:E62) -> 2035 | F59: =SUM(F60:F62) -> 6734
B60: CANADA | C60: =_xlfn.XLOOKUP(B60,INFLOWS!$B$8:$B$31,INFLOWS!$AY$8:$AY$31,) -> 120948.22 | D60: =_xlfn.XLOOKUP(B60,OUTFLOWS!$B$8:$B$31,OUTFLOWS!$AY$8:$AY$31,) -> 483757.01 | E60: =_xlfn.XLOOKUP(B60,'Trans OUTFLOWS'!$B$7:$B$30,'Trans OUTFLOWS'!$AY$7:$AY$30,) -> 235 | F60: =_xlfn.XLOOKUP(B60,'Trans OUTFLOWS'!$B$37:$B$60,'Trans OUTFLOWS'!$AY$37:$AY$60,) -> 758
B61: MEXICO | C61: =_xlfn.XLOOKUP(B61,INFLOWS!$B$8:$B$31,INFLOWS!$AY$8:$AY$31,) -> 1073.4 | D61: =_xlfn.XLOOKUP(B61,OUTFLOWS!$B$8:$B$31,OUTFLOWS!$AY$8:$AY$31,) -> 223867.09 | E61: =_xlfn.XLOOKUP(B61,'Trans OUTFLOWS'!$B$7:$B$30,'Trans OUTFLOWS'!$AY$7:$AY$30,) -> 121 | F61: =_xlfn.XLOOKUP(B61,'Trans OUTFLOWS'!$B$37:$B$60,'Trans OUTFLOWS'!$AY$37:$AY$60,) -> 232
B62: UNITED STATES | C62: =_xlfn.XLOOKUP(B62,INFLOWS!$B$8:$B$31,INFLOWS!$AY$8:$AY$31,) -> 1281585.9 | D62: =_xlfn.XLOOKUP(B62,OUTFLOWS!$B$8:$B$31,OUTFLOWS!$AY$8:$AY$31,) -> 3502702.2 | E62: =_xlfn.XLOOKUP(B62,'Trans OUTFLOWS'!$B$7:$B$30,'Trans OUTFLOWS'!$AY$7:$AY$30,) -> 1679 | F62: =_xlfn.XLOOKUP(B62,'Trans OUTFLOWS'!$B$37:$B$60,'Trans OUTFLOWS'!$AY$37:$AY$60,) -> 5744
B63: South America | C63: =SUM(C64:C66) -> 26725.45 | D63: =SUM(D64:D66) -> 1475060 | E63: =SUM(E64:E66) -> 749 | F63: =SUM(F64:F66) -> 2383
B64: COLOMBIA | C64: =_xlfn.XLOOKUP(B64,INFLOWS!$B$8:$B$31,INFLOWS!$AY$8:$AY$31,) -> 17343.52 | D64: =_xlfn.XLOOKUP(B64,OUTFLOWS!$B$8:$B$31,OUTFLOWS!$AY$8:$AY$31,) -> 876663.66 | E64: =_xlfn.XLOOKUP(B64,'Trans OUTFLOWS'!$B$7:$B$30,'Trans OUTFLOWS'!$AY$7:$AY$30,) -> 453 | F64: =_xlfn.XLOOKUP(B64,'Trans OUTFLOWS'!$B$37:$B$60,'Trans OUTFLOWS'!$AY$37:$AY$60,) -> 1636
B65: GUYANA | C65: =_xlfn.XLOOKUP(B65,INFLOWS!$B$8:$B$31,INFLOWS!$AY$8:$AY$31,) -> 5383.63 | D65: =_xlfn.XLOOKUP(B65,OUTFLOWS!$B$8:$B$31,OUTFLOWS!$AY$8:$AY$31,) -> 389232.67 | E65: =_xlfn.XLOOKUP(B65,'Trans OUTFLOWS'!$B$7:$B$30,'Trans OUTFLOWS'!$AY$7:$AY$30,) -> 175 | F65: =_xlfn.XLOOKUP(B65,'Trans OUTFLOWS'!$B$37:$B$60,'Trans OUTFLOWS'!$AY$37:$AY$60,) -> 586
B66: PERU | C66: =_xlfn.XLOOKUP(B66,INFLOWS!$B$8:$B$31,INFLOWS!$AY$8:$AY$31,) -> 3998.3 | D66: =_xlfn.XLOOKUP(B66,OUTFLOWS!$B$8:$B$31,OUTFLOWS!$AY$8:$AY$31,) -> 209163.66 | E66: =_xlfn.XLOOKUP(B66,'Trans OUTFLOWS'!$B$7:$B$30,'Trans OUTFLOWS'!$AY$7:$AY$30,) -> 121 | F66: =_xlfn.XLOOKUP(B66,'Trans OUTFLOWS'!$B$37:$B$60,'Trans OUTFLOWS'!$AY$37:$AY$60,) -> 161
B67: Unspecified | C67: =SUM(C68) -> 414623.33 | D67: =SUM(D68) -> 1694397.5 | E67: =SUM(E68) -> 769 | F67: =SUM(F68) -> 2996
B68: OTHER | C68: =_xlfn.XLOOKUP(B68,INFLOWS!$B$8:$B$31,INFLOWS!$AY$8:$AY$31,) -> 414623.33 | D68: =_xlfn.XLOOKUP(B68,OUTFLOWS!$B$8:$B$31,OUTFLOWS!$AY$8:$AY$31,) -> 1694397.5 | E68: =_xlfn.XLOOKUP(B68,'Trans OUTFLOWS'!$B$7:$B$30,'Trans OUTFLOWS'!$AY$7:$AY$30,) -> 769 | F68: =_xlfn.XLOOKUP(B68,'Trans OUTFLOWS'!$B$37:$B$60,'Trans OUTFLOWS'!$AY$37:$AY$60,) -> 2996
B69: Grand Total | C69: =SUM(,$C$37,$C$40,$C$45,$C$51,$C$57,$C$59,$C$63,$C$67) -> 2312842.8 | D69: =SUM($D$37,$D$40,$D$45,$D$51,$D$57,$D$59,$D$63,$D$67) -> 85922556 | E69: =SUM(,$E$37,$E$40,$E$45,$E$51,$E$57,$E$59,$E$63,$E$67) -> 40604 | F69: =SUM(,$F$37,$F$40,$F$45,$F$51,$F$57,$F$59,$F$63,$F$67) -> 158360

Sheet DATA TABLES
B2: Cayman Islands Remittances US$ - Actual Amounts
C7: Period | H7: Total Outflows | L7: Total Inflows | O7: Net Remittances
C8: 2020 Q1 | H8: 63587882 | L8: 1716641 | O8: =L8-H8 -> -61871241
C9: 2020 Q2 | H9: 37945479 | L9: 1174158.7 | O9: =L9-H9 -> -36771321
C10: 2020 Q3 | H10: 86016515 | L10: 1653916.6 | O10: =L10-H10 -> -84362598
C11: 2020 Q4 | H11: 74115932 | L11: 1828326.8 | O11: =L11-H11 -> -72287605
C12: Total 2020 | H12: =SUM(H8:I11) -> 2.6166581e+08 | K12: =SUM(K8:M11) -> 6373043.1 | O12: =L12-H12 -> -2.6166581e+08
C14: Period | H14: Total Outflows | L14: Total Inflows | O14: Net Remittances
C15: 2021 Q1 | H15: 67638561 | L15: 1994160.6 | O15: =L15-H15 -> -65644401
C16: 2021 Q2 | H16: 68174853 | L16: 2215105.9 | O16: =L16-H16 -> -65959747
C17: 2021 Q3 | H17: 66974215 | L17: 2472709.6 | O17: =L17-H17 -> -64501506
C18: 2021 Q4 | H18: 75367864 | L18: 2675231.7 | O18: =L18-H18 -> -72692632
C19: Total 2021 | H19: =SUM(H15:I18) -> 2.7815549e+08 | K19: =SUM(K15:M18) -> 9357207.9 | O19: =SUM(O15:P18) -> -2.6879829e+08
C21: Period | H21: Total Outflows | L21: Total Inflows | O21: Net Remittances
C22: 2022 Q1 | H22: 68950387 | L22: 2335170.5 | O22: =L22-H22 -> -66615216
C23: 2022 Q2 | H23: 75828211 | L23: 2381724.9 | O23: =L23-H23 -> -73446486
C24: 2022 Q3 | H24: 75896334 | L24: 2605187 | O24: =L24-H24 -> -73291147
C25: 2022 Q4 | H25: 82206783 | L25: 2650456.6 | O25: =L25-H25 -> -79556326
C26: Total 2022 | H26: =SUM(H22:I25) -> 3.0288171e+08 | K26: =SUM(K22:M25) -> 9972539 | O26: =SUM(O22:P25) -> -2.9290918e+08
C28: Period | H28: Total Outflows | L28: Total Inflows | O28: Net Remittances
C29: 2023 Q1 | H29: 75586097 | L29: 2402227.6 | O29: =L29-H29 -> -73183869
C30: 2023 Q2 | H30: 77411717 | L30: 2393374.3 | O30: =L30-H30 -> -75018343
C31: 2023 Q3 | H31: 75284034 | L31: 2654797.5 | O31: =L31-H31 -> -72629237
C32: 2023 Q4 | H32: 82079147 | L32: 2473121 | O32: =L32-H32 -> -79606026
C33: Total 2023 | H33: =SUM(H29:I32) -> 3.10361e+08 | K33: =SUM(K29:M32) -> 9923520.4 | O33: =SUM(O29:P32) -> -3.0043748e+08
C35: Period | H35: Total Outflows | L35: Total Inflows | O35: Net Remittances
C36: 2024 Q1 | H36: 78090402 | L36: 2419087.4 | O36: =L36-H36 -> -75671315
C37: 2024 Q2 | H37: 79664627 | L37: 2456751.5 | O37: =L37-H37 -> -77207876
C38: 2024 Q3 | H38: 76114762 | L38: 2494321.1 | O38: =L38-H38 -> -73620441
C39: 2024 Q4 | H39: 84389299 | L39: 2392508.8 | O39: =L39-H39 -> -81996790
C40: Total 2024 | H40: =SUM(H36:I39) -> 3.1825909e+08 | K40: =SUM(K36:M39) -> 9762668.7 | O40: =SUM(O36:P39) -> -3.0849642e+08
C42: Period | H42: Total Outflows | L42: Total Inflows | O42: Net Remittances
C43: 2025 Q1 | H43: 74989335 | L43: 1954712.3 | O43: =L43-H43 -> -73034623
C44: 2025 Q2 | H44: 83379899 | L44: 2371960.8 | O44: =L44-H44 -> -81007938
C45: 2025 Q3 | H45: 79613836 | L45: 2385893.4 | O45: =L45-H45 -> -77227942
C46: 2025 Q4 | H46: 85922556 | L46: 2312842.8 | O46: =L46-H46 -> -83609713
C47: Total 2025 | H47: =SUM(H43:I46) -> 3.2390563e+08 | K47: =SUM(K43:M46) -> 9025409.3 | O47: =SUM(O43:P46) -> -3.1488022e+08
C50: * aggregated information does not include one reporting entity.
C51: Source: Money Service Providers (MSP's) licensed by Cayman Islands Monetary Authority (CIMA).
C52: Updated - March 2026
...

Sheet DATA
A1: Money Service Providers Statistics | I1: Money Service Business Remittances by Quarter | N1: Remittance Outflows Growth Rate | S1: Remittance Inflows Growth Rate | X1: # of Transactions (more than) > $CI500 - Outflows Top 5 Countries & # of Transactions (less than) < $CI500 - Outflows Top 5 Countries | AB1: COUNTRY NET MSB REMITTANCES | AH1: Unused Data
I2: Period | J2: Total Inflows | K2: Total Outflows | L2: Net Remittances | N2: YEAR | O2: Remittance Outflows Growth Rate | S2: YEAR | T2: Remittance Inflows Growth Rate | AB2: RANK | AC2: COUNTRY | AD2: COUNTRY NET MSB REMITTANCES | AE2: Previous Quarter COUNTRY NET MSB REMITTANCES | AH2: Quarter | AI2: Total Government Fee Charged for Transfers ≥ CI$500/US$609.76 in USD | AJ2: Total Government Fee Charged for Transfers < CI$500/US$609.76 in USD | AK2: Total Amount to be Paid to Cayman Islands Government in USD | AL2: Total Amount to be Paid to Cayman Islands Government in KYD | AN2: Change in Amount to be Paid to CI GOV in USD
A3: Money Services Providers | E3: 2023 | F3: 2024 | G3: 2025 | I3: 2019 Q1 | J3: 1915939.4 | K3: 62312409 | L3: =J3-K3 -> -60396470 | N3: 2019 Q1 | O3: 62312409 | S3: 2019 Q1 | T3: 1915939.4 | X3: COUNTRY | Y3: # of Transactions (more than) > $CI500 - Outflows | AB3: =RANK(AD3,$AD$3:$AD$26,1) -> 1 | AC3: JAMAICA | AD3: =INFLOWS!AY8-OUTFLOWS!AY8 -> -53303639 | AH3: 2013 Q1 | AI3: 183927.2 | AJ3: 515112.53 | AK3: 699039.73 | AL3: 573212.58 | AN3: -
A4: Number of licences | E4: 5 | F4: 5 | G4: 5 | I4: 2019 Q2 | J4: 2063041 | K4: 64550584 | L4: =J4-K4 -> -62487543 | N4: 2019 Q2 | O4: 64550584 | P4: =((O4-O3)/O3) -> 0.03591861 | S4: 2019 Q2 | T4: 2063041 | U4: =((T4-T3)/T3) -> 0.076777816 | X4: JAMAICA | Y4: ='DATA TABLES'!O65 -> 24028 | AB4: =RANK(AD4,$AD$3:$AD$26,1) -> 2 | AC4: PHILIPPINES | AD4: =INFLOWS!AY10-OUTFLOWS!AY10 -> -12451566 | AH4: 2013 Q2 | AI4: 178571.4 | AJ4: 536411.79 | AK4: 714983.19 | AL4: 586286.22 | AN4: =(AK4-AK3)/AK3 -> 0.022807659
I5: 2019 Q3 | J5: 2147193 | K5: 64626957 | L5: =J5-K5 -> -62479764 | N5: 2019 Q3 | O5: 64626957 | P5: =((O5-O4)/O4) -> 0.0011831496 | S5: 2019 Q3 | T5: 2147193 | U5: =((T5-T4)/T4) -> 0.04079027 | X5: PHILIPPINES | Y5: ='DATA TABLES'!O66 -> 7080 | AB5: =RANK(AD5,$AD$3:$AD$26,1) -> 3 | AC5: HONDURAS | AD5: =INFLOWS!AY9-OUTFLOWS!AY9 -> -5675805.1 | AH5: 2013 Q3 | AI5: 171763.8 | AJ5: 518304.61 | AK5: 690068.41 | AL5: 565856.1 | AN5: =(AK5-AK4)/AK4 -> -0.034846667
A6: Active Remittance Service Providers | E6: 3 | F6: 3 | G6: 3 | I6: 2019 Q4 | J6: 1998148 | K6: 72470062 | L6: =J6-K6 -> -70471914 | N6: 2019 Q4 | O6: 72470062 | P6: =((O6-O5)/O5) -> 0.12135965 | S6: 2019 Q4 | T6: 1998148 | U6: =((T6-T5)/T5) -> -0.069413881 | X6: HONDURAS | Y6: ='DATA TABLES'!O67 -> 2622 | AB6: =RANK(AD6,$AD$3:$AD$26,1) -> 4 | AC6: NICARAGUA | AD6: =INFLOWS!AY12-OUTFLOWS!AY12 -> -2437489 | AH6: 2013 Q4 | AI6: 191003.2 | AJ6: 557916.47 | AK6: 748919.67 | AL6: 614114.13 | AN6: =(AK6-AK5)/AK5 -> 0.085283234
I7: 2020 Q1 | J7: 1716641 | K7: 63587882 | L7: =J7-K7 -> -61871241 | N7: 2020 Q1 | O7: 63587882 | P7: =((O7-O6)/O6) -> -0.12256344 | S7: 2020 Q1 | T7: 1716641 | U7: =((T7-T6)/T6) -> -0.14088396 | X7: UNITED STATES | Y7: ='DATA TABLES'!O68 -> 1679 | AB7: =RANK(AD7,$AD$3:$AD$26,1) -> 6 | AC7: UNITED STATES | AD7: =INFLOWS!AY18-OUTFLOWS!AY18 -> -2221116.3 | AH7: 2014 Q1 | AI7: 180047.6 | AJ7: 525157.81 | AK7: 705205.41 | AL7: 578268.44 | AN7: =(AK7-AK6)/AK6 -> -0.058369761
I8: 2020 Q2 | J8: 1174158.7 | K8: 37945479 | L8: =J8-K8 -> -36771321 | N8: 2020 Q2 | O8: 37945479 | P8: =((O8-O7)/O7) -> -0.40325927 | S8: 2020 Q2 | T8: 1174158.7 | U8: =((T8-T7)/T7) -> -0.31601383 | X8: DOMINICAN REPUBLIC | Y8: ='DATA TABLES'!O69 -> 1307 | AB8: =RANK(AD8,$AD$3:$AD$26,1) -> 5 | AC8: DOMINICAN REPUBLIC | AD8: =INFLOWS!AY11-OUTFLOWS!AY11 -> -2397088 | AH8: 2014 Q2 | AI8: 183634.4 | AJ8: 537223.11 | AK8: 720857.51 | AL8: 591103.16 | AN8: =(AK8-AK7)/AK7 -> 0.022195097
I9: 2020 Q3 | J9: 1653916.6 | K9: 86016515 | L9: =J9-K9 -> -84362598 | N9: 2020 Q3 | O9: 86016515 | P9: =((O9-O8)/O8) -> 1.2668449 | S9: 2020 Q3 | T9: 1653916.6 | U9: =((T9-T8)/T8) -> 0.40859715 | AB9: =RANK(AD9,$AD$3:$AD$26,1) -> 7 | AC9: OTHER | AD9: =INFLOWS!AY31-OUTFLOWS!AY31 -> -1279774.2 | AH9: 2014 Q3 | AI9: 177595.4 | AJ9: 522300.32 | AK9: 699895.72 | AL9: 573914.49 | AN9: =(AK9-AK8)/AK8 -> -0.029078968
I10: 2020 Q4 | J10: 1828326.8 | K10: 74115932 | L10: =J10-K10 -> -72287605 | N10: 2020 Q4 | O10: 74115932 | P10: =((O10-O9)/O9) -> -0.1383523 | S10: 2020 Q4 | T10: 1828326.8 | U10: =((T10-T9)/T9) -> 0.10545281 | X10: COUNTRY | Y10: # of Transactions (less than) < $CI500 - Outflows | AB10: =RANK(AD10,$AD$3:$AD$26,1) -> 8 | AC10: COLOMBIA | AD10: =INFLOWS!AY13-OUTFLOWS!AY13 -> -859320.14 | AH10: 2014 Q4 | AI10: 194346 | AJ10: 561442.26 | AK10: 755788.26 | AL10: 619746.37 | AN10: =(AK10-AK9)/AK9 -> 0.079858375
I11: 2021 Q1 | J11: 1994160.6 | K11: 67638561 | L11: =J11-K11 -> -65644401 | N11: 2021 Q1 | O11: 67638561 | P11: =((O11-O10)/O10) -> -0.087395119 | S11: 2021 Q1 | T11: 1994160.6 | U11: =((T11-T10)/T10) -> 0.090702496 | X11: JAMAICA | Y11: ='DATA TABLES'!O74 -> 107068 | AB11: =RANK(AD11,$AD$3:$AD$26,1) -> 9 | AC11: GUYANA | AD11: =INFLOWS!AY14-OUTFLOWS!AY14 -> -383849.04 | AH11: 2015 Q1 | AI11: 191149.6 | AJ11: 539040.11 | AK11: 730189.71 | AL11: 598755.56 | AN11: =(AK11-AK10)/AK10 -> -0.033869999
I12: 2021 Q2 | J12: 2215105.9 | K12: 68174853 | L12: =J12-K12 -> -65959747 | N12: 2021 Q2 | O12: 68174853 | P12: =((O12-O11)/O11) -> 0.0079287838 | S12: 2021 Q2 | T12: 2215105.9 | U12: =((T12-T11)/T11) -> 0.11079619 | X12: PHILIPPINES | Y12: ='DATA TABLES'!O75 -> 15438 | AB12: =RANK(AD12,$AD$3:$AD$26,1) -> 11 | AC12: CANADA | AD12: =INFLOWS!AY19-OUTFLOWS!AY19 -> -362808.79 | AH12: 2015 Q2 | AI12: 199811.6 | AJ12: 549768.46 | AK12: 749580.06 | AL12: 614655.65 | AN12: =(AK12-AK11)/AK11 -> 0.026555222
I13: 2021 Q3 | J13: 2472709.6 | K13: 66974215 | L13: =J13-K13 -> -64501506 | N13: 2021 Q3 | O13: 66974215 | P13: =((O13-O12)/O12) -> -0.017611146 | S13: 2021 Q3 | T13: 2472709.6 | U13: =((T13-T12)/T12) -> 0.11629408 | X13: HONDURAS | Y13: ='DATA TABLES'!O76 -> 12004 | AB13: =RANK(AD13,$AD$3:$AD$26,1) -> 12 | AC13: NEPAL | AD13: =INFLOWS!AY28-OUTFLOWS!AY28 -> -266596.71 | AH13: 2015 Q3 | AI13: 203398.4 | AJ13: 515103.71 | AK13: 718502.11 | AL13: 589171.73 | AN13: =(AK13-AK12)/AK12 -> -0.041460482
I14: 2021 Q4 | J14: 2675231.7 | K14: 75367864 | L14: =J14-K14 -> -72692632 | N14: 2021 Q4 | O14: 75367864 | P14: =((O14-O13)/O13) -> 0.12532657 | S14: 2021 Q4 | T14: 2675231.7 | U14: =((T14-T13)/T13) -> 0.081902896 | X14: UNITED STATES | Y14: ='DATA TABLES'!O77 -> 5744 | AB14: =RANK(AD14,$AD$3:$AD$26,1) -> 13 | AC14: COSTA RICA | AD14: =INFLOWS!AY20-OUTFLOWS!AY20 -> -244288.93 | AH14: 2015 Q4 | AI14: 294032.2 | AJ14: 461897.84 | AK14: 755930.04 | AL14: 619862.63 | AN14: =(AK14-AK13)/AK13 -> 0.052091608
I15: 2022 Q1 | J15: =INFLOWS!$AG$32 -> 2335170.5 | K15: =OUTFLOWS!$AG$32 -> 68950387 | L15: =J15-K15 -> -66615216 | N15: 2022 Q1 | O15: =OUTFLOWS!$AG$32 -> 68950387 | P15: =((O15-O14)/O14) -> -0.08514872 | S15: 2022 Q1 | T15: =INFLOWS!$AG$32 -> 2335170.5 | U15: =((T15-T14)/T14) -> -0.12711467 | X15: NICARAGUA | Y15: {='DATA TABLES'!O78:P78} -> 6181 | Z15: 0 | AB15: =RANK(AD15,$AD$3:$AD$26,1) -> 17 | AC15: INDIA | AD15: =INFLOWS!AY16-OUTFLOWS!AY16 -> -158950.12 | AH15: 2016 Q1 | AI15: 203666.8 | AJ15: 543101.91 | AK15: 746768.71 | AL15: 612350.34 | AN15: =(AK15-AK14)/AK14 -> -0.012119279
I16: 2022 Q2 | J16: =INFLOWS!$AH$32 -> 2381724.9 | K16: =OUTFLOWS!$AH$32 -> 75828211 | L16: =J16-K16 -> -73446486 | N16: 2022 Q2 | O16: =OUTFLOWS!$AH$32 -> 75828211 | P16: =((O16-O15)/O15) -> 0.099750336 | S16: 2022 Q2 | T16: =INFLOWS!$AH$32 -> 2381724.9 | U16: =((T16-T15)/T15) -> 0.019936154 | AB16: =RANK(AD16,$AD$3:$AD$26,1) -> 14 | AC16: MEXICO | AD16: =INFLOWS!AY27-OUTFLOWS!AY27 -> -222793.69 | AH16: 2016 Q2 | AI16: 218904.6 | AJ16: 594828.42 | AK16: 813733.02 | AL16: 667261.08 | AN16: =(AK16-AK15)/AK15 -> 0.089672091
I17: 2022 Q3 | J17: =INFLOWS!$AI$32 -> 2605187 | K17: =OUTFLOWS!$AI$32 -> 75896334 | L17: =J17-K17 -> -73291147 | N17: 2022 Q3 | O17: =OUTFLOWS!$AI$32 -> 75896334 | P17: =((O17-O16)/O16) -> 0.00089837871 | S17: 2022 Q3 | T17: =INFLOWS!$AI$32 -> 2605187 | U17: =((T17-T16)/T16) -> 0.093823684 | AB17: =RANK(AD17,$AD$3:$AD$26,1) -> 15 | AC17: PERU | AD17: =INFLOWS!AY29-OUTFLOWS!AY29 -> -205165.36 | AH17: 2016 Q3 | AI17: 221966.8 | AJ17: 585681.67 | AK17: 807648.47 | AL17: 662271.75 | AN17: =(AK17-AK16)/AK16 -> -0.007477335
I18: 2022 Q4 | J18: =INFLOWS!$AJ$32 -> 2650456.6 | K18: =OUTFLOWS!$AJ$32 -> 82206783 | L18: =J18-K18 -> -79556326 | N18: 2022 Q4 | O18: =OUTFLOWS!$AJ$32 -> 82206783 | P18: =((O18-O17)/O17) -> 0.083145642 | S18: 2022 Q4 | T18: =INFLOWS!$AJ$32 -> 2650456.6 | U18: =((T18-T17)/T17) -> 0.017376684 | AB18: =RANK(AD18,$AD$3:$AD$26,1) -> 10 | AC18: ZIMBABWE | AD18: =INFLOWS!AY30-OUTFLOWS!AY30 -> -372170.18 | AH18: 2016 Q4 | AI18: 247538 | AJ18: 624939.52 | AK18: 872477.52 | AL18: 715431.57 | AN18: =(AK18-AK17)/AK17 -> 0.080268898
I19: 2023 Q1 | J19: =INFLOWS!$AL$32 -> 2402227.6 | K19: =OUTFLOWS!$AL$32 -> 75586097 | L19: =J19-K19 -> -73183869 | N19: 2023 Q1 | O19: =OUTFLOWS!$AL$32 -> 75586097 | P19: =((O19-O18)/O18) -> -0.080536985 | S19: 2023 Q1 | T19: =INFLOWS!$AL$32 -> 2402227.6 | U19: =((T19-T18)/T18) -> -0.093655182 | AB19: =RANK(AD19,$AD$3:$AD$26,1) -> 20 | AC19: BELIZE | AD19: =INFLOWS!AY23-OUTFLOWS!AY23 -> -128308.78 | AH19: 2017 Q1 | AI19: 235813.8 | AJ19: 595137.99 | AK19: 830951.79 | AL19: 681380.47 | AN19: =(AK19-AK18)/AK18 -> -0.047595185
I20: 2023 Q2 | J20: =INFLOWS!$AM$32 -> 2393374.3 | K20: =OUTFLOWS!$AM$32 -> 77411717 | L20: =J20-K20 -> -75018343 | N20: 2023 Q2 | O20: =OUTFLOWS!$AM$32 -> 77411717 | P20: =((O20-O19)/O19) -> 0.024152866 | S20: 2023 Q2 | T20: =INFLOWS!$AM$32 -> 2393374.3 | U20: =((T20-T19)/T19) -> -0.0036854435 | AB20: =RANK(AD20,$AD$3:$AD$26,1) -> 16 | AC20: UNITED KINGDOM | AD20: =INFLOWS!AY17-OUTFLOWS!AY17 -> -168853.67 | AH20: 2017 Q2 | AI20: 246379 | AJ20: 617540.84 | AK20: 863919.84 | AL20: 708414.27 | AN20: =(AK20-AK19)/AK19 -> 0.039675041
I21: 2023 Q3 | J21: =INFLOWS!$AN$32 -> 2654797.5 | K21: =OUTFLOWS!$AN$32 -> 75284034 | L21: =J21-K21 -> -72629237 | N21: 2023 Q3 | O21: =OUTFLOWS!$AN$32 -> 75284034 | P21: =((O21-O20)/O20) -> -0.027485284 | S21: 2023 Q3 | T21: =INFLOWS!$AN$32 -> 2654797.5 | U21: =((T21-T20)/T20) -> 0.1092279 | AB21: =RANK(AD21,$AD$3:$AD$26,1) -> 18 | AC21: PANAMA | AD21: =INFLOWS!AY22-OUTFLOWS!AY22 -> -158520.6 | AH21: 2017 Q3 | AI21: 250758.8 | AJ21: 635417 | AK21: 886175.8 | AL21: 726664.15 | AN21: =(AK21-AK20)/AK20 -> 0.0257616
I22: 2023 Q4 | J22: =INFLOWS!$AO$32 -> 2473121 | K22: =OUTFLOWS!$AO$32 -> 82079147 | L22: =J22-K22 -> -79606026 | N22: 2023 Q4 | O22: =OUTFLOWS!$AO$32 -> 82079147 | P22: =((O22-O21)/O21) -> 0.090259681 | S22: 2023 Q4 | T22: =INFLOWS!$AO$32 -> 2473121 | U22: =((T22-T21)/T21) -> -0.068433287 | AB22: =RANK(AD22,$AD$3:$AD$26,1) -> 19 | AC22: TRINIDAD & TOBAGO | AD22: =INFLOWS!AY15-OUTFLOWS!AY15 -> -131858.5 | AH22: 2017 Q4 | AI22: 272889.6 | AJ22: 658476.1 | AK22: 931365.7 | AL22: 763719.87 | AN22: =(AK22-AK21)/AK21 -> 0.050994286
I23: 2024 Q1 | J23: =INFLOWS!$AQ$32 -> 2419087.4 | K23: =OUTFLOWS!$AQ$32 -> 78090402 | L23: =J23-K23 -> -75671315 | N23: 2024 Q1 | O23: =OUTFLOWS!$AQ$32 -> 78090402 | P23: =((O23-O22)/O22) -> -0.048596329 | S23: 2024 Q1 | T23: =INFLOWS!$AQ$32 -> 2419087.4 | U23: =((T23-T22)/T22) -> -0.021848365 | AB23: =RANK(AD23,$AD$3:$AD$26,1) -> 21 | AC23: BARBADOS | AD23: =INFLOWS!AY21-OUTFLOWS!AY21 -> -85239.73 | AH23: 2018 Q1 | AI23: 266826.2 | AJ23: 621150.28 | AK23: 887976.48 | AL23: 728140.71 | AN23: =(AK23-AK22)/AK22 -> -0.046586662
I24: 2024 Q2 | J24: =INFLOWS!$AR$32 -> 2456751.4 | K24: =OUTFLOWS!$AR$32 -> 79664627 | L24: =J24-K24 -> -77207876 | N24: 2024 Q2 | O24: =OUTFLOWS!$AR$32 -> 79664627 | P24: =((O24-O23)/O23) -> 0.020159008 | S24: 2024 Q2 | T24: =INFLOWS!$AR$32 -> 2456751.4 | U24: =((T24-T23)/T23) -> 0.015569539 | AB24: =RANK(AD24,$AD$3:$AD$26,1) -> 23 | AC24: CHINA | AD24: =INFLOWS!AY24-OUTFLOWS!AY24 -> -47130.58 | AH24: 2018 Q2 | AI24: 281002.6 | AJ24: 653410.49 | AK24: 934413.09 | AL24: 766218.73 | AN24: =(AK24-AK23)/AK23 -> 0.052294864
I25: 2024 Q3 | J25: =INFLOWS!$AS$32 -> 2494321.1 | K25: =OUTFLOWS!$AS$32 -> 76114762 | L25: =J25-K25 -> -73620441 | N25: 2024 Q3 | O25: =OUTFLOWS!$AS$32 -> 76114762 | P25: =((O25-O24)/O24) -> -0.044560115 | S25: 2024 Q3 | T25: =INFLOWS!$AS$32 -> 2494321.1 | U25: =((T25-T24)/T24) -> 0.015292395 | AB25: =RANK(AD25,$AD$3:$AD$26,1) -> 22 | AC25: KENYA | AD25: =INFLOWS!AY26-OUTFLOWS!AY26 -> -47381.3 | AH25: 2018 Q3 | AI25: 281356.4 | AJ25: 650398.56 | AK25: 931754.96 | AL25: 764039.07 | AN25: =(AK25-AK24)/AK24 -> -0.0028447003
I26: 2024 Q4 | J26: =INFLOWS!$AT$32 -> 2392508.8 | K26: =OUTFLOWS!$AT$32 -> 84389299 | L26: =J26-K26 -> -81996790 | N26: 2024 Q4 | O26: =OUTFLOWS!$AT$32 -> 84389299 | P26: =((O26-O25)/O25) -> 0.10871133 | S26: 2024 Q4 | T26: =INFLOWS!$AT$32 -> 2392508.8 | U26: =((T26-T25)/T25) -> -0.040817606 | AB26: =RANK(AD26,$AD$3:$AD$26,1) -> 24 | AC26: CUBA | AD26: =INFLOWS!AY25-OUTFLOWS!AY25 -> 0 | AH26: 2018 Q4 | AI26: 274548.8 | AJ26: 716971.66 | AK26: 991520.46 | AL26: 813046.78 | AN26: =(AK26-AK25)/AK25 -> 0.064142934
I27: 2025 Q1 | J27: =INFLOWS!$AV$32 -> 1954712.3 | K27: =OUTFLOWS!$AV$32 -> 74989335 | L27: =J27-K27 -> -73034623 | N27: 2025 Q1 | O27: =OUTFLOWS!$AV$32 -> 74989335 | P27: =((O27-O26)/O26) -> -0.1113881 | S27: 2025 Q1 | T27: =INFLOWS!$AV$32 -> 1954712.3 | U27: =((T27-T26)/T26) -> -0.18298638 | AH27: 2019 Q1 | AI27: 295715.8 | AJ27: 692978.94 | AK27: 988694.74 | AL27: 810729.68 | AN27: =(AK27-AK26)/AK26 -> -0.0028498924
I28: 2025 Q2 | J28: =INFLOWS!$AW$32 -> 2371960.8 | K28: =OUTFLOWS!$AW$32 -> 83379899 | L28: =J28-K28 -> -81007938 | N28: 2025 Q2 | O28: =OUTFLOWS!$AW$32 -> 83379899 | P28: =((O28-O27)/O27) -> 0.11189009 | S28: 2025 Q2 | T28: =INFLOWS!$AW$32 -> 2371960.8 | U28: =((T28-T27)/T27) -> 0.21345774 | AH28: 2019 Q2 | AI28: 304841.4 | AJ28: 719806.34 | AK28: 1024647.7 | AL28: 840211.15 | AN28: =(AK28-AK27)/AK27 -> 0.036364113
I29: 2025 Q3 | J29: =INFLOWS!$AX$32 -> 2385893.4 | K29: =OUTFLOWS!$AX$32 -> 79613836 | L29: =J29-K29 -> -77227942 | N29: 2025 Q3 | O29: =OUTFLOWS!$AX$32 -> 79613836 | P29: =((O29-O28)/O28) -> -0.045167518 | S29: 2025 Q3 | T29: =INFLOWS!$AX$32 -> 2385893.4 | U29: =((T29-T28)/T28) -> 0.0058738887 | AH29: 2019 Q3 | AI29: 307562 | AJ29: 717446.34 | AK29: 1025008.3 | AL29: 840506.84 | AN29: =(AK29-AK28)/AK28 -> 0.00035192621
I30: 2025 Q4 | J30: =INFLOWS!$AY$32 -> 2312842.8 | K30: =OUTFLOWS!$AY$32 -> 85922556 | L30: =J30-K30 -> -83609713 | N30: 2025 Q4 | O30: =OUTFLOWS!$AY$32 -> 85922556 | P30: =((O30-O29)/O29) -> 0.079241507 | S30: 2025 Q4 | T30: =INFLOWS!$AY$32 -> 2312842.8 | U30: =((T30-T29)/T29) -> -0.030617732 | AH30: 2019 Q4 | AI30: 358216.4 | AJ30: 780200.86 | AK30: 1138417.3 | AL30: 933502.15 | AN30: =(AK30-AK29)/AK29 -> 0.11064194
I31: 2026 Q1 | N31: 2026 Q1 | S31: 2026 Q1 | AH31: 2020 Q1 | AI31: 304658.4 | AJ31: 697085.7 | AK31: 1001744.1 | AL31: 821430.16 | AN31: =(AK31-AK30)/AK30 -> -0.12005542
AH32: 2020 Q2 | AI32: 215195.8 | AJ32: 319958.52 | AK32: 535154.32 | AL32: 438826.54 | AN32: =(AK32-AK31)/AK31 -> -0.46577742
P33: =((O33-O28)/O28) -> -1 | U33: =((T33-T28)/T28) -> -1 | AH33: 2020 Q3 | AI33: 473677.2 | AJ33: 728551.89 | AK33: 1202229.1 | AL33: 985827.85 | AN33: =(AK33-AK32)/AK32 -> 1.2465092
AH34: 2020 Q4 | AI34: 379444.4 | AJ34: 751120.32 | AK34: 1130564.7 | AL34: 927063.07 | AN34: =(AK34-AK33)/AK33 -> -0.059609575
AH35: 2021 Q1 | AI35: 356703.6 | AJ35: 671413.44 | AK35: 1028117 | AL35: 843055.97 | AN35: =(AK35-AK34)/AK34 -> -0.090616379
N36: SOURCE: Outflows | S36: SOURCE: Inflows | AH36: 2021 Q2 | AI36: 352909.4 | AJ36: 566905.28 | AK36: 919814.68 | AL36: 754248.04 | AN36: =(AK36-AK35)/AK35 -> -0.10534049
AH37: 2021 Q3 | AI37: 345601.6 | AJ37: 673491.73 | AK37: 1019093.3 | AL37: 835656.53 | AN37: =(AK37-AK36)/AK36 -> 0.10793331
AH38: 2021 Q4 | AI38: 397073.4 | AJ38: 736516.7 | AK38: 1133590.1 | AL38: 929543.88 | AN38: =(AK38-AK37)/AK37 -> 0.11235161
AH39: 2022 Q1 | AI39: 352787.4 | AJ39: 686536.82 | AK39: 1039324.2 | AL39: 852245.86 | AN39: =(AK39-AK38)/AK38 -> -0.083156935
AH40: 2022 Q2 | AI40: 392071.4 | AJ40: 755372.08 | AK40: 1147443.5 | AL40: 940903.66 | AN40: =(AK40-AK39)/AK39 -> 0.10402843
...

Sheet INFLOWS
B2: CAYMAN ISLANDS REMITTANCE REPORT - MONEY SERVICE PROVIDERS (REMITTANCE COMPANIES)
B3: (Workers' remittances transmitted by the remittance companies licensed as Money Service Providers)
B6: REMITTANCE INFLOWS BY COUNTRY (US$ - Actual Amounts)
B7: COUNTRY | C7: Year 2012 | D7: Year 2013 | E7: Year 2014* | F7: Year 2015 | G7: Year 2016 | H7: 2017Q1 | I7: 2017Q2 | J7: 2017Q3 | K7: 2017Q4 | L7: Year 2017 | M7: 2018Q1 | N7: 2018Q2 | O7: 2018Q3 | P7: 2018Q4 | Q7: Year 2018 | R7: 2019Q1 | S7: 2019Q2 | T7: 2019Q3 | U7: 2019Q4 | V7: Year 2019 | W7: 2020Q1 | X7: 2020Q2 | Y7: 2020Q3 | Z7: 2020Q4 | AA7: Year 2020 | AB7: 2021Q1 | AC7: 2021Q2 | AD7: 2021Q3 | AE7: 2021Q4 | AF7: Year 2021 | AG7: 2022Q1 | AH7: 2022Q2 | AI7: 2022Q3 | AJ7: 2022Q4 | AK7: Year 2022 | AL7: 2023Q1 | AM7: 2023Q2 | AN7: 2023Q3 | AO7: 2023Q4 | AP7: Year 2023 | AQ7: 2024Q1 | AR7: 2024Q2 | AS7: 2024Q3 | AT7: 2024Q4 | AU7: Year 2024 | AV7: 2025Q1 | AW7: 2025Q2 | AX7: 2025Q3 | AY7: 2025Q4 | AZ7: Diff 25Q4/25Q3 | BA7: Diff 25Q4/25Q3
B8: JAMAICA | C8: 1259921.9 | D8: 1196086 | E8: 951576.59 | F8: 825503 | G8: 748501.54 | H8: 230833 | I8: 221084.36 | J8: 229708.15 | K8: 249260.4 | L8: =SUM(H8:K8) -> 930885.91 | M8: 245028.03 | N8: 277722.52 | O8: 240766 | P8: 277961.1 | Q8: =SUM(M8:P8) -> 1041477.7 | R8: 284080.32 | S8: 233145.06 | T8: 258258.06 | U8: 175394.6 | V8: =SUM(R8:U8) -> 950878.04 | W8: 167005.19 | X8: 87077.35 | Y8: 161439.34 | Z8: 154287.11 | AA8: =SUM(W8:Z8) -> 569808.99 | AB8: 194338.05 | AC8: 260917.42 | AD8: 311606.2 | AE8: 338587.85 | AF8: =SUM(AB8:AE8) -> 1105449.5 | AG8: 322030.19 | AH8: 348499.85 | AI8: 370678.19 | AJ8: 425086.06 | AK8: =SUM(AG8:AJ8) -> 1466294.3 | AL8: 379820.76 | AM8: 337541.9 | AN8: 384203.8 | AO8: 389551.94 | AP8: 1491118.4 | AQ8: 331585.9 | AR8: 359485.6 | AS8: 358001.21 | AT8: 371451.41 | AU8: 1420524.1 | AV8: 293637.24 | AW8: 334997.75 | AX8: 338239.65 | AY8: 249453.88 | AZ8: =AY8-AX8 -> -88785.766 | BA8: =AZ8/AX8 -> -0.26249367
B9: HONDURAS | C9: 122361.13 | D9: 129767 | E9: 105945.43 | F9: 85266 | G9: 112708.68 | H9: 27469 | I9: 21409.35 | J9: 25656.21 | K9: 30752.61 | L9: =SUM(H9:K9) -> 105287.17 | M9: 32478.68 | N9: 21200.77 | O9: 26840 | P9: 31622.81 | Q9: =SUM(M9:P9) -> 112142.26 | R9: 27809.8 | S9: 25895.83 | T9: 26781.24 | U9: 35088.549 | V9: =SUM(R9:U9) -> 115575.42 | W9: 29188.23 | X9: 4834.63 | Y9: 13147.03 | Z9: 9106.48 | AA9: =SUM(W9:Z9) -> 56276.37 | AB9: 19735.3 | AC9: 33746.34 | AD9: 32921.97 | AE9: 27857.77 | AF9: =SUM(AB9:AE9) -> 114261.38 | AG9: 22325.46 | AH9: 22043.65 | AI9: 20473.769 | AJ9: 34948.291 | AK9: =SUM(AG9:AJ9) -> 99791.17 | AL9: 31745.389 | AM9: 29140.394 | AN9: 34322.46 | AO9: 39303.54 | AP9: 134511.78 | AQ9: 22214.879 | AR9: 25641.226 | AS9: 29351.148 | AT9: 23745.37 | AU9: 100952.62 | AV9: 19515.308 | AW9: 35858.33 | AX9: 31388.927 | AY9: 21893.01 | AZ9: =AY9-AX9 -> -9495.9167 | BA9: =AZ9/AX9 -> -0.30252441
B10: PHILIPPINES | C10: 75978.34 | D10: 81026 | E10: 79820.17 | F10: 92836 | G10: 136908.88 | H10: 37152 | I10: 22184.32 | J10: 30648.41 | K10: 36748.93 | L10: =SUM(H10:K10) -> 126733.66 | M10: 33065.73 | N10: 41536.72 | O10: 32465 | P10: 44586.75 | Q10: =SUM(M10:P10) -> 151654.2 | R10: 46080.99 | S10: 49111.03 | T10: 70772.22 | U10: 83640.9 | V10: =SUM(R10:U10) -> 249605.14 | W10: 57007.12 | X10: 4638.79 | Y10: 9809.87 | Z10: 23032.7 | AA10: =SUM(W10:Z10) -> 94488.48 | AB10: 24869.13 | AC10: 26961.27 | AD10: 43064.51 | AE10: 62152.7 | AF10: =SUM(AB10:AE10) -> 157047.61 | AG10: 74619.45 | AH10: 59637.12 | AI10: 78739.555 | AJ10: 72764.22 | AK10: =SUM(AG10:AJ10) -> 285760.35 | AL10: 87732.689 | AM10: 68751.27 | AN10: 68950.43 | AO10: 67800.85 | AP10: 293235.24 | AQ10: 51040.14 | AR10: 51151.19 | AS10: 60463.651 | AT10: 57882.69 | AU10: 220537.67 | AV10: 28587.964 | AW10: 37689.749 | AX10: 36644.46 | AY10: 16753.01 | AZ10: =AY10-AX10 -> -19891.45 | BA10: =AZ10/AX10 -> -0.54282284
B11: DOMINICAN REPUBLIC | C11: 41199.06 | D11: 50279 | E11: 40527.19 | F11: 52365 | G11: 79712.75 | H11: 6744 | I11: 3066.29 | J11: 11581.84 | K11: 6238.52 | L11: =SUM(H11:K11) -> 27630.65 | M11: 5194.01 | N11: 3841.32 | O11: 6145 | P11: 10189.87 | Q11: =SUM(M11:P11) -> 25370.2 | R11: 7476.03 | S11: 14083.76 | T11: 14322.68 | U11: 11419.14 | V11: =SUM(R11:U11) -> 47301.61 | W11: 9994.41 | X11: 0 | Y11: 3456.18 | Z11: 1569.45 | AA11: =SUM(W11:Z11) -> 15020.04 | AB11: 4737.91 | AC11: 6315.41 | AD11: 6756.38 | AE11: 5657.93 | AF11: =SUM(AB11:AE11) -> 23467.63 | AG11: 18979.6 | AH11: 10762.88 | AI11: 13580.27 | AJ11: 8640.04 | AK11: =SUM(AG11:AJ11) -> 51962.79 | AL11: 12655.42 | AM11: 14797.95 | AN11: 10637.81 | AO11: 14442.21 | AP11: 52533.39 | AQ11: 13041 | AR11: 12427.1 | AS11: 9381.27 | AT11: 14652.63 | AU11: 49502 | AV11: 7289.4216 | AW11: 8272.73 | AX11: 17707.34 | AY11: 8299.89 | AZ11: =AY11-AX11 -> -9407.45 | BA11: =AZ11/AX11 -> -0.53127404
B12: NICARAGUA | C12: 32879.6 | D12: 36665 | E12: 24351.23 | F12: 25789 | G12: 17128.45 | H12: 2795 | I12: 3344.72 | J12: 4087.84 | K12: 4297.48 | L12: =SUM(H12:K12) -> 14525.04 | M12: 6119.18 | N12: 2296.26 | O12: 9029 | P12: 7730.47 | Q12: =SUM(M12:P12) -> 25174.91 | R12: 10902.06 | S12: 8016.01 | T12: 19878.16 | U12: 15670.7 | V12: =SUM(R12:U12) -> 54466.93 | W12: 3183.15 | X12: 91.42 | Y12: 606.69 | Z12: 2871.2 | AA12: =SUM(W12:Z12) -> 6752.46 | AB12: 3507 | AC12: 6228.22 | AD12: 6084.13 | AE12: 4437.18 | AF12: =SUM(AB12:AE12) -> 20256.53 | AG12: 3924.61 | AH12: 10556.25 | AI12: 9429.47 | AJ12: 12805.32 | AK12: =SUM(AG12:AJ12) -> 36715.65 | AL12: 9302.78 | AM12: 8631.62 | AN12: 5611.75 | AO12: 10717.51 | AP12: 34263.66 | AQ12: 5773.15 | AR12: 7826.64 | AS12: 10408.04 | AT12: 8161.63 | AU12: 32169.46 | AV12: 6514.3281 | AW12: 7575.8 | AX12: 13190.45 | AY12: 7271.74 | AZ12: =AY12-AX12 -> -5918.71 | BA12: =AZ12/AX12 -> -0.44871176
B13: COLOMBIA | C13: 73121.85 | D13: 97018 | E13: 75808.27 | F13: 28687 | G13: 21959.23 | H13: 5676 | I13: 19805.05 | J13: 7576.71 | K13: 12743.72 | L13: =SUM(H13:K13) -> 45801.48 | M13: 20923.72 | N13: 9886.9 | O13: 20307 | P13: 13969.14 | Q13: =SUM(M13:P13) -> 65086.76 | R13: 4660.84 | S13: 4542.15 | T13: 6123.54 | U13: 8881.09 | V13: =SUM(R13:U13) -> 24207.62 | W13: 4257.13 | X13: 2700.1 | Y13: 9133.2 | Z13: 17045.34 | AA13: =SUM(W13:Z13) -> 33135.77 | AB13: 5957.74 | AC13: 11874.73 | AD13: 10882.55 | AE13: 11109.99 | AF13: =SUM(AB13:AE13) -> 39825.01 | AG13: 5502.54 | AH13: 6203.4 | AI13: 8121.32 | AJ13: 3841.96 | AK13: =SUM(AG13:AJ13) -> 23669.22 | AL13: 5875.93 | AM13: 4127.59 | AN13: 3951.16 | AO13: 5339.36 | AP13: 19294.04 | AQ13: 4073.06 | AR13: 2850.04 | AS13: 4835.72 | AT13: 6307.89 | AU13: 18066.71 | AV13: 4358.7533 | AW13: 7028.65 | AX13: 8011.1671 | AY13: 17343.52 | AZ13: =AY13-AX13 -> 9332.3529 | BA13: =AZ13/AX13 -> 1.164918
B14: GUYANA | C14: 11718.72 | D14: 14391 | E14: 16574.13 | F14: 7917 | G14: 20872.99 | H14: 8908 | I14: 3253.61 | J14: 5076.96 | K14: 12693.18 | L14: =SUM(H14:K14) -> 29931.75 | M14: 3936.3 | N14: 4425.03 | O14: 3624 | P14: 2805.41 | Q14: =SUM(M14:P14) -> 14790.74 | R14: 3158.33 | S14: 11281.45 | T14: 3425.21 | U14: 2742.6538 | V14: =SUM(R14:U14) -> 20607.644 | W14: 3197.64 | X14: 592.22 | Y14: 1149.38 | Z14: 2174.9 | AA14: =SUM(W14:Z14) -> 7114.14 | AB14: 2004.67 | AC14: 1490.96 | AD14: 791.91 | AE14: 3098.59 | AF14: =SUM(AB14:AE14) -> 7386.13 | AG14: 1864.6 | AH14: 6284.97 | AI14: 2539.7339 | AJ14: 3679.6529 | AK14: =SUM(AG14:AJ14) -> 14368.957 | AL14: 4936.1688 | AM14: 4956.41 | AN14: 5807.64 | AO14: 6193.44 | AP14: 21893.659 | AQ14: 10262.746 | AR14: 6610.5776 | AS14: 11834.138 | AT14: 6570.7276 | AU14: 35278.189 | AV14: 7083.4957 | AW14: 15287.535 | AX14: 4436.1862 | AY14: 5383.63 | AZ14: =AY14-AX14 -> 947.44381 | BA14: =AZ14/AX14 -> 0.2135717
B15: TRINIDAD & TOBAGO | C15: 38308.16 | D15: 69897 | E15: 79862.4 | F15: 83189 | G15: 48797 | H15: 13416 | I15: 20915.27 | J15: 14862.3 | K15: 25256.51 | L15: =SUM(H15:K15) -> 74450.08 | M15: 20260.83 | N15: 17741.3 | O15: 17354 | P15: 20932.38 | Q15: =SUM(M15:P15) -> 76288.51 | R15: 11279.47 | S15: 27056.15 | T15: 30304.08 | U15: 13689.179 | V15: =SUM(R15:U15) -> 82328.879 | W15: 20238.94 | X15: 3912.56 | Y15: 8744.92 | Z15: 6705.96 | AA15: =SUM(W15:Z15) -> 39602.38 | AB15: 5915.39 | AC15: 15199.6 | AD15: 18043.45 | AE15: 13549.47 | AF15: =SUM(AB15:AE15) -> 52707.91 | AG15: 13301.54 | AH15: 19127.94 | AI15: 17557.407 | AJ15: 12913.46 | AK15: =SUM(AG15:AJ15) -> 62900.347 | AL15: 12371.01 | AM15: 13317.211 | AN15: 10329.27 | AO15: 14648.14 | AP15: 50665.631 | AQ15: 26682.763 | AR15: 11161.277 | AS15: 12644.181 | AT15: 14776.317 | AU15: 65264.539 | AV15: 17112.686 | AW15: 12410.5 | AX15: 11416.153 | AY15: 12003.77 | AZ15: =AY15-AX15 -> 587.61667 | BA15: =AZ15/AX15 -> 0.051472387
B16: INDIA | C16: 0 | D16: 0 | E16: 0 | F16: 0 | G16: 0 | H16: 0 | I16: 0 | J16: 0 | K16: 0 | L16: =SUM(H16:K16) -> 0 | M16: 0 | N16: 0 | O16: 0 | P16: 0 | Q16: =SUM(M16:P16) -> 0 | R16: 0 | S16: 0 | T16: 0 | U16: 0 | V16: =SUM(R16:U16) -> 0 | W16: 0 | X16: 0 | Y16: 0 | Z16: 0 | AA16: =SUM(W16:Z16) -> 0 | AB16: 0 | AC16: 0 | AD16: 0 | AE16: 0 | AF16: =SUM(AB16:AE16) -> 0 | AG16: 1687.08 | AH16: 0 | AI16: 0 | AJ16: 0 | AK16: =SUM(AG16:AJ16) -> 1687.08 | AL16: 0 | AM16: 0 | AN16: 0 | AO16: 0 | AP16: 0 | AQ16: 0 | AR16: 0 | AS16: 0 | AT16: 0 | AU16: 0 | AV16: 0 | AW16: 0 | AX16: 0 | AY16: 0 | AZ16: =AY16-AX16 -> 0 | BA16: =AZ16/AX16 -> #DIV/0!
B17: UNITED KINGDOM | C17: 463742.96 | D17: 667883 | E17: 547945.44 | F17: 448071 | G17: 506693.82 | H17: 105298 | I17: 110998.57 | J17: 148668.78 | K17: 157810.25 | L17: =SUM(H17:K17) -> 522775.6 | M17: 98614.6 | N17: 120751.28 | O17: 136301 | P17: 152147.88 | Q17: =SUM(M17:P17) -> 507814.76 | R17: 108992.42 | S17: 118533.94 | T17: 115487.82 | U17: 106942.63 | V17: =SUM(R17:U17) -> 449956.81 | W17: 86290.46 | X17: 81595.46 | Y17: 99091.58 | Z17: 208283.26 | AA17: =SUM(W17:Z17) -> 475260.76 | AB17: 151172.56 | AC17: 124943.96 | AD17: 243638 | AE17: 177326.34 | AF17: =SUM(AB17:AE17) -> 697080.86 | AG17: 183405.6 | AH17: 170971.23 | AI17: 158000.5 | AJ17: 145538.19 | AK17: =SUM(AG17:AJ17) -> 657915.52 | AL17: 142231.12 | AM17: 142540.95 | AN17: 185860.67 | AO17: 172372.97 | AP17: 643005.7 | AQ17: 144526.32 | AR17: 147582.6 | AS17: 131446.44 | AT17: 134175.29 | AU17: 557730.65 | AV17: 129463.7 | AW17: 146487.18 | AX17: 162518.7 | AY17: 133358.62 | AZ17: =AY17-AX17 -> -29160.084 | BA17: =AZ17/AX17 -> -0.17942602
B18: UNITED STATES | C18: 2415708.4 | D18: 3077253 | E18: 3021535.9 | F18: 3252040 | G18: 3311119 | H18: 861903 | I18: 938460.03 | J18: 1029044.9 | K18: 1022723 | L18: =SUM(H18:K18) -> 3852130.9 | M18: 901495.41 | N18: 1018760.9 | O18: 1015652 | P18: 1002645.3 | Q18: =SUM(M18:P18) -> 3938553.6 | R18: 912357.92 | S18: 973212.81 | T18: 966859.66 | U18: 927513.16 | V18: =SUM(R18:U18) -> 3779943.6 | W18: 787139.47 | X18: 710077.82 | Y18: 896532.98 | Z18: 1001397 | AA18: =SUM(W18:Z18) -> 3395147.3 | AB18: 1134948.8 | AC18: 1226358.2 | AD18: 1271690.9 | AE18: 1432107.9 | AF18: =SUM(AB18:AE18) -> 5065105.8 | AG18: 1054496.1 | AH18: 1304980.4 | AI18: 1488487.8 | AJ18: 1459870.9 | AK18: =SUM(AG18:AJ18) -> 5307835.2 | AL18: 1307278.7 | AM18: 1349697.2 | AN18: 1430796.5 | AO18: 1321387.2 | AP18: 5409159.7 | AQ18: 1269721.4 | AR18: 1313749.7 | AS18: 1357236 | AT18: 1297855.4 | AU18: 5238562.5 | AV18: 1008095.1 | AW18: 1249714.1 | AX18: 1267764.9 | AY18: 1281585.9 | AZ18: =AY18-AX18 -> 13820.938 | BA18: =AZ18/AX18 -> 0.010901814
B19: CANADA | C19: n/a | D19: 687246 | E19: 689183.28 | F19: 517747 | G19: 459812.48 | H19: 122252 | I19: 152390.51 | J19: 124816.5 | K19: 114608.85 | L19: =SUM(H19:K19) -> 514067.86 | M19: 99524.16 | N19: 113091.54 | O19: 150817 | P19: 124095.75 | Q19: =SUM(M19:P19) -> 487528.45 | R19: 118840.62 | S19: 137877.18 | T19: 136705.95 | U19: 113743.76 | V19: =SUM(R19:U19) -> 507167.51 | W19: 108641.38 | X19: 78968.31 | Y19: 95154.55 | Z19: 119887.47 | AA19: =SUM(W19:Z19) -> 402651.71 | AB19: 162161.17 | AC19: 124120.28 | AD19: 155838.28 | AE19: 154687.94 | AF19: =SUM(AB19:AE19) -> 596807.67 | AG19: 162591.48 | AH19: 139630.45 | AI19: 126451.41 | AJ19: 145289.35 | AK19: =SUM(AG19:AJ19) -> 573962.69 | AL19: 130784.92 | AM19: 145033.78 | AN19: 160396.65 | AO19: 148853.93 | AP19: 585069.27 | AQ19: 142590.04 | AR19: 147640.87 | AS19: 164160.36 | AT19: 131975.66 | AU19: 586366.93 | AV19: 90175.794 | AW19: 131142.04 | AX19: 121688.43 | AY19: 120948.22 | AZ19: =AY19-AX19 -> -740.20571 | BA19: =AZ19/AX19 -> -0.0060827947
B20: COSTA RICA | C20: n/a | D20: 19887 | E20: 26075.33 | F20: 17578 | G20: 9562.86 | H20: 446 | I20: 6608.6 | J20: 2627.77 | K20: 7582.92 | L20: =SUM(H20:K20) -> 17265.29 | M20: 5029.08 | N20: 1842.65 | O20: 5668 | P20: 3163.31 | Q20: =SUM(M20:P20) -> 15703.04 | R20: 2663.27 | S20: 3518.93 | T20: 3030 | U20: 4715.76 | V20: =SUM(R20:U20) -> 13927.96 | W20: 0 | X20: 4119.11 | Y20: 585.24 | Z20: 100 | AA20: =SUM(W20:Z20) -> 4804.35 | AB20: 7592.49 | AC20: 3261.49 | AD20: 1523.73 | AE20: 498.96 | AF20: =SUM(AB20:AE20) -> 12876.67 | AG20: 3574.44 | AH20: 1927.53 | AI20: 4994.02 | AJ20: 1918.56 | AK20: =SUM(AG20:AJ20) -> 12414.55 | AL20: 2663 | AM20: 905 | AN20: 4367.85 | AO20: 3195.21 | AP20: 11131.06 | AQ20: 5249.29 | AR20: 1397.48 | AS20: 128.7 | AT20: 1508.4981 | AU20: 8283.9681 | AV20: 5019.3544 | AW20: 3067.26 | AX20: 3097.58 | AY20: 6440.45 | AZ20: =AY20-AX20 -> 3342.87 | BA20: =AZ20/AX20 -> 1.0791876
B21: BARBADOS | C21: n/a | D21: 52558 | E21: 27565.28 | F21: 18039 | G21: 17155.75 | H21: 7000 | I21: 3384.29 | J21: 11870.38 | K21: 15761.25 | L21: =SUM(H21:K21) -> 38015.92 | M21: 3348.97 | N21: 2867.72 | O21: 2141 | P21: 4795.65 | Q21: =SUM(M21:P21) -> 13153.34 | R21: 6826.37 | S21: 7265.73 | T21: 6264.64 | U21: 5265.31 | V21: =SUM(R21:U21) -> 25622.05 | W21: 8212.3 | X21: 0 | Y21: 3384.57 | Z21: 1063.82 | AA21: =SUM(W21:Z21) -> 12660.69 | AB21: 13155.77 | AC21: 4878.59 | AD21: 3855.22 | AE21: 7144.19 | AF21: =SUM(AB21:AE21) -> 29033.77 | AG21: 10638.13 | AH21: 1960.56 | AI21: 15420.02 | AJ21: 13370.612 | AK21: =SUM(AG21:AJ21) -> 41389.322 | AL21: 4432.642 | AM21: 1857.94 | AN21: 10026.78 | AO21: 4559.84 | AP21: 20877.202 | AQ21: 2374.2976 | AR21: 2998.75 | AS21: 4943.05 | AT21: 7976.34 | AU21: 18292.438 | AV21: 10174.927 | AW21: 4604.18 | AX21: 11365.849 | AY21: 4957.95 | AZ21: =AY21-AX21 -> -6407.8986 | BA21: =AZ21/AX21 -> -0.56378532
B22: PANAMA | C22: n/a | D22: 12376 | E22: 17127.01 | F22: 9892 | G22: 13079.78 | H22: 5407 | I22: 4816.05 | J22: 3751.05 | K22: 6391.08 | L22: =SUM(H22:K22) -> 20365.18 | M22: 10764.11 | N22: 6789.64 | O22: 9798 | P22: 5929.95 | Q22: =SUM(M22:P22) -> 33281.7 | R22: 9668.47 | S22: 11676.47 | T22: 15046.33 | U22: 4463.3262 | V22: =SUM(R22:U22) -> 40854.596 | W22: 9068.59 | X22: 4783.55 | Y22: 4595.13 | Z22: 2714.4 | AA22: =SUM(W22:Z22) -> 21161.67 | AB22: 578.5 | AC22: 242.36 | AD22: 1495.62 | AE22: 2009.55 | AF22: =SUM(AB22:AE22) -> 4326.03 | AG22: 8131.82 | AH22: 1249.6 | AI22: 291 | AJ22: 1839.2793 | AK22: =SUM(AG22:AJ22) -> 11511.699 | AL22: 2629.739 | AM22: 2109.0788 | AN22: 4738 | AO22: 3516.7 | AP22: 12993.518 | AQ22: 3169.86 | AR22: 1984.1 | AS22: 252.2 | AT22: 480.15 | AU22: 5886.31 | AV22: 562.21218 | AW22: 2017.6 | AX22: 5695.36 | AY22: 873 | AZ22: =AY22-AX22 -> -4822.36 | BA22: =AZ22/AX22 -> -0.84671733
B23: BELIZE | C23: n/a | D23: n/a | E23: n/a | F23: n/a | G23: n/a | H23: 2495 | I23: 1139.28 | J23: 4294.94 | K23: 918.05 | L23: =SUM(H23:K23) -> 8847.27 | M23: 2019.91 | N23: 1571.27 | O23: 2903 | P23: 1276.3 | Q23: =SUM(M23:P23) -> 7770.48 | R23: 3539.51 | S23: 1783.51 | T23: 1649.99 | U23: 4280.45 | V23: =SUM(R23:U23) -> 11253.46 | W23: 4188.87 | X23: 659.22 | Y23: 1257.86 | Z23: 2034.94 | AA23: =SUM(W23:Z23) -> 8140.89 | AB23: 918.08 | AC23: 2631.37 | AD23: 672.91 | AE23: 313.32 | AF23: =SUM(AB23:AE23) -> 4535.68 | AG23: 1250.64 | AH23: 1075.27 | AI23: 870.03 | AJ23: 2435.6332 | AK23: =SUM(AG23:AJ23) -> 5631.5732 | AL23: 2550.9212 | AM23: 1497.07 | AN23: 1538.08 | AO23: 725.01 | AP23: 6311.0812 | AQ23: 3032.3 | AR23: 1714.44 | AS23: 1628.65 | AT23: 2244.73 | AU23: 8620.12 | AV23: 1392.9388 | AW23: 961.3 | AX23: 2485.69 | AY23: 2200.6 | AZ23: =AY23-AX23 -> -285.09 | BA23: =AZ23/AX23 -> -0.1146925
B24: CHINA | C24: n/a | D24: n/a | E24: n/a | F24: n/a | G24: n/a | H24: 611 | I24: 5505.72 | J24: 0 | K24: 317.45 | L24: =SUM(H24:K24) -> 6434.17 | M24: 197.8 | N24: 378.79 | O24: 757 | P24: 1186.8 | Q24: =SUM(M24:P24) -> 2520.39 | R24: 0 | S24: 692.3 | T24: 1341.08 | U24: 2541.74 | V24: =SUM(R24:U24) -> 4575.12 | W24: 100 | X24: 0 | Y24: 486 | Z24: 0 | AA24: =SUM(W24:Z24) -> 586 | AB24: 0 | AC24: 476.19 | AD24: 0 | AE24: 0 | AF24: =SUM(AB24:AE24) -> 476.19 | AG24: 0 | AH24: 1305.64 | AI24: 0 | AJ24: 0 | AK24: =SUM(AG24:AJ24) -> 1305.64 | AL24: 0 | AM24: 0 | AN24: 0 | AO24: 1977.01 | AP24: 1977.01 | AQ24: 2521.95 | AR24: 0 | AS24: 0 | AT24: 0 | AU24: 2521.95 | AV24: 0 | AW24: 0 | AX24: 0 | AY24: 0 | AZ24: =AY24-AX24 -> 0 | BA24: =AZ24/AX24 -> #DIV/0!
B25: CUBA | C25: n/a | D25: n/a | E25: n/a | F25: n/a | G25: n/a | H25: 0 | I25: 0 | J25: 0 | K25: 0 | L25: =SUM(H25:K25) -> 0 | M25: 0 | N25: 0 | O25: 0 | P25: 0 | Q25: =SUM(M25:P25) -> 0 | R25: 0 | S25: 0 | T25: 0 | U25: 0 | V25: =SUM(R25:U25) -> 0 | W25: 0 | X25: 0 | Y25: 0 | Z25: 0 | AA25: =SUM(W25:Z25) -> 0 | AB25: 0 | AC25: 0 | AD25: 0 | AE25: 0 | AF25: =SUM(AB25:AE25) -> 0 | AG25: 0 | AH25: 0 | AI25: 0 | AJ25: 0 | AK25: =SUM(AG25:AJ25) -> 0 | AL25: 0 | AM25: 0 | AN25: 0 | AO25: 0 | AP25: 0 | AQ25: 0 | AR25: 0 | AS25: 0 | AT25: 0 | AU25: 0 | AV25: 0 | AW25: 0 | AX25: 0 | AY25: 0 | AZ25: =AY25-AX25 -> 0 | BA25: =AZ25/AX25 -> #DIV/0!
B26: KENYA | C26: n/a | D26: n/a | E26: n/a | F26: n/a | G26: n/a | H26: 626 | I26: 3399.59 | J26: 101.21 | K26: 4022.19 | L26: =SUM(H26:K26) -> 8148.99 | M26: 3636.44 | N26: 150 | O26: 1115 | P26: 1165.19 | Q26: =SUM(M26:P26) -> 6066.63 | R26: 533.76 | S26: 203.29 | T26: 8898.77 | U26: 274.89 | V26: =SUM(R26:U26) -> 9910.71 | W26: 239.7 | X26: 0 | Y26: 3285.59 | Z26: 3110.25 | AA26: =SUM(W26:Z26) -> 6635.54 | AB26: 0 | AC26: 0 | AD26: 2566.78 | AE26: 4348.48 | AF26: =SUM(AB26:AE26) -> 6915.26 | AG26: 684.63 | AH26: 0 | AI26: 2107.33 | AJ26: 7704.74 | AK26: =SUM(AG26:AJ26) -> 10496.7 | AL26: 1690.36 | AM26: 2594.66 | AN26: 1300.92 | AO26: 846.09 | AP26: 6432.03 | AQ26: 179.38 | AR26: 3363.58 | AS26: 2397.82 | AT26: 3633.9 | AU26: 9574.68 | AV26: 1511.3201 | AW26: 1011.9 | AX26: 0 | AY26: 706.88 | AZ26: =AY26-AX26 -> 706.88 | BA26: =AZ26/AX26 -> #DIV/0!
B27: MEXICO | C27: n/a | D27: n/a | E27: n/a | F27: n/a | G27: n/a | H27: 5601 | I27: 404.91 | J27: 0 | K27: 2411 | L27: =SUM(H27:K27) -> 8416.91 | M27: 3398.85 | N27: 0 | O27: 2521 | P27: 0 | Q27: =SUM(M27:P27) -> 5919.85 | R27: 2279.77 | S27: 0 | T27: 0 | U27: 552.94 | V27: =SUM(R27:U27) -> 2832.71 | W27: 0 | X27: 700.92 | Y27: 595.23 | Z27: 0 | AA27: =SUM(W27:Z27) -> 1296.15 | AB27: 0 | AC27: 50 | AD27: 0 | AE27: 1673.82 | AF27: =SUM(AB27:AE27) -> 1723.82 | AG27: 0 | AH27: 204.68 | AI27: 1244.81 | AJ27: 1065.26 | AK27: =SUM(AG27:AJ27) -> 2514.75 | AL27: 845.65 | AM27: 0 | AN27: 416.67 | AO27: 2017.97 | AP27: 3280.29 | AQ27: 448.07 | AR27: 0 | AS27: 3146.7043 | AT27: 0 | AU27: 3594.7743 | AV27: 0 | AW27: 0 | AX27: 312.71429 | AY27: 1073.4 | AZ27: =AY27-AX27 -> 760.68571 | BA27: =AZ27/AX27 -> 2.4325263
B28: NEPAL | C28: n/a | D28: n/a | E28: n/a | F28: n/a | G28: n/a | H28: 0 | I28: 0 | J28: 0 | K28: 0 | L28: =SUM(H28:K28) -> 0 | M28: 0 | N28: 0 | O28: 0 | P28: 0 | Q28: =SUM(M28:P28) -> 0 | R28: 0 | S28: 145.5 | T28: 1639.76 | U28: 2840.8 | V28: =SUM(R28:U28) -> 4626.06 | W28: 9668.33 | X28: 145.5 | Y28: 3260.42 | Z28: 1755.7 | AA28: =SUM(W28:Z28) -> 14829.95 | AB28: 2716 | AC28: 1309.5 | AD28: 3065.2 | AE28: 5003.41 | AF28: =SUM(AB28:AE28) -> 12094.11 | AG28: 388 | AH28: 1195.32 | AI28: 0 | AJ28: 0 | AK28: =SUM(AG28:AJ28) -> 1583.32 | AL28: 0 | AM28: 0 | AN28: 0 | AO28: 0 | AP28: 0 | AQ28: 0 | AR28: 5289.38 | AS28: 0 | AT28: 7561.13 | AU28: 12850.51 | AV28: 4391.3198 | AW28: 2395.9 | AX28: 1212.5 | AY28: 0 | AZ28: =AY28-AX28 -> -1212.5 | BA28: =AZ28/AX28 -> -1
B29: PERU | C29: n/a | D29: n/a | E29: n/a | F29: n/a | G29: n/a | H29: 2311 | I29: 2854.83 | J29: 0 | K29: 500 | L29: =SUM(H29:K29) -> 5665.83 | M29: 6928.75 | N29: 2790.79 | O29: 1000 | P29: 4535.3 | Q29: =SUM(M29:P29) -> 15254.84 | R29: 776 | S29: 300 | T29: 0 | U29: 0 | V29: =SUM(R29:U29) -> 1076 | W29: 300 | X29: 0 | Y29: 0 | Z29: 0 | AA29: =SUM(W29:Z29) -> 300 | AB29: 0 | AC29: 0 | AD29: 0 | AE29: 0 | AF29: =SUM(AB29:AE29) -> 0 | AG29: 0 | AH29: 0 | AI29: 514.58 | AJ29: 485 | AK29: =SUM(AG29:AJ29) -> 999.58 | AL29: 1226.19 | AM29: 1733.02 | AN29: 4413.11 | AO29: 4268.73 | AP29: 11641.05 | AQ29: 2463.8 | AR29: 1331.81 | AS29: 2953.44 | AT29: 577.15 | AU29: 7326.2 | AV29: 162.96005 | AW29: 2517.44 | AX29: 97 | AY29: 3998.3 | AZ29: =AY29-AX29 -> 3901.3 | BA29: =AZ29/AX29 -> 40.219588
B30: ZIMBABWE | C30: n/a | D30: n/a | E30: n/a | F30: n/a | G30: n/a | H30: 776 | I30: 620.8 | J30: 0 | K30: 0 | L30: =SUM(H30:K30) -> 1396.8 | M30: 0 | N30: 1066.04 | O30: 0 | P30: 0 | Q30: =SUM(M30:P30) -> 1066.04 | R30: 38.8 | S30: 34.52 | T30: 1404.45 | U30: 575.47 | V30: =SUM(R30:U30) -> 2053.24 | W30: 2045.75 | X30: 1208.09 | Y30: 502.54 | Z30: 2073.72 | AA30: =SUM(W30:Z30) -> 5830.1 | AB30: 765.33 | AC30: 442.15 | AD30: 2232.64 | AE30: 176.88 | AF30: =SUM(AB30:AE30) -> 3617 | AG30: 1354.18 | AH30: 119.43 | AI30: 0 | AJ30: 0 | AK30: =SUM(AG30:AJ30) -> 1473.61 | AL30: 929.26 | AM30: 485 | AN30: 929.25 | AO30: 97 | AP30: 2440.51 | AQ30: 2311.92 | AR30: 3399.43 | AS30: 0 | AT30: 1173.62 | AU30: 6884.97 | AV30: 83 | AW30: 511.01381 | AX30: 420 | AY30: 3673.71 | AZ30: =AY30-AX30 -> 3253.71 | BA30: =AZ30/AX30 -> 7.7469286
B31: OTHER | C31: 1347766 | D31: 1009527 | E31: 782514.23 | F31: 608092 | G31: 1027952.8 | H31: 238458 | I31: 342980.69 | J31: 436575.87 | K31: 391292.59 | L31: =SUM(H31:K31) -> 1409307.1 | M31: 347938.15 | N31: 384084.89 | O31: 372861 | P31: 393038.61 | Q31: =SUM(M31:P31) -> 1497922.6 | R31: 353974.61 | S31: 434665.32 | T31: 458998.93 | U31: 477910.79 | V31: =SUM(R31:U31) -> 1725549.6 | W31: 406674.74 | X31: 188053.65 | Y31: 337698.3 | Z31: 269113.02 | AA31: =SUM(W31:Z31) -> 1201539.7 | AB31: 259086.66 | AC31: 363657.92 | AD31: 355979.26 | AE31: 423489.44 | AF31: =SUM(AB31:AE31) -> 1402213.3 | AG31: 444420.45 | AH31: 273988.69 | AI31: 285685.81 | AJ31: 296259.99 | AK31: =SUM(AG31:AJ31) -> 1300354.9 | AL31: 260524.91 | AM31: 263656.2 | AN31: 326198.72 | AO31: 261306.36 | AP31: 1111686.2 | AQ31: 375825.1 | AR31: 349145.62 | AS31: 329108.34 | AT31: 299798.3 | AU31: 1353877.4 | AV31: 319580.54 | AW31: 368409.87 | AX31: 348200.34 | AY31: 414623.33 | AZ31: =AY31-AX31 -> 66422.988 | BA31: =AZ31/AX31 -> 0.19076084
B32: TOTALS | C32: =SUM(C8:C31) -> 5882706.2 | D32: =SUM(D8:D31) -> 7201859 | E32: =SUM(E8:E31) -> 6486411.9 | F32: =SUM(F8:F31) -> 6073011 | G32: =SUM(G8:G31) -> 6531966.1 | H32: =SUM(H8:H31) -> 1686177 | I32: =SUM(I8:I31) -> 1888626.8 | J32: =SUM(J8:J31) -> 2090949.8 | ... L32: =SUM(L8:L31) -> 7768083.7 | M32: 1915939.4 | N32: =SUM(N8:N31) -> 2032796.4 | O32: =SUM(O8:O31) -> 2058064 | P32: =SUM(P8:P31) -> 2103778 | Q32: =SUM(Q8:Q31) -> 8044541 | R32: =SUM(R8:R31) -> 1915939.4 | S32: =SUM(S8:S31) -> 2063040.9 | T32: =SUM(T8:T31) -> 2147192.6 | U32: =SUM(U8:U31) -> 1998147.8 | ... AL32: =SUM(AL8:AL31) -> 2402227.6 | AM32: 2393374.3 | AN32: 2654797.5 | AO32: 2473121 | AP32: 9923520.4 | AQ32: 2419087.4 | AR32: 2456751.4 | AS32: 2494321.1 | AT32: 2392508.8 | AU32: 9762668.7 | AV32: 1954712.3 | AW32: 2371960.8 | AX32: 2385893.4 | AY32: 2312842.8 | AZ32: =SUM(AZ8:AZ31) -> -73050.646 | BA32: =AZ32/AW32 -> -0.030797577
B34: REMITTANCE INFLOWS BY COUNTRY BY PERCENTAGE (%)
B35: COUNTRY | C35: Year 2012 | D35: Year 2013 | E35: Year 2014* | F35: Year 2015 | G35: Year 2016 | H35: 2017Q1 | I35: 2017Q2 | J35: 2017Q3 | K35: 2017Q4 | L35: Year 2017 | M35: 2018Q1 | N35: 2018Q2 | O35: 2018Q3 | P35: 2018Q4 | Q35: Year 2018 | R35: 2019Q1 | S35: 2019Q2 | T35: 2019Q3 | U35: 2019Q4 | V35: Year 2019 | W35: 2020Q1 | X35: 2020Q2 | Y35: 2020Q3 | Z35: 2020Q4 | AA35: Year 2020 | AB35: 2021Q1 | AC35: 2021Q2 | AD35: 2021Q3 | AE35: 2021Q4 | AF35: Year 2021 | AG35: 2022Q1 | AH35: 2022Q2 | AI35: 2022Q3 | AJ35: 2022Q4 | AK35: Year 2022 | AL35: 2023Q1 | AM35: 2023Q2 | AN35: 2023Q3 | AO35: 2023Q4 | AP35: Year 2023 | AQ35: 2024Q1 | AR35: 2024Q2 | AS35: 2024Q3 | AT35: 2024Q4 | AU35: Year 2024 | AV35: 2025Q1 | AW35: 2025Q2 | AX35: 2025Q3 | AY35: 2025Q4
B36: JAMAICA | C36: =C8/C$32 -> 0.21417387 | D36: =D8/D$32 -> 0.16608017 | E36: =E8/E$32 -> 0.14670308 | F36: =F8/F$32 -> 0.13592977 | G36: =G8/G$32 -> 0.11459054 | H36: =H8/H$32 -> 0.13689725 | I36: =I8/I$32 -> 0.1170609 | J36: =J8/J$32 -> 0.10985828 | ... AY36: =AY8/AY$32 -> 0.10785596
B37: HONDURAS | C37: =C9/C$32 -> 0.020800143 | D37: =D9/D$32 -> 0.018018542 | E37: =E9/E$32 -> 0.016333442 | F37: =F9/F$32 -> 0.014040152 | G37: =G9/G$32 -> 0.01725494 | H37: =H9/H$32 -> 0.016290698 | I37: =I9/I$32 -> 0.011335934 | J37: =J9/J$32 -> 0.012270122 | ... AY37: =AY9/AY$32 -> 0.0094658445
B38: PHILIPPINES | C38: =C10/C$32 -> 0.012915542 | D38: =D10/D$32 -> 0.011250706 | E38: =E10/E$32 -> 0.012305751 | F38: =F10/F$32 -> 0.015286651 | G38: =G10/G$32 -> 0.020959827 | H38: =H10/H$32 -> 0.022033274 | I38: =I10/I$32 -> 0.01174627 | J38: =J10/J$32 -> 0.01465765 | ... AY38: =AY10/AY$32 -> 0.0072434712
B39: DOMINICAN REPUBLIC | C39: =C11/C$32 -> 0.0070034197 | D39: =D11/D$32 -> 0.0069813919 | E39: =E11/E$32 -> 0.0062480137 | F39: =F11/F$32 -> 0.0086225762 | G39: =G11/G$32 -> 0.012203485 | H39: =H11/H$32 -> 0.0039995801 | I39: =I11/I$32 -> 0.0016235552 | J39: =J11/J$32 -> 0.005539033 | ... AY39: =AY11/AY$32 -> 0.0035886097
B40: NICARAGUA | C40: =C12/C$32 -> 0.0055891964 | D40: =D12/D$32 -> 0.0050910466 | E40: =E12/E$32 -> 0.0037541911 | F40: =F12/F$32 -> 0.0042464932 | G40: =G12/G$32 -> 0.0026222503 | H40: =H12/H$32 -> 0.0016575959 | I40: =I12/I$32 -> 0.0017709798 | J40: =J12/J$32 -> 0.0019550158 | ... AY40: =AY12/AY$32 -> 0.0031440702
B41: COLOMBIA | C41: =C13/C$32 -> 0.012429968 | D41: =D13/D$32 -> 0.013471244 | E41: =E13/E$32 -> 0.011687243 | F41: =F13/F$32 -> 0.0047236865 | G41: =G13/G$32 -> 0.0033618102 | H41: =H13/H$32 -> 0.0033661947 | I41: =I13/I$32 -> 0.010486481 | J41: =J13/J$32 -> 0.0036235733 | ... AY41: =AY13/AY$32 -> 0.007498789
B42: GUYANA | C42: =C14/C$32 -> 0.0019920628 | D42: =D14/D$32 -> 0.0019982341 | E42: =E14/E$32 -> 0.0025552078 | F42: =F14/F$32 -> 0.0013036367 | G42: =G14/G$32 -> 0.0031955142 | H42: =H14/H$32 -> 0.0052829567 | I42: =I14/I$32 -> 0.0017227384 | J42: =J14/J$32 -> 0.002428064 | ... AY42: =AY14/AY$32 -> 0.0023277112
B43: TRINIDAD & TOBAGO | C43: =C15/C$32 -> 0.0065119962 | D43: =D15/D$32 -> 0.0097054108 | E43: =E15/E$32 -> 0.012312262 | F43: =F15/F$32 -> 0.013698147 | G43: =G15/G$32 -> 0.007470492 | H43: =H15/H$32 -> 0.0079564601 | I43: =I15/I$32 -> 0.011074326 | J43: =J15/J$32 -> 0.0071079181 | ... AY43: =AY15/AY$32 -> 0.0051900501
B44: INDIA | C44: =C16/C$32 -> 0 | D44: =D16/D$32 -> 0 | E44: =E16/E$32 -> 0 | F44: =F16/F$32 -> 0 | G44: =G16/G$32 -> 0 | H44: =H16/H$32 -> 0 | I44: =I16/I$32 -> 0 | J44: =J16/J$32 -> 0 | ... AY44: =AY16/AY$32 -> 0
...

Sheet OUTFLOWS
B2: CAYMAN ISLANDS REMITTANCE REPORT - MONEY SERVICE PROVIDERS (REMITTANCE COMPANIES)
B3: (Workers' remittances transmitted by the remittance companies licensed as Money Service Providers)
B6: REMITTANCE OUTFLOWS BY COUNTRY (US$ - Actual Amounts)
B7: COUNTRY | C7: Year 2012 | D7: Year 2013 | E7: Year 2014* | F7: Year 2015 | G7: Year 2016 | H7: 2017Q1 | I7: 2017Q2 | J7: 2017Q3 | K7: 2017Q4 | L7: Year 2017 | M7: 2018Q1 | N7: 2018Q2 | O7: 2018Q3 | P7: 2018Q4 | Q7: Year 2018 | R7: 2019Q1 | S7: 2019Q2 | T7: 2019Q3 | U7: 2019Q4 | V7: Year 2019 | W7: 2020Q1 | X7: 2020Q2 | Y7: 2020Q3 | Z7: 2020Q4 | AA7: Year 2020 | AB7: 2021Q1 | AC7: 2021Q2 | AD7: 2021Q3 | AE7: 2021Q4 | AF7: Year 2021 | AG7: 2022Q1 | AH7: 2022Q2 | AI7: 2022Q3 | AJ7: 2022Q4 | AK7: Year 2022 | AL7: 2023Q1 | AM7: 2023Q2 | AN7: 2023Q3 | AO7: 2023Q4 | AP7: Year 2023 | AQ7: 2024Q1 | AR7: 2024Q2 | AS7: 2024Q3 | AT7: 2024Q4 | AU7: Year 2024 | AV7: 2025Q1 | AW7: 2025Q2 | AX7: 2025Q3 | AY7: 2025Q4 | AZ7: Diff 25Q3/25Q2 | BA7: Diff 25Q3/25Q2
B8: JAMAICA | C8: 1.155401e+08 | D8: 111335609 | E8: 1.1043333e+08 | F8: 101580069 | G8: 1.1893607e+08 | H8: 29724607 | I8: 31176252 | J8: 32443671 | K8: 34553097 | L8: =SUM(H8:K8) -> 1.2789763e+08 | M8: 31446526 | N8: 33660569 | O8: 34246875 | P8: 33891533 | Q8: =SUM(M8:P8) -> 1.332455e+08 | R8: 35060263 | S8: 36574288 | T8: 36896832 | U8: 42358664 | V8: =SUM(R8:U8) -> 1.5089005e+08 | W8: 35907618 | X8: 23958660 | Y8: 54105485 | Z8: 44128445 | AA8: =SUM(W8:Z8) -> 1.5810021e+08 | AB8: 39935573 | AC8: 40277066 | AD8: 39076481 | AE8: 45495936 | AF8: =SUM(AB8:AE8) -> 1.6478506e+08 | AG8: 41171087 | AH8: 45551718 | AI8: 44978766 | AJ8: 50169944 | AK8: =SUM(AG8:AJ8) -> 1.8187151e+08 | AL8: 44180882 | AM8: 46515372 | AN8: 45607080 | AO8: 51036313 | AP8: 1.8733965e+08 | AQ8: 48235431 | AR8: 49146786 | AS8: 46933758 | AT8: 53115922 | AU8: 1.974319e+08 | AV8: 47705558 | AW8: 51732647 | AX8: 49027406 | AY8: 53553092 | AZ8: =AY8-AX8 -> 4525686.9 | BA8: =AZ8/AX8 -> 0.09230933
