Workbook
Name Remittance_Report: Bulletin!$B$15
Name Website__www.cima.ky: Bulletin!$B$41

Sheet Bulletin
G1: CAYMAN ISLANDS REMITTANCES BULLETIN - December 2022
H5: Table 1: Cayman's Remittances | O5: Fourth Quarter 2022
H6: (US$ - Actual Amounts) | K6: 2021Q4 | M6: 2022Q4 | O6: The Remittance Outflows of US$82,206,783 increased by 9.1% or US$6,838,919 relative to the same period in 2021. The Inflows of US$2,650,457 also decreased by 0.9% or US$24,775 compared to the same period in 2021. There was an annual decrease of 9.44 in net remittances.
H7: Total Remittance Inflows | K7: =L88 -> 2675231.7 | M7: =L95 -> 2650456.6
H8: Total Remittance Outflows | K8: =H88 -> 75367864 | M8: =H95 -> 82206783
H10: Net Remittances | K10: =K7-K8 -> -72692632 | M10: =M7-M8 -> -79556326
H12: Source: Money Service Providers (MSP's) licensed by Cayman Islands Monetary Authority (CIMA).
H13: Updated - March 2023
B15: Download Statistics
B16: Remittance Report
O17: Destination of Remittance Outflows:
O19: In the fourth quarter of 2022, the 4 largest recipients of Cayman Islands' remittances continue to be Jamaica, with 61% which is an increase of 8.76% from 2022Q3, followed by the Philippines with 16%, Honduras with 6.9%, and the United States with 4.3% while 'Other Countries' accounted for 11.9% (Chart 1).
B20: FAQs
B21: What is a Money Service Business?
B24: Where can I obtain copies of the Money Services Law?
B29: Money Services Providers
O30: Source of Remittance Inflows:
C31: 2020 | D31: 2021 | E31: 2022
B32: Number of licences | C32: 5 | D32: 5 | E32: 5
O33: Total Inflows increased by US$45,270 (1.90%) between 2022Q3 and 2022Q4. The Cayman Islands' primary source of Remittance Inflows is the United States; whose share of inflows decreased by 2.06% with the United Kingdom also reporting a marginal decrease. On the other hand, Jamaica reported an increase of 1.81% in their share of inflows, and Canada showed a marginal increase (Chart 2).
B34: Active Remittance Service Providers | C34: 3 | D34: 3 | E34: 3
B38: Contact Information
B39: Phone: 345-244-1606
B41: Website: www.cima.ky
B43: Email: ContactBanking@cima.ky | H43: Did You Know?
B44: Prepared by: Financial Stability and Statistics Division | H44: The Cayman Islands Remittance Reports do not include remittances by commercial retail banks.
B47: Updated: March 2023
A51: Cayman's Islands Remittances US$ - Actual Amounts
B56: Period | H56: Total Outflows | L56: Total Inflows | O56: Net Remittances
B57: 2017 Q1 | H57: 51063541 | L57: 1686177 | O57: =L57-H57 -> -49377364
B58: 2017 Q2 | H58: 53560617 | L58: 1888627 | O58: =L58-H58 -> -51671990
B59: 2017 Q3 | H59: 54917641 | L59: 2090949.8 | O59: =L59-H59 -> -52826691
B60: 2017 Q4 | H60: 58181911 | L60: 2102330 | O60: =L60-H60 -> -56079581
B61: Total 2017 | H61: 199340814 | K61: =SUM(L57:M60) -> 7768083.8 | O61: =SUM(O57:P60) -> -2.0995563e+08
B63: Period | H63: Total Outflows | L63: Total Inflows | O63: Net Remittances
B64: 2018 Q1 | H64: 55760931 | L64: 1849902.7 | O64: =L64-H64 -> -53911029
B65: 2018 Q2 | H65: 58872612 | L65: 2032796.4 | O65: =L65-H65 -> -56839816
B66: 2018 Q3 | H66: 58958566 | L66: 2058064 | O66: =L66-H66 -> -56900502
B67: 2018 Q4 | H67: 61240575 | L67: 2103778 | O67: =L67-H67 -> -59136797
B68: Total 2018 | H68: =SUM(H64:I67) -> 2.3483268e+08 | K68: =SUM(K64:M67) -> 8044541.1 | O68: =L68-H68 -> -2.3483268e+08
...

Sheet Calculations
A1: =((Bulletin!M8-Bulletin!K8)/Bulletin!K8)*100% -> 0.090740517 | B1: =(A1*-1) -> -0.090740517 | D1: Outflow D %
A3: =Bulletin!M8-Bulletin!K8 -> 6838919 | D3: Outflow D amount
A6: =((Bulletin!M7-Bulletin!K7)/Bulletin!K7)*100% -> -0.0092609394 | B6: =(A6*-1) -> 0.0092609394 | D6: Inflow D %
A8: =Bulletin!M7-Bulletin!K7 -> -24775.159 | D8: Inflow D amount
A11: =((Bulletin!M10-Bulletin!K10)/Bulletin!K10)*100% -> 0.094420767 | D11: Net D %
B14: Chart 1: Share of Remittance Outflows to Source Countries 2022Q4
A15: JA | B15: ='Tri-Year Comparison'!D36 -> 0.61028959
A16: PH | B16: ='Tri-Year Comparison'!D38 -> 0.15954287
A17: HN | B17: ='Tri-Year Comparison'!D37 -> 0.068606779
A18: US | B18: ='Tri-Year Comparison'!D46 -> 0.042556458
A19: Other | B19: =SUM('Tri-Year Comparison'!D39:D45,'Tri-Year Comparison'!D47:D59) -> 0.1190043
B20: =SUM(B15:B19) -> 1
D21: 2018Q1 | E21: 2018Q2 | F21: 2018Q3 | G21: 2018Q4 | H21: 2019Q1 | I21: 2019Q2 | J21: 2019Q3 | K21: 2019Q4 | L21: 2020Q1 | M21: 2020Q2 | N21: 2020Q3 | O21: 2020Q4 | P21: 2021Q1 | Q21: 2021Q2 | R21: 2021Q3 | S21: 2021Q4 | T21: 2022Q1 | U21: 2022Q2 | V21: 2022Q3 | W21: 2022Q4
A22: =SUM(B15:B18) -> 0.8809957 | C22: JA | D22: =OUTFLOWS!M36-OUTFLOWS!K36 -> -0.029927741 | E22: =OUTFLOWS!N36-OUTFLOWS!M36 -> 0.0077999224 | F22: =OUTFLOWS!O36-OUTFLOWS!N36 -> 0.0091108297 | G22: =OUTFLOWS!P36-OUTFLOWS!O36 -> -0.027447118 | H22: =OUTFLOWS!R36-OUTFLOWS!P36 -> 0.0092366799 | I22: =OUTFLOWS!S36-OUTFLOWS!R36 -> 0.0039458782 | J22: =OUTFLOWS!T36-OUTFLOWS!S36 -> 0.0043212738 | K22: =OUTFLOWS!U36-OUTFLOWS!T36 -> 0.013578661 | L22: =OUTFLOWS!W36-OUTFLOWS!U36 -> -0.019805412 | M22: =OUTFLOWS!X36-OUTFLOWS!W36 -> 0.066703556 | N22: =OUTFLOWS!Y36-OUTFLOWS!X36 -> -0.0023841925 | O22: =OUTFLOWS!Z36-OUTFLOWS!Y36 -> -0.033615196 | P22: =OUTFLOWS!AB36-OUTFLOWS!Z36 -> -0.0049714396 | Q22: =OUTFLOWS!AC36-OUTFLOWS!AB36 -> 0.00036454226 | R22: =OUTFLOWS!AD36-OUTFLOWS!AC36 -> -0.0073350589 | S22: =OUTFLOWS!AE36-OUTFLOWS!AD36 -> 0.020196064 | T22: =OUTFLOWS!AG36-OUTFLOWS!AE36 -> -0.0065399046 | U22: =OUTFLOWS!AH36-OUTFLOWS!AG36 -> 0.003610813 | V22: =OUTFLOWS!AI36-OUTFLOWS!AH36 -> -0.078032686 | W22: =OUTFLOWS!AJ36-OUTFLOWS!AI36 -> 0.087599703
A23: =100%-A22 -> 0.1190043 | C23: PH | D23: =OUTFLOWS!M38-OUTFLOWS!K38 -> 0.017951798 | E23: =OUTFLOWS!N38-OUTFLOWS!M38 -> -0.0046142571 | F23: =OUTFLOWS!O38-OUTFLOWS!N38 -> -0.0045740989 | G23: =OUTFLOWS!P38-OUTFLOWS!O38 -> 0.012324806 | H23: =OUTFLOWS!R38-OUTFLOWS!P38 -> 0.00013650503 | I23: =OUTFLOWS!S38-OUTFLOWS!R38 -> 0.00040607795 | J23: =OUTFLOWS!T38-OUTFLOWS!S38 -> -0.00047635472 | K23: =OUTFLOWS!U38-OUTFLOWS!T38 -> -0.0054170748 | L23: =OUTFLOWS!W38-OUTFLOWS!U38 -> 0.016301455 | M23: =OUTFLOWS!X38-OUTFLOWS!W38 -> -0.027039253 | N23: =OUTFLOWS!Y38-OUTFLOWS!X38 -> -0.0070933655 | O23: =OUTFLOWS!Z38-OUTFLOWS!Y38 -> 0.0085933067 | P23: =OUTFLOWS!AB38-OUTFLOWS!Z38 -> -0.0071495065 | Q23: =OUTFLOWS!AC38-OUTFLOWS!AB38 -> 0.019343593 | R23: =OUTFLOWS!AD38-OUTFLOWS!AC38 -> 0.00043354089 | S23: =OUTFLOWS!AE38-OUTFLOWS!AD38 -> -0.010340891 | T23: =OUTFLOWS!AG38-OUTFLOWS!AE38 -> 0.0097818371 | U23: =OUTFLOWS!AH37-OUTFLOWS!AG37 -> 0.0023361088 | V23: =OUTFLOWS!AI37-OUTFLOWS!AH37 -> 0.0076404372 | W23: =OUTFLOWS!AJ37-OUTFLOWS!AI37 -> -0.0118256
C24: HN | D24: =OUTFLOWS!M37-OUTFLOWS!K37 -> 0.0019268368 | E24: =OUTFLOWS!N37-OUTFLOWS!M37 -> 0.00092155439 | F24: =OUTFLOWS!O37-OUTFLOWS!N37 -> 0.00025598504 | G24: =OUTFLOWS!P37-OUTFLOWS!O37 -> 0.00039419845 | H24: =OUTFLOWS!R37-OUTFLOWS!P37 -> -0.0034934256 | I24: =OUTFLOWS!S37-OUTFLOWS!R37 -> -0.00077983043 | J24: =OUTFLOWS!T37-OUTFLOWS!S37 -> 0.0014846432 | K24: =OUTFLOWS!U37-OUTFLOWS!T37 -> -0.0025194596 | L24: =OUTFLOWS!W37-OUTFLOWS!U37 -> -1.5095509e-05 | M24: =OUTFLOWS!X37-OUTFLOWS!W37 -> -0.0031526835 | N24: =OUTFLOWS!Y37-OUTFLOWS!X37 -> 0.0022526212 | O24: =OUTFLOWS!Z37-OUTFLOWS!Y37 -> 0.0046273266 | P24: =OUTFLOWS!AB37-OUTFLOWS!Z37 -> -0.011475998 | Q24: =OUTFLOWS!AC37-OUTFLOWS!AB37 -> 0.017345171 | R24: =OUTFLOWS!AD37-OUTFLOWS!AC37 -> 0.00038813355 | S24: =OUTFLOWS!AE37-OUTFLOWS!AD37 -> -0.0053527151 | T24: =OUTFLOWS!AG37-OUTFLOWS!AE37 -> -0.0019815629 | U24: =OUTFLOWS!AH38-OUTFLOWS!AG38 -> -0.0059533297 | V24: =OUTFLOWS!AI38-OUTFLOWS!AH38 -> 0.036771525 | W24: =OUTFLOWS!AJ38-OUTFLOWS!AI38 -> -0.041629538
C25: US | D25: =OUTFLOWS!M46-OUTFLOWS!K46 -> -0.0042773252 | E25: =OUTFLOWS!N46-OUTFLOWS!M46 -> 0.0010750189 | F25: =OUTFLOWS!O46-OUTFLOWS!N46 -> 0.0029375529 | G25: =OUTFLOWS!P46-OUTFLOWS!O46 -> 0.00090468845 | H25: =OUTFLOWS!R46-OUTFLOWS!P46 -> -0.0076074636 | I25: =OUTFLOWS!S46-OUTFLOWS!R46 -> 0.0011181467 | J25: =OUTFLOWS!T46-OUTFLOWS!S46 -> 0.0061437358 | K25: =OUTFLOWS!U46-OUTFLOWS!T46 -> -0.004680927 | L25: =OUTFLOWS!W46-OUTFLOWS!U46 -> -0.0062615444 | M25: =OUTFLOWS!X46-OUTFLOWS!W46 -> -0.0090881201 | N25: =OUTFLOWS!Y46-OUTFLOWS!X46 -> 0.0054073253 | O25: =OUTFLOWS!Z46-OUTFLOWS!Y46 -> 0.0097264697 | P25: =OUTFLOWS!AB46-OUTFLOWS!Z46 -> -0.0077873666 | Q25: =OUTFLOWS!AC46-OUTFLOWS!AB46 -> 0.0017487168 | R25: =OUTFLOWS!AD46-OUTFLOWS!AC46 -> 0.0036158109 | S25: =OUTFLOWS!AE46-OUTFLOWS!AD46 -> -0.0002042958 | T25: =OUTFLOWS!AG46-OUTFLOWS!AE46 -> -0.0052046079 | U25: =OUTFLOWS!AH39-OUTFLOWS!AG39 -> -0.00062219966 | V25: =OUTFLOWS!AI39-OUTFLOWS!AH39 -> 0.0030146759 | W25: =OUTFLOWS!AJ39-OUTFLOWS!AI39 -> -0.0036151745
A26: =SUM(B29:B32) -> 0.82090934
A27: =100%-A26 -> 0.17909066
B28: Chart 2: Share of Remittance Inflows from Source Countries 2022Q4 | L28: 2020Q1 | M28: 2020Q2 | N28: 2020Q3 | O28: 2020Q4 | P28: 2021Q1 | Q28: 2021Q2 | R28: 2021Q3 | S28: 2021Q4 | T28: 2022Q1 | U28: 2022Q2 | V28: 2022Q3 | W28: 2022Q4
A29: JA | B29: ='Tri-Year Comparison'!N36 -> 0.1603822 | L29: =INFLOWS!W32-INFLOWS!U32 -> -281506.44 | M29: =INFLOWS!X32-INFLOWS!W32 -> -542482.7 | N29: =INFLOWS!Y32-INFLOWS!X32 -> 479757.9 | O29: =INFLOWS!Z32-INFLOWS!Y32 -> 174410.15 | P29: =INFLOWS!AB32-INFLOWS!Z32 -> 165833.8 | Q29: =INFLOWS!AC32-INFLOWS!AB32 -> 220945.39 | R29: =INFLOWS!AD32-INFLOWS!AC32 -> 257603.7 | S29: =INFLOWS!AE32-INFLOWS!AD32 -> 202522.08 | T29: =INFLOWS!AG32-INFLOWS!AE32 -> -340061.19 | U29: =INFLOWS!AH32-INFLOWS!AG32 -> 46554.32 | V29: =INFLOWS!AI32-INFLOWS!AH32 -> 223462.2 | W29: =INFLOWS!AJ32-INFLOWS!AI32 -> 45269.511
A30: UK | B30: ='Tri-Year Comparison'!N45 -> 0.054910612
A31: US | B31: ='Tri-Year Comparison'!N46 -> 0.5507998
A32: CA | B32: ='Tri-Year Comparison'!N47 -> 0.054816727
A33: Other | B33: =SUM('Tri-Year Comparison'!N37:N44,'Tri-Year Comparison'!N48:N59) -> 0.17909066
B34: =SUM(B29:B33) -> 1
D35: 2018Q1 | E35: 2018Q2 | F35: 2018Q3 | G35: 2018Q4 | H35: 2019Q1 | I35: 2019Q2 | J35: 2019Q3 | K35: 2019Q4 | L35: 2020Q1 | M35: 2020Q2 | N35: 2020Q3 | O35: 2020Q4 | P35: 2021Q1 | Q35: 2021Q2 | R35: 2021Q3 | S35: 2021Q4 | T35: 2022Q1 | U35: 2022Q2 | V35: 2022Q3 | W35: 2022Q4
A36: JA | B36: ='Tri-Year Comparison'!N36 -> 0.1603822 | C36: JA | D36: =INFLOWS!M36-INFLOWS!K36 -> 0.009325361 | E36: =INFLOWS!N36-INFLOWS!M36 -> 0.0087316848 | F36: =INFLOWS!O36-INFLOWS!N36 -> -0.019634282 | G36: =INFLOWS!P36-INFLOWS!O36 -> 0.015138087 | H36: =INFLOWS!R36-INFLOWS!P36 -> 0.016147352 | I36: =INFLOWS!S36-INFLOWS!R36 -> -0.035261694 | J36: =INFLOWS!T36-INFLOWS!S36 -> 0.0072666941 | K36: =INFLOWS!U36-INFLOWS!T36 -> -0.032498493 | L36: =INFLOWS!W36-INFLOWS!U36 -> 0.0095074178 | M36: =INFLOWS!X36-INFLOWS!W36 -> -0.023124526 | N36: =INFLOWS!Y36-INFLOWS!X36 -> 0.023448844 | O36: =INFLOWS!Z36-INFLOWS!Y36 -> -0.013223272 | P36: =INFLOWS!AB36-INFLOWS!Z36 -> 0.013066508 | Q36: =INFLOWS!AC36-INFLOWS!AB36 -> 0.020336479 | R36: =INFLOWS!AD36-INFLOWS!AC36 -> 0.0082280706 | S36: =INFLOWS!AE36-INFLOWS!AD36 -> 0.00054582183 | T36: =INFLOWS!AG36-INFLOWS!AE36 -> 0.011340423 | U36: =INFLOWS!AH36-INFLOWS!AG36 -> 0.0084181078 | V36: =INFLOWS!AI36-INFLOWS!AH36 -> -0.0040377887 | W36: =INFLOWS!AJ36-INFLOWS!AI36 -> 0.018097526
A37: UK | B37: ='Tri-Year Comparison'!N45 -> 0.054910612 | C37: UK | D37: =INFLOWS!M45-INFLOWS!K45 -> -0.023593826 | E37: =INFLOWS!N45-INFLOWS!M45 -> 0.0079309356 | F37: =INFLOWS!O45-INFLOWS!N45 -> 0.0068262127 | G37: =INFLOWS!P45-INFLOWS!O45 -> 0.0060934875 | H37: =INFLOWS!R45-INFLOWS!P45 -> -0.015434066 | I37: =INFLOWS!S45-INFLOWS!R45 -> 0.00056873492 | J37: =INFLOWS!T45-INFLOWS!S45 -> -0.0036704348 | K37: =INFLOWS!U45-INFLOWS!T45 -> -0.0002646185 | L37: =INFLOWS!W45-INFLOWS!U45 -> -0.0032538515 | M37: =INFLOWS!X45-INFLOWS!W45 -> 0.019225674 | N37: =INFLOWS!Y45-INFLOWS!X45 -> -0.0095794144 | O37: =INFLOWS!Z45-INFLOWS!Y45 -> 0.054006864 | P37: =INFLOWS!AB45-INFLOWS!Z45 -> -0.038112534 | Q37: =INFLOWS!AC45-INFLOWS!AB45 -> -0.019402207 | R37: =INFLOWS!AD45-INFLOWS!AC45 -> 0.042125366 | S37: =INFLOWS!AE45-INFLOWS!AD45 -> -0.032246297 | T37: =INFLOWS!AG45-INFLOWS!AE45 -> 0.012256081 | U37: =INFLOWS!AH45-INFLOWS!AG45 -> -0.0067559325 | V37: =INFLOWS!AI45-INFLOWS!AH45 -> -0.0111362 | W37: =INFLOWS!AJ45-INFLOWS!AI45 -> -0.005737815
A38: US | B38: ='Tri-Year Comparison'!N46 -> 0.5507998 | C38: US | D38: =INFLOWS!M46-INFLOWS!K46 -> -0.01594723 | E38: =INFLOWS!N46-INFLOWS!M46 -> 0.030638337 | F38: =INFLOWS!O46-INFLOWS!N46 -> -0.0076635707 | G38: =INFLOWS!P46-INFLOWS!O46 -> -0.016906005 | H38: =INFLOWS!R46-INFLOWS!P46 -> -0.00039921283 | I38: =INFLOWS!S46-INFLOWS!R46 -> -0.0044564943 | J38: =INFLOWS!T46-INFLOWS!S46 -> -0.021446884 | K38: =INFLOWS!U46-INFLOWS!T46 -> 0.013896308 | L38: =INFLOWS!W46-INFLOWS!U46 -> -0.0056518604 | M38: =INFLOWS!X46-INFLOWS!W46 -> 0.14621996 | N38: =INFLOWS!Y46-INFLOWS!X46 -> -0.062687934 | O38: =INFLOWS!Z46-INFLOWS!Y46 -> 0.0056456701 | P38: =INFLOWS!AB46-INFLOWS!Z46 -> 0.021423832 | Q38: =INFLOWS!AC46-INFLOWS!AB46 -> -0.015502023 | R38: =INFLOWS!AD46-INFLOWS!AC46 -> -0.03934367 | S38: =INFLOWS!AE46-INFLOWS!AD46 -> 0.021030643 | T38: =INFLOWS!AG46-INFLOWS!AE46 -> -0.083749729 | U38: =INFLOWS!AH46-INFLOWS!AG46 -> 0.096342658 | V38: =INFLOWS!AI46-INFLOWS!AH46 -> 0.023441452 | W38: =INFLOWS!AJ46-INFLOWS!AI46 -> -0.020555656
A39: CA | B39: ='Tri-Year Comparison'!N47 -> 0.054816727 | C39: CA | D39: =INFLOWS!M47-INFLOWS!K47 -> -0.0025697971 | E39: =INFLOWS!N47-INFLOWS!M47 -> 0.003688122 | F39: =INFLOWS!O47-INFLOWS!N47 -> 0.017647524 | G39: =INFLOWS!P47-INFLOWS!O47 -> -0.014293912 | H39: =INFLOWS!R47-INFLOWS!P47 -> 0.0030402446 | I39: =INFLOWS!S47-INFLOWS!R47 -> 0.0048046746 | J39: =INFLOWS!T47-INFLOWS!S47 -> -0.0031647152 | K39: =INFLOWS!U47-INFLOWS!T47 -> -0.0067427025 | L39: =INFLOWS!W47-INFLOWS!U47 -> 0.0063625764 | M39: =INFLOWS!X47-INFLOWS!W47 -> 0.0039680548 | N39: =INFLOWS!Y47-INFLOWS!X47 -> -0.0097223684 | O39: =INFLOWS!Z47-INFLOWS!Y47 -> 0.0080393756 | P39: =INFLOWS!AB47-INFLOWS!Z47 -> 0.015745777 | Q39: =INFLOWS!AC47-INFLOWS!AB47 -> -0.025284447 | R39: =INFLOWS!AD47-INFLOWS!AC47 -> 0.0069897194 | S39: =INFLOWS!AE47-INFLOWS!AD47 -> -0.0052010248 | T39: =INFLOWS!AG47-INFLOWS!AE47 -> 0.011804982 | U39: =INFLOWS!AH47-INFLOWS!AG47 -> -0.011001472 | V39: =INFLOWS!AI47-INFLOWS!AH47 -> -0.010087446 | W39: =INFLOWS!AJ47-INFLOWS!AI47 -> 0.0062784048
A46: Did You Know? Alt
A47: The Cayman Islands Remittance Reports do not include remittances by commercial retail banks.

Sheet OUTFLOWS
B2: CAYMAN ISLANDS REMITTANCE REPORT - MONEY SERVICE PROVIDERS (REMITTANCE COMPANIES)
B3: (Workers' remittances transmitted by the remittance companies licensed as Money Service Providers)
B6: REMITTANCE OUTFLOWS BY COUNTRY (US$ - Actual Amounts)
B7: COUNTRY | C7: Year 2012 | D7: Year 2013 | E7: Year 2014* | F7: Year 2015 | G7: Year 2016 | H7: 2017Q1 | I7: 2017Q2 | J7: 2017Q3 | K7: 2017Q4 | L7: Year 2017 | M7: 2018Q1 | N7: 2018Q2 | O7: 2018Q3 | P7: 2018Q4 | Q7: Year 2018 | R7: 2019Q1 | S7: 2019Q2 | T7: 2019Q3 | U7: 2019Q4 | V7: Year 2019 | W7: 2020Q1 | X7: 2020Q2 | Y7: 2020Q3 | Z7: 2020Q4 | AA7: Year 2020 | AB7: 2021Q1 | AC7: 2021Q2 | AD7: 2021Q3 | AE7: 2021Q4 | AF7: Year 2021 | AG7: 2022Q1 | AH7: 2022Q2 | AI7: 2022Q3 | AJ7: 2022Q4 | AK7: Year 2022 | AL7: Diff 22Q4/22Q3 | AM7: Diff 22Q4/22Q3
B8: JAMAICA | C8: 1.155401e+08 | D8: 111335609 | E8: 1.1043333e+08 | F8: 101580069 | G8: 1.1893607e+08 | H8: 29724607 | I8: 31176252 | J8: 32443671 | K8: 34553097 | L8: =SUM(H8:K8) -> 1.2789763e+08 | M8: 31446526 | N8: 33660569 | O8: 34246875 | P8: 33891533 | Q8: =SUM(M8:P8) -> 1.332455e+08 | R8: 35060263 | S8: 36574288 | T8: 36896832 | U8: 42358664 | V8: =SUM(R8:U8) -> 1.5089005e+08 | W8: 35907618 | X8: 23958660 | Y8: 54105485 | Z8: 44128445 | AA8: =SUM(W8:Z8) -> 1.5810021e+08 | AB8: 39935573 | AC8: 40277066 | AD8: 39076481 | AE8: 45495936 | AF8: =SUM(AB8:AE8) -> 1.6478506e+08 | AG8: 41171087 | AH8: 45551718 | AI8: 32988537 | AJ8: 50169944 | AK8: =SUM(AG8:AJ8) -> 1.6988129e+08 | AL8: =AJ8-AI8 -> 17181406 | AM8: =AL8/AI8 -> 0.52082959
B9: HONDURAS | C9: 11732907 | D9: 11274557 | E9: 12503598 | F9: 12766569 | G9: 14164776 | H9: 3777657 | I9: 3855303 | J9: 3862458.6 | K9: 4051214.2 | L9: =SUM(H9:K9) -> 15546633 | M9: 3990083.3 | N9: 4267000.1 | O9: 4288322.4 | P9: 4478444.2 | Q9: =SUM(M9:P9) -> 17023850 | R9: 4339142.2 | S9: 4444659.7 | T9: 4545866.4 | U9: 4914965.7 | V9: =SUM(R9:U9) -> 18244634 | W9: 4311606.1 | X9: 2453283.6 | Y9: 5754976 | Z9: 5301720.5 | AA9: =SUM(W9:Z9) -> 17821586 | AB9: 4062156 | AC9: 5276868.4 | AD9: 5209931.6 | AE9: 5459451.8 | AF9: =SUM(AB9:AE9) -> 20008408 | AG9: 4857956.9 | AH9: 5519682.7 | AI9: 5076330.4 | AJ9: 5639942.6 | AK9: =SUM(AG9:AJ9) -> 21093913 | AL9: =AJ9-AI9 -> 563612.22 | AM9: =AL9/AI9 -> 0.11102749
B10: PHILIPPINES | C10: 21213753 | D10: 21059125 | E10: 23703964 | F10: 24411490 | G10: 29699447 | H10: 7845029 | I10: 8211099.7 | J10: 8219509.8 | K10: 8831205.3 | L10: =SUM(H10:K10) -> 33106844 | M10: 9464743.2 | N10: 9721260 | O10: 9465770.7 | P10: 10586924 | Q10: =SUM(M10:P10) -> 39238699 | R10: 10780723 | S10: 11194164 | T10: 11176623 | U10: 12140439 | V10: =SUM(R10:U10) -> 45291949 | W10: 11689027 | X10: 5949308.6 | Y10: 12876013 | Z10: 11731488 | AA10: =SUM(W10:Z10) -> 42245837 | AB10: 10222631 | AC10: 11622430 | AD10: 11446782 | AE10: 12101997 | AF10: =SUM(AB10:AE10) -> 45393841 | AG10: 11745989 | AH10: 12466225 | AI10: 12696599 | AJ10: 13115506 | AK10: =SUM(AG10:AJ10) -> 50024319 | AL10: =AJ10-AI10 -> 418907.92 | AM10: =AL10/AI10 -> 0.032993712
B11: DOMINICAN REPUBLIC | C11: 2912093.7 | D11: 3059811 | E11: 3411920.4 | F11: 2950035 | G11: 3948921.8 | H11: 1135092 | I11: 1249314.4 | J11: 1192289.8 | K11: 1189061.7 | L11: =SUM(H11:K11) -> 4765757.9 | M11: 1276520.1 | N11: 1307773 | O11: 1181727.4 | P11: 1307489.7 | Q11: =SUM(M11:P11) -> 5073510.2 | R11: 1259463.3 | S11: 1322303.7 | T11: 1332610.7 | U11: 1425061.4 | V11: =SUM(R11:U11) -> 5339439 | W11: 1198150.9 | X11: 569853.53 | Y11: 1501817.7 | Z11: 1426159.4 | AA11: =SUM(W11:Z11) -> 4695981.5 | AB11: 1281766.4 | AC11: 1332396.7 | AD11: 1385989 | AE11: 1438534 | AF11: =SUM(AB11:AE11) -> 5438686.1 | AG11: 1462971.1 | AH11: 1561722.7 | AI11: 1490111.8 | AJ11: 1643727.7 | AK11: =SUM(AG11:AJ11) -> 6158533.2 | AL11: =AJ11-AI11 -> 153615.92 | AM11: =AL11/AI11 -> 0.1030902
B12: NICARAGUA | C12: 2974568 | D12: 2963679 | E12: 2721282.6 | F12: 3488355 | G12: 3668711.1 | H12: 919834 | I12: 958104.52 | J12: 971692.71 | K12: 1007121.9 | L12: =SUM(H12:K12) -> 3856753.1 | M12: 1028677.6 | N12: 1106916.1 | O12: 1079440.4 | P12: 1172180.8 | Q12: =SUM(M12:P12) -> 4387214.9 | R12: 1259285.4 | S12: 1384629.9 | T12: 1256935.6 | U12: 1436912 | V12: =SUM(R12:U12) -> 5337763 | W12: 1410657.2 | X12: 865340.54 | Y12: 1902558.9 | Z12: 1843939.6 | AA12: =SUM(W12:Z12) -> 6022496.2 | AB12: 1609997.7 | AC12: 1544048.4 | AD12: 1555499.9 | AE12: 1721893.6 | AF12: =SUM(AB12:AE12) -> 6431439.6 | AG12: 1749933.3 | AH12: 1948344 | AI12: 1941916.3 | AJ12: 2032665.8 | AK12: =SUM(AG12:AJ12) -> 7672859.4 | AL12: =AJ12-AI12 -> 90749.523 | AM12: =AL12/AI12 -> 0.046731943
B13: COLOMBIA | C13: 3164000.6 | D13: 2810097 | E13: 2285949.9 | F13: 2168136 | G13: 2499760.4 | H13: 656551 | I13: 795588.08 | J13: 607416.94 | K13: 757057.2 | L13: =SUM(H13:K13) -> 2816613.2 | M13: 750800.77 | N13: 688426.86 | O13: 656999.11 | P13: 932152.64 | Q13: =SUM(M13:P13) -> 3028379.4 | R13: 897817.72 | S13: 761700.73 | T13: 693053.12 | U13: 770120.56 | V13: =SUM(R13:U13) -> 3122692.1 | W13: 819874.83 | X13: 436609.79 | Y13: 919352.39 | Z13: 925342.66 | AA13: =SUM(W13:Z13) -> 3101179.7 | AB13: 718740.19 | AC13: 718917.61 | AD13: 707831.23 | AE13: 751331.18 | AF13: =SUM(AB13:AE13) -> 2896820.2 | AG13: 712937.46 | AH13: 721989.14 | AI13: 793048.57 | AJ13: 819075.09 | AK13: =SUM(AG13:AJ13) -> 3047050.3 | AL13: =AJ13-AI13 -> 26026.524 | AM13: =AL13/AI13 -> 0.032818322
B14: GUYANA | C14: 1466033.1 | D14: 1306066 | E14: 1347637 | F14: 1205419 | G14: 1234747.8 | H14: 288754 | I14: 237393.07 | J14: 276619.2 | K14: 320803.47 | L14: =SUM(H14:K14) -> 1123569.7 | M14: 294381.65 | N14: 288666.87 | O14: 280579.91 | P14: 368274.04 | Q14: =SUM(M14:P14) -> 1231902.5 | R14: 323225.52 | S14: 317327.75 | T14: 298762.14 | U14: 451993.13 | V14: =SUM(R14:U14) -> 1391308.5 | W14: 411619.51 | X14: 302152.35 | Y14: 690887.69 | Z14: 610326.97 | AA14: =SUM(W14:Z14) -> 2014986.5 | AB14: 456244.95 | AC14: 500166.16 | AD14: 411797.87 | AE14: 568144.74 | AF14: =SUM(AB14:AE14) -> 1936353.7 | AG14: 527185.05 | AH14: 526287.67 | AI14: 407274.77 | AJ14: 506928.36 | AK14: =SUM(AG14:AJ14) -> 1967675.8 | AL14: =AJ14-AI14 -> 99653.587 | AM14: =AL14/AI14 -> 0.24468392
B15: TRINIDAD & TOBAGO | C15: 403418.61 | D15: 337061 | E15: 409522.26 | F15: 360343 | G15: 343443.55 | H15: 99967 | I15: 98713.49 | J15: 100148.69 | K15: 122665.11 | L15: =SUM(H15:K15) -> 421494.29 | M15: 80157.76 | N15: 76564.25 | O15: 75178.7 | P15: 66126.42 | Q15: =SUM(M15:P15) -> 298027.13 | R15: 59121.79 | S15: 74276.82 | T15: 51759.27 | U15: 74972.737 | V15: =SUM(R15:U15) -> 260130.62 | W15: 62736.61 | X15: 53080.64 | Y15: 91055.96 | Z15: 130994.29 | AA15: =SUM(W15:Z15) -> 337867.5 | AB15: 81989.82 | AC15: 95098.29 | AD15: 110792.83 | AE15: 95832.65 | AF15: =SUM(AB15:AE15) -> 383713.59 | AG15: 87444.62 | AH15: 109767.14 | AI15: 83652.363 | AJ15: 110145.35 | AK15: =SUM(AG15:AJ15) -> 391009.48 | AL15: =AJ15-AI15 -> 26492.991 | AM15: =AL15/AI15 -> 0.31670345
B16: INDIA | C16: 739411.04 | D16: 667954 | E16: 844199.04 | F16: 781922 | G16: 833414.41 | H16: 244545 | I16: 286253.99 | J16: 266803.7 | K16: 287515.1 | L16: =SUM(H16:K16) -> 1085117.8 | M16: 379233.29 | N16: 399724.38 | O16: 387874.68 | P16: 490389.33 | Q16: =SUM(M16:P16) -> 1657221.7 | R16: 566224.34 | S16: 532795.67 | T16: 493057.13 | U16: 570894.15 | V16: =SUM(R16:U16) -> 2162971.3 | W16: 501955.96 | X16: 235677.48 | Y16: 455015.28 | Z16: 437880.38 | AA16: =SUM(W16:Z16) -> 1630529.1 | AB16: 421013.73 | AC16: 320380.85 | AD16: 381765.18 | AE16: 382562.68 | AF16: =SUM(AB16:AE16) -> 1505722.4 | AG16: 412784.18 | AH16: 470616.12 | AI16: 425789.22 | AJ16: 419157.46 | AK16: =SUM(AG16:AJ16) -> 1728347 | AL16: =AJ16-AI16 -> -6631.7605 | AM16: =AL16/AI16 -> -0.015575219
B17: UNITED KINGDOM | C17: 686082.54 | D17: 691647 | E17: 885329.29 | F17: 817952 | G17: 884970.52 | H17: 260994 | I17: 294164.45 | J17: 257197.2 | K17: 274841.03 | L17: =SUM(H17:K17) -> 1087196.7 | M17: 223934.63 | N17: 278807.98 | O17: 286620.13 | P17: 292405.32 | Q17: =SUM(M17:P17) -> 1081768.1 | R17: 266124.47 | S17: 278727.09 | T17: 222183.48 | U17: 290948.45 | V17: =SUM(R17:U17) -> 1057983.5 | W17: 260884.54 | X17: 86746.54 | Y17: 246947.66 | Z17: 256283.77 | AA17: =SUM(W17:Z17) -> 850862.51 | AB17: 207028.42 | AC17: 253559.98 | AD17: 255151.97 | AE17: 249933.96 | AF17: =SUM(AB17:AE17) -> 965674.33 | AG17: 220390.46 | AH17: 286818.85 | AI17: 250097.78 | AJ17: 241357.81 | AK17: =SUM(AG17:AJ17) -> 998664.9 | AL17: =AJ17-AI17 -> -8739.9634 | AM17: =AL17/AI17 -> -0.034946186
B18: UNITED STATES | C18: 8611740.1 | D18: 8963575 | E18: 12267595 | F18: 9116535 | G18: 11086480 | H18: 2700211 | I18: 2878932.8 | J18: 3144374.5 | K18: 3106596.1 | L18: =SUM(H18:K18) -> 11830114 | M18: 2738821.4 | N18: 2954947.6 | O18: 3132455.7 | P18: 3309102 | Q18: =SUM(M18:P18) -> 12135327 | R18: 2892978.6 | S18: 3069067.4 | T18: 3469749.5 | U18: 3551610 | V18: =SUM(R18:U18) -> 12983406 | W18: 2718151.2 | X18: 1277180.2 | Y18: 3360288.7 | Z18: 3616271.4 | AA18: =SUM(W18:Z18) -> 10971892 | AB18: 2773500.6 | AC18: 2914709.6 | AD18: 3105544.4 | AE18: 3479354.2 | AF18: =SUM(AB18:AE18) -> 12273109 | AG18: 2824232 | AH18: 3175798.6 | AI18: 3308951.6 | AJ18: 3498429.5 | AK18: =SUM(AG18:AJ18) -> 12807412 | AL18: =AJ18-AI18 -> 189477.87 | AM18: =AL18/AI18 -> 0.057262207
B19: CANADA | C19: n/a | D19: 781327 | E19: 1001198.1 | F19: 898383 | G19: 1323991.7 | H19: 335545 | I19: 349210.28 | J19: 368021.92 | K19: 386750.14 | L19: =SUM(H19:K19) -> 1439527.3 | M19: 361493.3 | N19: 339838.41 | O19: 368049.84 | P19: 394715.47 | Q19: =SUM(M19:P19) -> 1464097 | R19: 368450.07 | S19: 396262.68 | T19: 396773.31 | U19: 436583.37 | V19: =SUM(R19:U19) -> 1598069.4 | W19: 426606.49 | X19: 138040.91 | Y19: 366314.76 | Z19: 420152.27 | AA19: =SUM(W19:Z19) -> 1351114.4 | AB19: 357406.35 | AC19: 341803.38 | AD19: 368274.26 | AE19: 446250.74 | AF19: =SUM(AB19:AE19) -> 1513734.7 | AG19: 396848.09 | AH19: 427601.9 | AI19: 417259.1 | AJ19: 473720.76 | AK19: =SUM(AG19:AJ19) -> 1715429.8 | AL19: =AJ19-AI19 -> 56461.66 | AM19: =AL19/AI19 -> 0.13531559
B20: COSTA RICA | C20: n/a | D20: 764645 | E20: 605744.21 | F20: 439428 | G20: 767536.53 | H20: 238412 | I20: 251137.02 | J20: 205271.41 | K20: 220095.22 | L20: =SUM(H20:K20) -> 914915.65 | M20: 219437.58 | N20: 245959.34 | O20: 271759.03 | P20: 305597.93 | Q20: =SUM(M20:P20) -> 1042753.9 | R20: 286206.58 | S20: 274529.93 | T20: 300519.88 | U20: 314579.15 | V20: =SUM(R20:U20) -> 1175835.5 | W20: 310627.83 | X20: 157609.18 | Y20: 337904.41 | Z20: 304465.75 | AA20: =SUM(W20:Z20) -> 1110607.2 | AB20: 253596.43 | AC20: 206525.34 | AD20: 224096.75 | AE20: 255311.82 | AF20: =SUM(AB20:AE20) -> 939530.34 | AG20: 217313.09 | AH20: 242454.28 | AI20: 240986.49 | AJ20: 275128.02 | AK20: =SUM(AG20:AJ20) -> 975881.88 | AL20: =AJ20-AI20 -> 34141.527 | AM20: =AL20/AI20 -> 0.14167403
B21: BARBADOS | C21: n/a | D21: 259571 | E21: 269967.32 | F21: 195544 | G21: 276592.26 | H21: 67576 | I21: 77490.85 | J21: 63260.06 | K21: 76772.1 | L21: =SUM(H21:K21) -> 285099.01 | M21: 69064.7 | N21: 77137.09 | O21: 66885.84 | P21: 83134.65 | Q21: =SUM(M21:P21) -> 296222.28 | R21: 83730.32 | S21: 92458.52 | T21: 98526.71 | U21: 103158.08 | V21: =SUM(R21:U21) -> 377873.63 | W21: 78719.45 | X21: 42026.67 | Y21: 79495.01 | Z21: 79527.63 | AA21: =SUM(W21:Z21) -> 279768.76 | AB21: 46690.93 | AC21: 75104.02 | AD21: 79841.29 | AE21: 81943.04 | AF21: =SUM(AB21:AE21) -> 283579.28 | AG21: 72177.03 | AH21: 64709.64 | AI21: 90777.132 | AJ21: 82056.55 | AK21: =SUM(AG21:AJ21) -> 309720.35 | AL21: =AJ21-AI21 -> -8720.5829 | AM21: =AL21/AI21 -> -0.096065856
B22: PANAMA | C22: n/a | D22: 321650 | E22: 291115.89 | F22: 209638 | G22: 287736.43 | H22: 60035 | I22: 102765.95 | J22: 76959.41 | K22: 127305.15 | L22: =SUM(H22:K22) -> 367065.51 | M22: 97826.22 | N22: 88654.04 | O22: 75553.85 | P22: 104999.93 | Q22: =SUM(M22:P22) -> 367034.04 | R22: 95861.38 | S22: 91945.47 | T22: 67204.88 | U22: 86587.695 | V22: =SUM(R22:U22) -> 341599.43 | W22: 56897.12 | X22: 33460.23 | Y22: 87101.58 | Z22: 64538.53 | AA22: =SUM(W22:Z22) -> 241997.46 | AB22: 61799.93 | AC22: 65525.17 | AD22: 54694.13 | AE22: 74901.76 | AF22: =SUM(AB22:AE22) -> 256920.99 | AG22: 68203.78 | AH22: 72476.37 | AI22: 87851.639 | AJ22: 75683.364 | AK22: =SUM(AG22:AJ22) -> 304215.15 | AL22: =AJ22-AI22 -> -12168.276 | AM22: =AL22/AI22 -> -0.13850937
B23: BELIZE | C23: n/a | D23: n/a | E23: n/a | F23: n/a | G23: n/a | H23: 102518 | I23: 124966.03 | J23: 136583.83 | K23: 134553.79 | L23: =SUM(H23:K23) -> 498621.65 | M23: 147780.26 | N23: 133917.7 | O23: 107040.85 | P23: 115726.13 | Q23: =SUM(M23:P23) -> 504464.94 | R23: 103587.85 | S23: 112566.6 | T23: 107935.93 | U23: 127733.27 | V23: =SUM(R23:U23) -> 451823.65 | W23: 123093.01 | X23: 69265.85 | Y23: 165730.97 | Z23: 156831.63 | AA23: =SUM(W23:Z23) -> 514921.46 | AB23: 115050.33 | AC23: 142058.87 | AD23: 134389.67 | AE23: 165855.25 | AF23: =SUM(AB23:AE23) -> 557354.12 | AG23: 132540.03 | AH23: 145241.27 | AI23: 145879.73 | AJ23: 173151.58 | AK23: =SUM(AG23:AJ23) -> 596812.62 | AL23: =AJ23-AI23 -> 27271.851 | AM23: =AL23/AI23 -> 0.1869475
B24: CHINA | C24: n/a | D24: n/a | E24: n/a | F24: n/a | G24: n/a | H24: 108885 | I24: 63973.11 | J24: 113323.16 | K24: 107418.65 | L24: =SUM(H24:K24) -> 393599.92 | M24: 72441.05 | N24: 123418.28 | O24: 73611.45 | P24: 87314.03 | Q24: =SUM(M24:P24) -> 356784.81 | R24: 79059.16 | S24: 75081.19 | T24: 65463.98 | U24: 51271.814 | V24: =SUM(R24:U24) -> 270876.14 | W24: 28308.7 | X24: 18222.98 | Y24: 62932.14 | Z24: 75132.12 | AA24: =SUM(W24:Z24) -> 184595.94 | AB24: 85219.65 | AC24: 47666.47 | AD24: 37278.04 | AE24: 46711.96 | AF24: =SUM(AB24:AE24) -> 216876.12 | AG24: 36887.4 | AH24: 24563.97 | AI24: 41219.94 | AJ24: 39682.58 | AK24: =SUM(AG24:AJ24) -> 142353.89 | AL24: =AJ24-AI24 -> -1537.36 | AM24: =AL24/AI24 -> -0.037296512
B25: CUBA | C25: n/a | D25: n/a | E25: n/a | F25: n/a | G25: n/a | H25: 289548 | I25: 340097.2 | J25: 312287.71 | K25: 352776.53 | L25: =SUM(H25:K25) -> 1294709.4 | M25: 409025.66 | N25: 401726.71 | O25: 413174.47 | P25: 472726.13 | Q25: =SUM(M25:P25) -> 1696653 | R25: 527102.36 | S25: 574959.45 | T25: 507692.95 | U25: 382222.12 | V25: =SUM(R25:U25) -> 1991976.9 | W25: 212174.12 | X25: 0 | Y25: 0 | Z25: 0 | AA25: =SUM(W25:Z25) -> 212174.12 | AB25: 0 | AC25: 0 | AD25: 0 | AE25: 0 | AF25: =SUM(AB25:AE25) -> 0 | AG25: 0 | AH25: 0 | AI25: 0 | AJ25: 0 | AK25: =SUM(AG25:AJ25) -> 0 | AL25: =AJ25-AI25 -> 0 | AM25: =AL25/AI25 -> #DIV/0!
B26: KENYA | C26: n/a | D26: n/a | E26: n/a | F26: n/a | G26: n/a | H26: 129979 | I26: 112038.22 | J26: 114309.19 | K26: 107358.01 | L26: =SUM(H26:K26) -> 463684.42 | M26: 125989.32 | N26: 152644.03 | O26: 133557.49 | P26: 122339.15 | Q26: =SUM(M26:P26) -> 534529.99 | R26: 192507.27 | S26: 177866.13 | T26: 147448.17 | U26: 172884.41 | V26: =SUM(R26:U26) -> 690705.98 | W26: 184622.4 | X26: 53636.25 | Y26: 125222.47 | Z26: 103774.7 | AA26: =SUM(W26:Z26) -> 467255.82 | AB26: 126145.91 | AC26: 110337.52 | AD26: 135616.14 | AE26: 153254.3 | AF26: =SUM(AB26:AE26) -> 525353.87 | AG26: 148522.78 | AH26: 175386.11 | AI26: 171974.01 | AJ26: 205916.79 | AK26: =SUM(AG26:AJ26) -> 701799.69 | AL26: =AJ26-AI26 -> 33942.787 | AM26: =AL26/AI26 -> 0.19737161
B27: MEXICO | C27: n/a | D27: n/a | E27: n/a | F27: n/a | G27: n/a | H27: 191433 | I27: 181750.97 | J27: 184839.54 | K27: 201146.34 | L27: =SUM(H27:K27) -> 759169.85 | M27: 186674.25 | N27: 211365.67 | O27: 166394.2 | P27: 231788.25 | Q27: =SUM(M27:P27) -> 796222.37 | R27: 304103.97 | S27: 232541.09 | T27: 167392.33 | U27: 180152.56 | V27: =SUM(R27:U27) -> 884189.95 | W27: 189774.36 | X27: 74388.34 | Y27: 194024.87 | Z27: 183537.31 | AA27: =SUM(W27:Z27) -> 641724.88 | AB27: 183931.92 | AC27: 174530.14 | AD27: 195319.27 | AE27: 223406.78 | AF27: =SUM(AB27:AE27) -> 777188.11 | AG27: 181106.76 | AH27: 184407.05 | AI27: 282742.72 | AJ27: 357101.59 | AK27: =SUM(AG27:AJ27) -> 1005358.1 | AL27: =AJ27-AI27 -> 74358.873 | AM27: =AL27/AI27 -> 0.26299129
B28: NEPAL | C28: n/a | D28: n/a | E28: n/a | F28: n/a | G28: n/a | H28: 191147 | I28: 153818.98 | J28: 146796.08 | K28: 216113.09 | L28: =SUM(H28:K28) -> 707875.15 | M28: 371067.46 | N28: 418973.87 | O28: 417869.6 | P28: 451580.74 | Q28: =SUM(M28:P28) -> 1659491.7 | R28: 515755.76 | S28: 489020.56 | T28: 456349.71 | U28: 442027.57 | V28: =SUM(R28:U28) -> 1903153.6 | W28: 539168.95 | X28: 229696.43 | Y28: 449339.2 | Z28: 378513.68 | AA28: =SUM(W28:Z28) -> 1596718.3 | AB28: 399038.68 | AC28: 396182.42 | AD28: 431076.65 | AE28: 374459.45 | AF28: =SUM(AB28:AE28) -> 1600757.2 | AG28: 382584.44 | AH28: 459687.48 | AI28: 388288.74 | AJ28: 431836.28 | AK28: =SUM(AG28:AJ28) -> 1662396.9 | AL28: =AJ28-AI28 -> 43547.535 | AM28: =AL28/AI28 -> 0.11215245
B29: PERU | C29: n/a | D29: n/a | E29: n/a | F29: n/a | G29: n/a | H29: 101454 | I29: 98018.54 | J29: 78166.01 | K29: 102311.84 | L29: =SUM(H29:K29) -> 379950.39 | M29: 121685.81 | N29: 120243.24 | O29: 141555.63 | P29: 121756.96 | Q29: =SUM(M29:P29) -> 505241.64 | R29: 141786.35 | S29: 27545.89 | T29: 26980.96 | U29: 20023.699 | V29: =SUM(R29:U29) -> 216336.9 | W29: 16786.2 | X29: 8807.09 | Y29: 22920.59 | Z29: 28361.28 | AA29: =SUM(W29:Z29) -> 76875.16 | AB29: 13845.29 | AC29: 9350.87 | AD29: 8500.59 | AE29: 7416.58 | AF29: =SUM(AB29:AE29) -> 39113.33 | AG29: 6975.4 | AH29: 7718.94 | AI29: 154364.54 | AJ29: 167472.61 | AK29: =SUM(AG29:AJ29) -> 336531.49 | AL29: =AJ29-AI29 -> 13108.077 | AM29: =AL29/AI29 -> 0.084916377
B30: ZIMBABWE | C30: n/a | D30: n/a | E30: n/a | F30: n/a | G30: n/a | H30: 68038 | I30: 42700.2 | J30: 44912.46 | K30: 50099.2 | L30: =SUM(H30:K30) -> 205749.86 | M30: 65876.51 | N30: 44743.21 | O30: 48196.6 | P30: 70657.4 | Q30: =SUM(M30:P30) -> 229473.72 | R30: 58651.74 | S30: 242792.63 | T30: 188990.3 | U30: 182364.61 | V30: =SUM(R30:U30) -> 672799.28 | W30: 234613.41 | X30: 64415.41 | Y30: 181900.33 | Z30: 226670.06 | AA30: =SUM(W30:Z30) -> 707599.21 | AB30: 171552.28 | AC30: 189415.02 | AD30: 197523.22 | AE30: 172657.83 | AF30: =SUM(AB30:AE30) -> 731148.35 | AG30: 202949.71 | AH30: 215522.38 | AI30: 136517.68 | AJ30: 177353.55 | AK30: =SUM(AG30:AJ30) -> 732343.32 | AL30: =AJ30-AI30 -> 40835.879 | AM30: =AL30/AI30 -> 0.29912521
B31: OTHER | C31: 9285102.7 | D31: 8038658 | E31: 6928838.1 | F31: 8156047 | G31: 9384210.6 | H31: 1525730 | I31: 1621529.8 | J31: 1730728.6 | K31: 1598032.3 | L31: =SUM(H31:K31) -> 6476020.6 | M31: 1838689.1 | N31: 1763334.6 | O31: 1593073.4 | P31: 1783216.6 | Q31: =SUM(M31:P31) -> 6978313.7 | R31: 1851236.8 | S31: 1809073.3 | T31: 1658246.2 | U31: 1983892.7 | V31: =SUM(R31:U31) -> 7302449 | W31: 1894139.8 | X31: 868016.89 | Y31: 2039230.3 | Z31: 1685575.3 | AA31: =SUM(W31:Z31) -> 6486962.3 | AB31: 4053641.8 | AC31: 1560710.9 | AD31: 1460038.1 | AE31: 1620721.8 | AF31: =SUM(AB31:AE31) -> 8695112.7 | AG31: 1331367.4 | AH31: 1469471.7 | AI31: 1492849.9 | AJ31: 1550799.4 | AK31: =SUM(AG31:AJ31) -> 5844488.4 | AL31: =AJ31-AI31 -> 57949.493 | AM31: =AL31/AI31 -> 0.03881803
B32: TOTALS | C32: =SUM(C8:C31) -> 1.7872921e+08 | D32: =SUM(D8:D31) -> 174635032 | E32: =SUM(E8:E31) -> 1.7991119e+08 | F32: =SUM(F8:F31) -> 169545865 | G32: =SUM(G8:G31) -> 1.9934081e+08 | H32: =SUM(H8:H31) -> 51063541 | I32: =SUM(I8:I31) -> 53560617 | J32: =SUM(J8:J31) -> 54917641 | ... AG32: =SUM(AG8:AG31) -> 68950387 | AH32: 75828211 | AI32: 63113020 | AJ32: 82206783 | AK32: =SUM(AK8:AK31) -> 2.900984e+08 | AL32: =AI32-AH32 -> -12715191 | AM32: =AL32/AH32 -> -0.16768417
B34: REMITTANCE OUTFLOWS BY COUNTRY BY PERCENTAGE (%)
B35: COUNTRY | C35: Year 2012 | D35: Year 2013 | E35: Year 2014* | F35: Year 2015 | G35: Year 2016 | H35: 2017Q1 | I35: 2017Q2 | J35: 2017Q3 | K35: 2017Q4 | L35: Year 2017 | M35: 2018Q1 | N35: 2018Q2 | O35: 2018Q3 | P35: 2018Q4 | Q35: Year 2018 | R35: 2019Q1 | S35: 2019Q2 | T35: 2019Q3 | U35: 2019Q4 | V35: Year 2019 | W35: 2020Q1 | X35: 2020Q2 | Y35: 2020Q3 | Z35: 2020Q4 | AA35: Year 2020 | AB35: 2021Q1 | AC35: 2021Q2 | AD35: 2021Q3 | AE35: 2021Q4 | AF35: Year 2021 | AG35: 2022Q1 | AH35: 2022Q2 | AI35: 2022Q3 | AJ35: 2022Q4 | AK35: Year 2022
B36: JAMAICA | C36: =C8/C$32 -> 0.64645337 | D36: =D8/D$32 -> 0.63753308 | E36: =E8/E$32 -> 0.61382136 | F36: =F8/F$32 -> 0.59913032 | G36: =G8/G$32 -> 0.59664687 | H36: =H8/H$32 -> 0.58211018 | I36: =I8/I$32 -> 0.58207418 | J36: =J8/J$32 -> 0.59076956 | ... AK36: =AK8/AK$32 -> 0.58559884
B37: HONDURAS | C37: =C9/C$32 -> 0.065646277 | D37: =D9/D$32 -> 0.064560683 | E37: =E9/E$32 -> 0.06949872 | F37: =F9/F$32 -> 0.075298616 | G37: =G9/G$32 -> 0.071058084 | H37: =H9/H$32 -> 0.073979535 | I37: =I9/I$32 -> 0.071980184 | J37: =J9/J$32 -> 0.070331837 | ... AK37: =AK9/AK$32 -> 0.072712957
B38: PHILIPPINES | C38: =C10/C$32 -> 0.11869214 | D38: =D10/D$32 -> 0.12058935 | E38: =E10/E$32 -> 0.13175369 | F38: =F10/F$32 -> 0.14398163 | G38: =G10/G$32 -> 0.14898829 | H38: =H10/H$32 -> 0.15363269 | I38: =I10/I$32 -> 0.1533048 | J38: =J10/J$32 -> 0.14966975 | ... AK38: =AK10/AK$32 -> 0.17243914
B39: DOMINICAN REPUBLIC | C39: =C11/C$32 -> 0.016293329 | D39: =D11/D$32 -> 0.017521175 | E39: =E11/E$32 -> 0.01896447 | F39: =F11/F$32 -> 0.017399628 | G39: =G11/G$32 -> 0.019809901 | H39: =H11/H$32 -> 0.022229011 | I39: =I11/I$32 -> 0.023325242 | J39: =J11/J$32 -> 0.021710507 | ... AK39: =AK11/AK$32 -> 0.021229118
B40: NICARAGUA | C40: =C12/C$32 -> 0.016642875 | D40: =D12/D$32 -> 0.016970702 | E40: =E12/E$32 -> 0.015125699 | F40: =F12/F$32 -> 0.020574698 | G40: =G12/G$32 -> 0.018404215 | H40: =H12/H$32 -> 0.018013518 | I40: =I12/I$32 -> 0.017888228 | J40: =J12/J$32 -> 0.017693635 | ... AK40: =AK12/AK$32 -> 0.026449161
B41: COLOMBIA | C41: =C13/C$32 -> 0.017702762 | D41: =D13/D$32 -> 0.016091256 | E41: =E13/E$32 -> 0.01270599 | F41: =F13/F$32 -> 0.012787903 | G41: =G13/G$32 -> 0.012540133 | H41: =H13/H$32 -> 0.01285753 | I41: =I13/I$32 -> 0.014853975 | J41: =J13/J$32 -> 0.011060507 | ... AK41: =AK13/AK$32 -> 0.010503506
B42: GUYANA | C42: =C14/C$32 -> 0.0082025377 | D42: =D14/D$32 -> 0.0074788316 | E42: =E14/E$32 -> 0.0074905678 | F42: =F14/F$32 -> 0.0071096927 | G42: =G14/G$32 -> 0.0061941547 | H42: =H14/H$32 -> 0.0056547978 | I42: =I14/I$32 -> 0.0044322318 | J42: =J14/J$32 -> 0.0050369826 | ... AK42: =AK14/AK$32 -> 0.0067827876
B43: TRINIDAD & TOBAGO | C43: =C15/C$32 -> 0.0022571499 | D43: =D15/D$32 -> 0.0019300881 | E43: =E15/E$32 -> 0.0022762467 | F43: =F15/F$32 -> 0.0021253423 | G43: =G15/G$32 -> 0.0017228963 | H43: =H15/H$32 -> 0.0019576982 | I43: =I15/I$32 -> 0.0018430238 | J43: =J15/J$32 -> 0.001823616 | ... AK43: =AK15/AK$32 -> 0.0013478512
B44: INDIA | C44: =C16/C$32 -> 0.0041370465 | D44: =D16/D$32 -> 0.0038248569 | E44: =E16/E$32 -> 0.0046923097 | F44: =F16/F$32 -> 0.0046118612 | G44: =G16/G$32 -> 0.0041808519 | H44: =H16/H$32 -> 0.0047890333 | I44: =I16/I$32 -> 0.0053444864 | J44: =J16/J$32 -> 0.0048582513 | ... AK44: =AK16/AK$32 -> 0.0059577956
...

Sheet INFLOWS
B2: CAYMAN ISLANDS REMITTANCE REPORT - MONEY SERVICE PROVIDERS (REMITTANCE COMPANIES)
B3: (Workers' remittances transmitted by the remittance companies licensed as Money Service Providers)
B6: REMITTANCE INFLOWS BY COUNTRY (US$ - Actual Amounts)
B7: COUNTRY | C7: Year 2012 | D7: Year 2013 | E7: Year 2014* | F7: Year 2015 | G7: Year 2016 | H7: 2017Q1 | I7: 2017Q2 | J7: 2017Q3 | K7: 2017Q4 | L7: Year 2017 | M7: 2018Q1 | N7: 2018Q2 | O7: 2018Q3 | P7: 2018Q4 | Q7: Year 2018 | R7: 2019Q1 | S7: 2019Q2 | T7: 2019Q3 | U7: 2019Q4 | V7: Year 2019 | W7: 2020Q1 | X7: 2020Q2 | Y7: 2020Q3 | Z7: 2020Q4 | AA7: Year 2020 | AB7: 2021Q1 | AC7: 2021Q2 | AD7: 2021Q3 | AE7: 2021Q4 | AF7: Year 2021 | AG7: 2022Q1 | AH7: 2022Q2 | AI7: 2022Q3 | AJ7: 2022Q4 | AK7: Year 2022 | AL7: Diff 22Q4/22Q3 | AM7: Diff 22Q4/22Q3
B8: JAMAICA | C8: 1259921.9 | D8: 1196086 | E8: 951576.59 | F8: 825503 | G8: 748501.54 | H8: 230833 | I8: 221084.36 | J8: 229708.15 | K8: 249260.4 | L8: =SUM(H8:K8) -> 930885.91 | M8: 245028.03 | N8: 277722.52 | O8: 240766 | P8: 277961.1 | Q8: =SUM(M8:P8) -> 1041477.7 | R8: 284080.32 | S8: 233145.06 | T8: 258258.06 | U8: 175394.6 | V8: =SUM(R8:U8) -> 950878.04 | W8: 167005.19 | X8: 87077.35 | Y8: 161439.34 | Z8: 154287.11 | AA8: =SUM(W8:Z8) -> 569808.99 | AB8: 194338.05 | AC8: 260917.42 | AD8: 311606.2 | AE8: 338587.85 | AF8: =SUM(AB8:AE8) -> 1105449.5 | AG8: 322030.19 | AH8: 348499.85 | AI8: 370678.19 | AJ8: 425086.06 | AK8: =SUM(AG8:AJ8) -> 1466294.3 | AL8: =AJ8-AI8 -> 54407.864 | AM8: =AL8/AI8 -> 0.14677924
B9: HONDURAS | C9: 122361.13 | D9: 129767 | E9: 105945.43 | F9: 85266 | G9: 112708.68 | H9: 27469 | I9: 21409.35 | J9: 25656.21 | K9: 30752.61 | L9: =SUM(H9:K9) -> 105287.17 | M9: 32478.68 | N9: 21200.77 | O9: 26840 | P9: 31622.81 | Q9: =SUM(M9:P9) -> 112142.26 | R9: 27809.8 | S9: 25895.83 | T9: 26781.24 | U9: 35088.549 | V9: =SUM(R9:U9) -> 115575.42 | W9: 29188.23 | X9: 4834.63 | Y9: 13147.03 | Z9: 9106.48 | AA9: =SUM(W9:Z9) -> 56276.37 | AB9: 19735.3 | AC9: 33746.34 | AD9: 32921.97 | AE9: 27857.77 | AF9: =SUM(AB9:AE9) -> 114261.38 | AG9: 22325.46 | AH9: 22043.65 | AI9: 20473.769 | AJ9: 34948.291 | AK9: =SUM(AG9:AJ9) -> 99791.17 | AL9: =AJ9-AI9 -> 14474.523 | AM9: =AL9/AI9 -> 0.70697892
B10: PHILIPPINES | C10: 75978.34 | D10: 81026 | E10: 79820.17 | F10: 92836 | G10: 136908.88 | H10: 37152 | I10: 22184.32 | J10: 30648.41 | K10: 36748.93 | L10: =SUM(H10:K10) -> 126733.66 | M10: 33065.73 | N10: 41536.72 | O10: 32465 | P10: 44586.75 | Q10: =SUM(M10:P10) -> 151654.2 | R10: 46080.99 | S10: 49111.03 | T10: 70772.22 | U10: 83640.9 | V10: =SUM(R10:U10) -> 249605.14 | W10: 57007.12 | X10: 4638.79 | Y10: 9809.87 | Z10: 23032.7 | AA10: =SUM(W10:Z10) -> 94488.48 | AB10: 24869.13 | AC10: 26961.27 | AD10: 43064.51 | AE10: 62152.7 | AF10: =SUM(AB10:AE10) -> 157047.61 | AG10: 74619.45 | AH10: 59637.12 | AI10: 78739.555 | AJ10: 72764.22 | AK10: =SUM(AG10:AJ10) -> 285760.35 | AL10: =AJ10-AI10 -> -5975.3349 | AM10: =AL10/AI10 -> -0.075887333
B11: DOMINICAN REPUBLIC | C11: 41199.06 | D11: 50279 | E11: 40527.19 | F11: 52365 | G11: 79712.75 | H11: 6744 | I11: 3066.29 | J11: 11581.84 | K11: 6238.52 | L11: =SUM(H11:K11) -> 27630.65 | M11: 5194.01 | N11: 3841.32 | O11: 6145 | P11: 10189.87 | Q11: =SUM(M11:P11) -> 25370.2 | R11: 7476.03 | S11: 14083.76 | T11: 14322.68 | U11: 11419.14 | V11: =SUM(R11:U11) -> 47301.61 | W11: 9994.41 | X11: 0 | Y11: 3456.18 | Z11: 1569.45 | AA11: =SUM(W11:Z11) -> 15020.04 | AB11: 4737.91 | AC11: 6315.41 | AD11: 6756.38 | AE11: 5657.93 | AF11: =SUM(AB11:AE11) -> 23467.63 | AG11: 18979.6 | AH11: 10762.88 | AI11: 13580.27 | AJ11: 8640.04 | AK11: =SUM(AG11:AJ11) -> 51962.79 | AL11: =AJ11-AI11 -> -4940.23 | AM11: =AL11/AI11 -> -0.36377995
B12: NICARAGUA | C12: 32879.6 | D12: 36665 | E12: 24351.23 | F12: 25789 | G12: 17128.45 | H12: 2795 | I12: 3344.72 | J12: 4087.84 | K12: 4297.48 | L12: =SUM(H12:K12) -> 14525.04 | M12: 6119.18 | N12: 2296.26 | O12: 9029 | P12: 7730.47 | Q12: =SUM(M12:P12) -> 25174.91 | R12: 10902.06 | S12: 8016.01 | T12: 19878.16 | U12: 15670.7 | V12: =SUM(R12:U12) -> 54466.93 | W12: 3183.15 | X12: 91.42 | Y12: 606.69 | Z12: 2871.2 | AA12: =SUM(W12:Z12) -> 6752.46 | AB12: 3507 | AC12: 6228.22 | AD12: 6084.13 | AE12: 4437.18 | AF12: =SUM(AB12:AE12) -> 20256.53 | AG12: 3924.61 | AH12: 10556.25 | AI12: 9429.47 | AJ12: 12805.32 | AK12: =SUM(AG12:AJ12) -> 36715.65 | AL12: =AJ12-AI12 -> 3375.85 | AM12: =AL12/AI12 -> 0.35801058
B13: COLOMBIA | C13: 73121.85 | D13: 97018 | E13: 75808.27 | F13: 28687 | G13: 21959.23 | H13: 5676 | I13: 19805.05 | J13: 7576.71 | K13: 12743.72 | L13: =SUM(H13:K13) -> 45801.48 | M13: 20923.72 | N13: 9886.9 | O13: 20307 | P13: 13969.14 | Q13: =SUM(M13:P13) -> 65086.76 | R13: 4660.84 | S13: 4542.15 | T13: 6123.54 | U13: 8881.09 | V13: =SUM(R13:U13) -> 24207.62 | W13: 4257.13 | X13: 2700.1 | Y13: 9133.2 | Z13: 17045.34 | AA13: =SUM(W13:Z13) -> 33135.77 | AB13: 5957.74 | AC13: 11874.73 | AD13: 10882.55 | AE13: 11109.99 | AF13: =SUM(AB13:AE13) -> 39825.01 | AG13: 5502.54 | AH13: 6203.4 | AI13: 8121.32 | AJ13: 3841.96 | AK13: =SUM(AG13:AJ13) -> 23669.22 | AL13: =AJ13-AI13 -> -4279.36 | AM13: =AL13/AI13 -> -0.52692912
B14: GUYANA | C14: 11718.72 | D14: 14391 | E14: 16574.13 | F14: 7917 | G14: 20872.99 | H14: 8908 | I14: 3253.61 | J14: 5076.96 | K14: 12693.18 | L14: =SUM(H14:K14) -> 29931.75 | M14: 3936.3 | N14: 4425.03 | O14: 3624 | P14: 2805.41 | Q14: =SUM(M14:P14) -> 14790.74 | R14: 3158.33 | S14: 11281.45 | T14: 3425.21 | U14: 2742.6538 | V14: =SUM(R14:U14) -> 20607.644 | W14: 3197.64 | X14: 592.22 | Y14: 1149.38 | Z14: 2174.9 | AA14: =SUM(W14:Z14) -> 7114.14 | AB14: 2004.67 | AC14: 1490.96 | AD14: 791.91 | AE14: 3098.59 | AF14: =SUM(AB14:AE14) -> 7386.13 | AG14: 1864.6 | AH14: 6284.97 | AI14: 2539.7339 | AJ14: 3679.6529 | AK14: =SUM(AG14:AJ14) -> 14368.957 | AL14: =AJ14-AI14 -> 1139.919 | AM14: =AL14/AI14 -> 0.44883404
B15: TRINIDAD & TOBAGO | C15: 38308.16 | D15: 69897 | E15: 79862.4 | F15: 83189 | G15: 48797 | H15: 13416 | I15: 20915.27 | J15: 14862.3 | K15: 25256.51 | L15: =SUM(H15:K15) -> 74450.08 | M15: 20260.83 | N15: 17741.3 | O15: 17354 | P15: 20932.38 | Q15: =SUM(M15:P15) -> 76288.51 | R15: 11279.47 | S15: 27056.15 | T15: 30304.08 | U15: 13689.179 | V15: =SUM(R15:U15) -> 82328.879 | W15: 20238.94 | X15: 3912.56 | Y15: 8744.92 | Z15: 6705.96 | AA15: =SUM(W15:Z15) -> 39602.38 | AB15: 5915.39 | AC15: 15199.6 | AD15: 18043.45 | AE15: 13549.47 | AF15: =SUM(AB15:AE15) -> 52707.91 | AG15: 13301.54 | AH15: 19127.94 | AI15: 17557.407 | AJ15: 12913.46 | AK15: =SUM(AG15:AJ15) -> 62900.347 | AL15: =AJ15-AI15 -> -4643.9466 | AM15: =AL15/AI15 -> -0.26450071
B16: INDIA | C16: 0 | D16: 0 | E16: 0 | F16: 0 | G16: 0 | H16: 0 | I16: 0 | J16: 0 | K16: 0 | L16: =SUM(H16:K16) -> 0 | M16: 0 | N16: 0 | O16: 0 | P16: 0 | Q16: =SUM(M16:P16) -> 0 | R16: 0 | S16: 0 | T16: 0 | U16: 0 | V16: =SUM(R16:U16) -> 0 | W16: 0 | X16: 0 | Y16: 0 | Z16: 0 | AA16: =SUM(W16:Z16) -> 0 | AB16: 0 | AC16: 0 | AD16: 0 | AE16: 0 | AF16: =SUM(AB16:AE16) -> 0 | AG16: 1687.08 | AH16: 0 | AI16: 0 | AJ16: 0 | AK16: =SUM(AG16:AJ16) -> 1687.08 | AL16: =AJ16-AI16 -> 0 | AM16: =AL16/AI16 -> #DIV/0!
B17: UNITED KINGDOM | C17: 463742.96 | D17: 667883 | E17: 547945.44 | F17: 448071 | G17: 506693.82 | H17: 105298 | I17: 110998.57 | J17: 148668.78 | K17: 157810.25 | L17: =SUM(H17:K17) -> 522775.6 | M17: 98614.6 | N17: 120751.28 | O17: 136301 | P17: 152147.88 | Q17: =SUM(M17:P17) -> 507814.76 | R17: 108992.42 | S17: 118533.94 | T17: 115487.82 | U17: 106942.63 | V17: =SUM(R17:U17) -> 449956.81 | W17: 86290.46 | X17: 81595.46 | Y17: 99091.58 | Z17: 208283.26 | AA17: =SUM(W17:Z17) -> 475260.76 | AB17: 151172.56 | AC17: 124943.96 | AD17: 243638 | AE17: 177326.34 | AF17: =SUM(AB17:AE17) -> 697080.86 | AG17: 183405.6 | AH17: 170971.23 | AI17: 158000.5 | AJ17: 145538.19 | AK17: =SUM(AG17:AJ17) -> 657915.52 | AL17: =AJ17-AI17 -> -12462.305 | AM17: =AL17/AI17 -> -0.078875098
B18: UNITED STATES | C18: 2415708.4 | D18: 3077253 | E18: 3021535.9 | F18: 3252040 | G18: 3311119 | H18: 861903 | I18: 938460.03 | J18: 1029044.9 | K18: 1022723 | L18: =SUM(H18:K18) -> 3852130.9 | M18: 901495.41 | N18: 1018760.9 | O18: 1015652 | P18: 1002645.3 | Q18: =SUM(M18:P18) -> 3938553.6 | R18: 912357.92 | S18: 973212.81 | T18: 966859.66 | U18: 927513.16 | V18: =SUM(R18:U18) -> 3779943.6 | W18: 787139.47 | X18: 710077.82 | Y18: 896532.98 | Z18: 1001397 | AA18: =SUM(W18:Z18) -> 3395147.3 | AB18: 1134948.8 | AC18: 1226358.2 | AD18: 1271690.9 | AE18: 1432107.9 | AF18: =SUM(AB18:AE18) -> 5065105.8 | AG18: 1054496.1 | AH18: 1304980.4 | AI18: 1488487.8 | AJ18: 1459870.9 | AK18: =SUM(AG18:AJ18) -> 5307835.2 | AL18: =AJ18-AI18 -> -28616.892 | AM18: =AL18/AI18 -> -0.019225479
B19: CANADA | C19: n/a | D19: 687246 | E19: 689183.28 | F19: 517747 | G19: 459812.48 | H19: 122252 | I19: 152390.51 | J19: 124816.5 | K19: 114608.85 | L19: =SUM(H19:K19) -> 514067.86 | M19: 99524.16 | N19: 113091.54 | O19: 150817 | P19: 124095.75 | Q19: =SUM(M19:P19) -> 487528.45 | R19: 118840.62 | S19: 137877.18 | T19: 136705.95 | U19: 113743.76 | V19: =SUM(R19:U19) -> 507167.51 | W19: 108641.38 | X19: 78968.31 | Y19: 95154.55 | Z19: 119887.47 | AA19: =SUM(W19:Z19) -> 402651.71 | AB19: 162161.17 | AC19: 124120.28 | AD19: 155838.28 | AE19: 154687.94 | AF19: =SUM(AB19:AE19) -> 596807.67 | AG19: 162591.48 | AH19: 139630.45 | AI19: 126451.41 | AJ19: 145289.35 | AK19: =SUM(AG19:AJ19) -> 573962.69 | AL19: =AJ19-AI19 -> 18837.945 | AM19: =AL19/AI19 -> 0.14897379
B20: COSTA RICA | C20: n/a | D20: 19887 | E20: 26075.33 | F20: 17578 | G20: 9562.86 | H20: 446 | I20: 6608.6 | J20: 2627.77 | K20: 7582.92 | L20: =SUM(H20:K20) -> 17265.29 | M20: 5029.08 | N20: 1842.65 | O20: 5668 | P20: 3163.31 | Q20: =SUM(M20:P20) -> 15703.04 | R20: 2663.27 | S20: 3518.93 | T20: 3030 | U20: 4715.76 | V20: =SUM(R20:U20) -> 13927.96 | W20: 0 | X20: 4119.11 | Y20: 585.24 | Z20: 100 | AA20: =SUM(W20:Z20) -> 4804.35 | AB20: 7592.49 | AC20: 3261.49 | AD20: 1523.73 | AE20: 498.96 | AF20: =SUM(AB20:AE20) -> 12876.67 | AG20: 3574.44 | AH20: 1927.53 | AI20: 4994.02 | AJ20: 1918.56 | AK20: =SUM(AG20:AJ20) -> 12414.55 | AL20: =AJ20-AI20 -> -3075.46 | AM20: =AL20/AI20 -> -0.61582853
B21: BARBADOS | C21: n/a | D21: 52558 | E21: 27565.28 | F21: 18039 | G21: 17155.75 | H21: 7000 | I21: 3384.29 | J21: 11870.38 | K21: 15761.25 | L21: =SUM(H21:K21) -> 38015.92 | M21: 3348.97 | N21: 2867.72 | O21: 2141 | P21: 4795.65 | Q21: =SUM(M21:P21) -> 13153.34 | R21: 6826.37 | S21: 7265.73 | T21: 6264.64 | U21: 5265.31 | V21: =SUM(R21:U21) -> 25622.05 | W21: 8212.3 | X21: 0 | Y21: 3384.57 | Z21: 1063.82 | AA21: =SUM(W21:Z21) -> 12660.69 | AB21: 13155.77 | AC21: 4878.59 | AD21: 3855.22 | AE21: 7144.19 | AF21: =SUM(AB21:AE21) -> 29033.77 | AG21: 10638.13 | AH21: 1960.56 | AI21: 15420.02 | AJ21: 13370.612 | AK21: =SUM(AG21:AJ21) -> 41389.322 | AL21: =AJ21-AI21 -> -2049.4078 | AM21: =AL21/AI21 -> -0.13290565
B22: PANAMA | C22: n/a | D22: 12376 | E22: 17127.01 | F22: 9892 | G22: 13079.78 | H22: 5407 | I22: 4816.05 | J22: 3751.05 | K22: 6391.08 | L22: =SUM(H22:K22) -> 20365.18 | M22: 10764.11 | N22: 6789.64 | O22: 9798 | P22: 5929.95 | Q22: =SUM(M22:P22) -> 33281.7 | R22: 9668.47 | S22: 11676.47 | T22: 15046.33 | U22: 4463.3262 | V22: =SUM(R22:U22) -> 40854.596 | W22: 9068.59 | X22: 4783.55 | Y22: 4595.13 | Z22: 2714.4 | AA22: =SUM(W22:Z22) -> 21161.67 | AB22: 578.5 | AC22: 242.36 | AD22: 1495.62 | AE22: 2009.55 | AF22: =SUM(AB22:AE22) -> 4326.03 | AG22: 8131.82 | AH22: 1249.6 | AI22: 291 | AJ22: 1839.2793 | AK22: =SUM(AG22:AJ22) -> 11511.699 | AL22: =AJ22-AI22 -> 1548.2793 | AM22: =AL22/AI22 -> 5.3205473
B23: BELIZE | C23: n/a | D23: n/a | E23: n/a | F23: n/a | G23: n/a | H23: 2495 | I23: 1139.28 | J23: 4294.94 | K23: 918.05 | L23: =SUM(H23:K23) -> 8847.27 | M23: 2019.91 | N23: 1571.27 | O23: 2903 | P23: 1276.3 | Q23: =SUM(M23:P23) -> 7770.48 | R23: 3539.51 | S23: 1783.51 | T23: 1649.99 | U23: 4280.45 | V23: =SUM(R23:U23) -> 11253.46 | W23: 4188.87 | X23: 659.22 | Y23: 1257.86 | Z23: 2034.94 | AA23: =SUM(W23:Z23) -> 8140.89 | AB23: 918.08 | AC23: 2631.37 | AD23: 672.91 | AE23: 313.32 | AF23: =SUM(AB23:AE23) -> 4535.68 | AG23: 1250.64 | AH23: 1075.27 | AI23: 870.03 | AJ23: 2435.6332 | AK23: =SUM(AG23:AJ23) -> 5631.5732 | AL23: =AJ23-AI23 -> 1565.6032 | AM23: =AL23/AI23 -> 1.7994818
B24: CHINA | C24: n/a | D24: n/a | E24: n/a | F24: n/a | G24: n/a | H24: 611 | I24: 5505.72 | J24: 0 | K24: 317.45 | L24: =SUM(H24:K24) -> 6434.17 | M24: 197.8 | N24: 378.79 | O24: 757 | P24: 1186.8 | Q24: =SUM(M24:P24) -> 2520.39 | R24: 0 | S24: 692.3 | T24: 1341.08 | U24: 2541.74 | V24: =SUM(R24:U24) -> 4575.12 | W24: 100 | X24: 0 | Y24: 486 | Z24: 0 | AA24: =SUM(W24:Z24) -> 586 | AB24: 0 | AC24: 476.19 | AD24: 0 | AE24: 0 | AF24: =SUM(AB24:AE24) -> 476.19 | AG24: 0 | AH24: 1305.64 | AI24: 0 | AJ24: 0 | AK24: =SUM(AG24:AJ24) -> 1305.64 | AL24: =AJ24-AI24 -> 0 | AM24: =AL24/AI24 -> #DIV/0!
B25: CUBA | C25: n/a | D25: n/a | E25: n/a | F25: n/a | G25: n/a | H25: 0 | I25: 0 | J25: 0 | K25: 0 | L25: =SUM(H25:K25) -> 0 | M25: 0 | N25: 0 | O25: 0 | P25: 0 | Q25: =SUM(M25:P25) -> 0 | R25: 0 | S25: 0 | T25: 0 | U25: 0 | V25: =SUM(R25:U25) -> 0 | W25: 0 | X25: 0 | Y25: 0 | Z25: 0 | AA25: =SUM(W25:Z25) -> 0 | AB25: 0 | AC25: 0 | AD25: 0 | AE25: 0 | AF25: =SUM(AB25:AE25) -> 0 | AG25: 0 | AH25: 0 | AI25: 0 | AJ25: 0 | AK25: =SUM(AG25:AJ25) -> 0 | AL25: =AJ25-AI25 -> 0 | AM25: =AL25/AI25 -> #DIV/0!
B26: KENYA | C26: n/a | D26: n/a | E26: n/a | F26: n/a | G26: n/a | H26: 626 | I26: 3399.59 | J26: 101.21 | K26: 4022.19 | L26: =SUM(H26:K26) -> 8148.99 | M26: 3636.44 | N26: 150 | O26: 1115 | P26: 1165.19 | Q26: =SUM(M26:P26) -> 6066.63 | R26: 533.76 | S26: 203.29 | T26: 8898.77 | U26: 274.89 | V26: =SUM(R26:U26) -> 9910.71 | W26: 239.7 | X26: 0 | Y26: 3285.59 | Z26: 3110.25 | AA26: =SUM(W26:Z26) -> 6635.54 | AB26: 0 | AC26: 0 | AD26: 2566.78 | AE26: 4348.48 | AF26: =SUM(AB26:AE26) -> 6915.26 | AG26: 684.63 | AH26: 0 | AI26: 2107.33 | AJ26: 7704.74 | AK26: =SUM(AG26:AJ26) -> 10496.7 | AL26: =AJ26-AI26 -> 5597.41 | AM26: =AL26/AI26 -> 2.6561621
B27: MEXICO | C27: n/a | D27: n/a | E27: n/a | F27: n/a | G27: n/a | H27: 5601 | I27: 404.91 | J27: 0 | K27: 2411 | L27: =SUM(H27:K27) -> 8416.91 | M27: 3398.85 | N27: 0 | O27: 2521 | P27: 0 | Q27: =SUM(M27:P27) -> 5919.85 | R27: 2279.77 | S27: 0 | T27: 0 | U27: 552.94 | V27: =SUM(R27:U27) -> 2832.71 | W27: 0 | X27: 700.92 | Y27: 595.23 | Z27: 0 | AA27: =SUM(W27:Z27) -> 1296.15 | AB27: 0 | AC27: 50 | AD27: 0 | AE27: 1673.82 | AF27: =SUM(AB27:AE27) -> 1723.82 | AG27: 0 | AH27: 204.68 | AI27: 1244.81 | AJ27: 1065.26 | AK27: =SUM(AG27:AJ27) -> 2514.75 | AL27: =AJ27-AI27 -> -179.55 | AM27: =AL27/AI27 -> -0.14423888
B28: NEPAL | C28: n/a | D28: n/a | E28: n/a | F28: n/a | G28: n/a | H28: 0 | I28: 0 | J28: 0 | K28: 0 | L28: =SUM(H28:K28) -> 0 | M28: 0 | N28: 0 | O28: 0 | P28: 0 | Q28: =SUM(M28:P28) -> 0 | R28: 0 | S28: 145.5 | T28: 1639.76 | U28: 2840.8 | V28: =SUM(R28:U28) -> 4626.06 | W28: 9668.33 | X28: 145.5 | Y28: 3260.42 | Z28: 1755.7 | AA28: =SUM(W28:Z28) -> 14829.95 | AB28: 2716 | AC28: 1309.5 | AD28: 3065.2 | AE28: 5003.41 | AF28: =SUM(AB28:AE28) -> 12094.11 | AG28: 388 | AH28: 1195.32 | AI28: 0 | AJ28: 0 | AK28: =SUM(AG28:AJ28) -> 1583.32 | AL28: =AJ28-AI28 -> 0 | AM28: =AL28/AI28 -> #DIV/0!
B29: PERU | C29: n/a | D29: n/a | E29: n/a | F29: n/a | G29: n/a | H29: 2311 | I29: 2854.83 | J29: 0 | K29: 500 | L29: =SUM(H29:K29) -> 5665.83 | M29: 6928.75 | N29: 2790.79 | O29: 1000 | P29: 4535.3 | Q29: =SUM(M29:P29) -> 15254.84 | R29: 776 | S29: 300 | T29: 0 | U29: 0 | V29: =SUM(R29:U29) -> 1076 | W29: 300 | X29: 0 | Y29: 0 | Z29: 0 | AA29: =SUM(W29:Z29) -> 300 | AB29: 0 | AC29: 0 | AD29: 0 | AE29: 0 | AF29: =SUM(AB29:AE29) -> 0 | AG29: 0 | AH29: 0 | AI29: 514.58 | AJ29: 485 | AK29: =SUM(AG29:AJ29) -> 999.58 | AL29: =AJ29-AI29 -> -29.58 | AM29: =AL29/AI29 -> -0.057483773
B30: ZIMBABWE | C30: n/a | D30: n/a | E30: n/a | F30: n/a | G30: n/a | H30: 776 | I30: 620.8 | J30: 0 | K30: 0 | L30: =SUM(H30:K30) -> 1396.8 | M30: 0 | N30: 1066.04 | O30: 0 | P30: 0 | Q30: =SUM(M30:P30) -> 1066.04 | R30: 38.8 | S30: 34.52 | T30: 1404.45 | U30: 575.47 | V30: =SUM(R30:U30) -> 2053.24 | W30: 2045.75 | X30: 1208.09 | Y30: 502.54 | Z30: 2073.72 | AA30: =SUM(W30:Z30) -> 5830.1 | AB30: 765.33 | AC30: 442.15 | AD30: 2232.64 | AE30: 176.88 | AF30: =SUM(AB30:AE30) -> 3617 | AG30: 1354.18 | AH30: 119.43 | AI30: 0 | AJ30: 0 | AK30: =SUM(AG30:AJ30) -> 1473.61 | AL30: =AJ30-AI30 -> 0 | AM30: =AL30/AI30 -> #DIV/0!
B31: OTHER | C31: 1347766 | D31: 1009527 | E31: 782514.23 | F31: 608092 | G31: 1027952.8 | H31: 238458 | I31: 342980.69 | J31: 436575.87 | K31: 391292.59 | L31: =SUM(H31:K31) -> 1409307.1 | M31: 347938.15 | N31: 384084.89 | O31: 372861 | P31: 393038.61 | Q31: =SUM(M31:P31) -> 1497922.6 | R31: 353974.61 | S31: 434665.32 | T31: 458998.93 | U31: 477910.79 | V31: =SUM(R31:U31) -> 1725549.6 | W31: 406674.74 | X31: 188053.65 | Y31: 337698.3 | Z31: 269113.02 | AA31: =SUM(W31:Z31) -> 1201539.7 | AB31: 259086.66 | AC31: 363657.92 | AD31: 355979.26 | AE31: 423489.44 | AF31: =SUM(AB31:AE31) -> 1402213.3 | AG31: 444420.45 | AH31: 273988.69 | AI31: 285685.81 | AJ31: 296259.99 | AK31: =SUM(AG31:AJ31) -> 1300354.9 | AL31: =AJ31-AI31 -> 10574.184 | AM31: =AL31/AI31 -> 0.037013333
B32: TOTALS | C32: =SUM(C8:C31) -> 5882706.2 | D32: =SUM(D8:D31) -> 7201859 | E32: =SUM(E8:E31) -> 6486411.9 | F32: =SUM(F8:F31) -> 6073011 | G32: =SUM(G8:G31) -> 6531966.1 | H32: =SUM(H8:H31) -> 1686177 | I32: =SUM(I8:I31) -> 1888626.8 | J32: =SUM(J8:J31) -> 2090949.8 | ... L32: =SUM(L8:L31) -> 7768083.7 | M32: 1915939.4 | N32: =SUM(N8:N31) -> 2032796.4 | O32: =SUM(O8:O31) -> 2058064 | P32: =SUM(P8:P31) -> 2103778 | Q32: =SUM(Q8:Q31) -> 8044541 | R32: =SUM(R8:R31) -> 1915939.4 | S32: =SUM(S8:S31) -> 2063040.9 | T32: =SUM(T8:T31) -> 2147192.6 | U32: =SUM(U8:U31) -> 1998147.8 | ... AK32: =SUM(AK8:AK31) -> 9972539 | AL32: =AJ32-AI32 -> 45269.511 | AM32: =AL32/AH32 -> 0.019007028
B34: REMITTANCE INFLOWS BY COUNTRY BY PERCENTAGE (%)
B35: COUNTRY | C35: Year 2012 | D35: Year 2013 | E35: Year 2014* | F35: Year 2015 | G35: Year 2016 | H35: 2017Q1 | I35: 2017Q2 | J35: 2017Q3 | K35: 2017Q4 | L35: Year 2017 | M35: 2018Q1 | N35: 2018Q2 | O35: 2018Q3 | P35: 2018Q4 | Q35: Year 2018 | R35: 2019Q1 | S35: 2019Q2 | T35: 2019Q3 | U35: 2019Q4 | V35: Year 2019 | W35: 2020Q1 | X35: 2020Q2 | Y35: 2020Q3 | Z35: 2020Q4 | AA35: Year 2020 | AB35: 2021Q1 | AC35: 2021Q2 | AD35: 2021Q3 | AE35: 2021Q4 | AF35: Year 2021 | AG35: 2022Q1 | AH35: 2022Q2 | AI35: 2022Q3 | AJ35: 2022Q4 | AK35: Year 2022
B36: JAMAICA | C36: =C8/C$32 -> 0.21417387 | D36: =D8/D$32 -> 0.16608017 | E36: =E8/E$32 -> 0.14670308 | F36: =F8/F$32 -> 0.13592977 | G36: =G8/G$32 -> 0.11459054 | H36: =H8/H$32 -> 0.13689725 | I36: =I8/I$32 -> 0.1170609 | J36: =J8/J$32 -> 0.10985828 | ... AK36: =AK8/AK$32 -> 0.1470332
B37: HONDURAS | C37: =C9/C$32 -> 0.020800143 | D37: =D9/D$32 -> 0.018018542 | E37: =E9/E$32 -> 0.016333442 | F37: =F9/F$32 -> 0.014040152 | G37: =G9/G$32 -> 0.01725494 | H37: =H9/H$32 -> 0.016290698 | I37: =I9/I$32 -> 0.011335934 | J37: =J9/J$32 -> 0.012270122 | ... AK37: =AK9/AK$32 -> 0.010006596
B38: PHILIPPINES | C38: =C10/C$32 -> 0.012915542 | D38: =D10/D$32 -> 0.011250706 | E38: =E10/E$32 -> 0.012305751 | F38: =F10/F$32 -> 0.015286651 | G38: =G10/G$32 -> 0.020959827 | H38: =H10/H$32 -> 0.022033274 | I38: =I10/I$32 -> 0.01174627 | J38: =J10/J$32 -> 0.01465765 | ... AK38: =AK10/AK$32 -> 0.028654723
B39: DOMINICAN REPUBLIC | C39: =C11/C$32 -> 0.0070034197 | D39: =D11/D$32 -> 0.0069813919 | E39: =E11/E$32 -> 0.0062480137 | F39: =F11/F$32 -> 0.0086225762 | G39: =G11/G$32 -> 0.012203485 | H39: =H11/H$32 -> 0.0039995801 | I39: =I11/I$32 -> 0.0016235552 | J39: =J11/J$32 -> 0.005539033 | ... AK39: =AK11/AK$32 -> 0.0052105878
B40: NICARAGUA | C40: =C12/C$32 -> 0.0055891964 | D40: =D12/D$32 -> 0.0050910466 | E40: =E12/E$32 -> 0.0037541911 | F40: =F12/F$32 -> 0.0042464932 | G40: =G12/G$32 -> 0.0026222503 | H40: =H12/H$32 -> 0.0016575959 | I40: =I12/I$32 -> 0.0017709798 | J40: =J12/J$32 -> 0.0019550158 | ... AK40: =AK12/AK$32 -> 0.0036816753
B41: COLOMBIA | C41: =C13/C$32 -> 0.012429968 | D41: =D13/D$32 -> 0.013471244 | E41: =E13/E$32 -> 0.011687243 | F41: =F13/F$32 -> 0.0047236865 | G41: =G13/G$32 -> 0.0033618102 | H41: =H13/H$32 -> 0.0033661947 | I41: =I13/I$32 -> 0.010486481 | J41: =J13/J$32 -> 0.0036235733 | ... AK41: =AK13/AK$32 -> 0.0023734397
B42: GUYANA | C42: =C14/C$32 -> 0.0019920628 | D42: =D14/D$32 -> 0.0019982341 | E42: =E14/E$32 -> 0.0025552078 | F42: =F14/F$32 -> 0.0013036367 | G42: =G14/G$32 -> 0.0031955142 | H42: =H14/H$32 -> 0.0052829567 | I42: =I14/I$32 -> 0.0017227384 | J42: =J14/J$32 -> 0.002428064 | ... AK42: =AK14/AK$32 -> 0.0014408524
B43: TRINIDAD & TOBAGO | C43: =C15/C$32 -> 0.0065119962 | D43: =D15/D$32 -> 0.0097054108 | E43: =E15/E$32 -> 0.012312262 | F43: =F15/F$32 -> 0.013698147 | G43: =G15/G$32 -> 0.007470492 | H43: =H15/H$32 -> 0.0079564601 | I43: =I15/I$32 -> 0.011074326 | J43: =J15/J$32 -> 0.0071079181 | ... AK43: =AK15/AK$32 -> 0.0063073553
B44: INDIA | C44: =C16/C$32 -> 0 | D44: =D16/D$32 -> 0 | E44: =E16/E$32 -> 0 | F44: =F16/F$32 -> 0 | G44: =G16/G$32 -> 0 | H44: =H16/H$32 -> 0 | I44: =I16/I$32 -> 0 | J44: =J16/J$32 -> 0 | ... AK44: =AK16/AK$32 -> 0.00016917256
...

Sheet Trans OUTFLOWS
B2: CAYMAN ISLANDS REMITTANCE REPORT BY NUMBER OF TRANSACTIONS, BY COUNTRY & VALUE (in US$)
B3: (Workers' remittances transmitted by the remittance companies licensed as Money Service Providers)
B4: REMITTANCE OUTFLOWS BY TRANSACTIONS, COUNTRY, VALUE (Actual Amounts)
B5: Transactions (more than) > CI$500
B6: COUNTRY | C6: Year 2012 | D6: Year 2013 | E6: Year 2014* | F6: Year 2015 | G6: Year 2016 | H6: 2017Q1 | I6: 2017Q2 | J6: 2017Q3 | K6: 2017Q4 | L6: Year 2017 | M6: 2018Q1 | N6: 2018Q2 | O6: 2018Q3 | P6: 2018Q4 | Q6: Year 2018 | R6: 2019Q1 | S6: 2019Q2 | T6: 2019Q3 | U6: 2019Q4 | V6: Year 2019 | W6: 2020Q1 | X6: 2020Q2 | Y6: 2020Q3 | Z6: 2020Q4 | AA6: Year 2020 | AB6: 2021Q1 | AC6: 2021Q2 | AD6: 2021Q3 | AE6: 2021Q4 | AF6: Year 2021 | AG6: 2022Q1 | AH6: 2022Q2 | AI6: 2022Q3 | AJ6: 2022Q4 | AK6: Year 2022
B7: JAMAICA | C7: 39235 | D7: 35978 | E7: 33756 | F7: 33069 | G7: 40565 | H7: 10156 | I7: 10830 | J7: 11424 | K7: 12447 | L7: =SUM(H7:K7) -> 44857 | M7: 11296 | N7: 12035 | O7: 12647 | P7: 10825 | Q7: =SUM(M7:P7) -> 46803 | R7: 12644 | S7: 13363 | T7: 13916 | U7: 16461 | V7: =SUM(R7:U7) -> 56384 | W7: 12980 | X7: 11069 | Y7: 24063 | Z7: 18067 | AA7: =SUM(W7:Z7) -> 66179 | AB7: 16872 | AC7: 16860 | AD7: 16057 | AE7: 19282 | AF7: =SUM(AB7:AE7) -> 69071 | AG7: 16683 | AH7: 18734 | AI7: 18428 | AJ7: 20810 | AK7: =SUM(AG7:AJ7) -> 74655
