Workbook
Name Remittance_Report: Bulletin!$B$15
Name Website__www.cima.ky: Bulletin!$B$41

Sheet Bulletin
G1: CAYMAN ISLANDS REMITTANCES BULLETIN - December 2022
H5: Table 1: Cayman's Remittances | O5: Fourth Quarter 2022
H6: (US$ - Actual Amounts) | K6: 2021Q4 | M6: 2022Q4 | O6: The Remittance Outflows of US$82,206,783 increased by 9.1% or US$6,838,919 relative to the same period in 2021. The Inflows of US$2,650,457 also decreased by 0.9% or US$24,775 compared to the same period in 2021. There was an annual decrease of 9.44 in net remittances.
H7: Total Remittance Inflows | K7: =L88 -> 2675231.7 | M7: =L95 -> 2650456.6
H8: Total Remittance Outflows | K8: =H88 -> 75367864 | M8: =H95 -> 82206783
H10: Net Remittances | K10: =K7-K8 -> -72692632 | M10: =M7-M8 -> -79556326
H12: Source: Money Service Providers (MSP's) licensed by Cayman Islands Monetary Authority (CIMA).
H13: Updated - March 2023
B15: Download Statistics
B16: Remittance Report
O17: Destination of Remittance Outflows:
O19: In the fourth quarter of 2022, the 4 largest recipients of Cayman Islands' remittances continue to be Jamaica, with 61% which is an increase of 8.76% from 2022Q3, followed by the Philippines with 16%, Honduras with 6.9%, and the United States with 4.3% while 'Other Countries' accounted for 11.9% (Chart 1).
B20: FAQs
B21: What is a Money Service Business?
B24: Where can I obtain copies of the Money Services Law?
B29: Money Services Providers
O30: Source of Remittance Inflows:
C31: 2020 | D31: 2021 | E31: 2022
B32: Number of licences | C32: 5 | D32: 5 | E32: 5
O33: Total Inflows increased by US$45,270 (1.90%) between 2022Q3 and 2022Q4. The Cayman Islands' primary source of Remittance Inflows is the United States; whose share of inflows decreased by 2.06% with the United Kingdom also reporting a marginal decrease. On the other hand, Jamaica reported an increase of 1.81% in their share of inflows, and Canada showed a marginal increase (Chart 2).
B34: Active Remittance Service Providers | C34: 3 | D34: 3 | E34: 3
B38: Contact Information
B39: Phone: 345-244-1606
B41: Website: www.cima.ky
B43: Email: ContactBanking@cima.ky | H43: Did You Know?
B44: Prepared by: Financial Stability and Statistics Division | H44: The Cayman Islands Remittance Reports do not include remittances by commercial retail banks.
B47: Updated: March 2023
A51: Cayman's Islands Remittances US$ - Actual Amounts
B56: Period | H56: Total Outflows | L56: Total Inflows | O56: Net Remittances
B57: 2017 Q1 | H57: 51063541 | L57: 1686177 | O57: =L57-H57 -> -49377364
B58: 2017 Q2 | H58: 53560617 | L58: 1888627 | O58: =L58-H58 -> -51671990
B59: 2017 Q3 | H59: 54917641 | L59: 2090949.8 | O59: =L59-H59 -> -52826691
B60: 2017 Q4 | H60: 58181911 | L60: 2102330 | O60: =L60-H60 -> -56079581
B61: Total 2017 | H61: 199340814 | K61: =SUM(L57:M60) -> 7768083.8 | O61: =SUM(O57:P60) -> -2.0995563e+08
B63: Period | H63: Total Outflows | L63: Total Inflows | O63: Net Remittances
B64: 2018 Q1 | H64: 55760931 | L64: 1849902.7 | O64: =L64-H64 -> -53911029
B65: 2018 Q2 | H65: 58872612 | L65: 2032796.4 | O65: =L65-H65 -> -56839816
B66: 2018 Q3 | H66: 58958566 | L66: 2058064 | O66: =L66-H66 -> -56900502
B67: 2018 Q4 | H67: 61240575 | L67: 2103778 | O67: =L67-H67 -> -59136797
B68: Total 2018 | H68: =SUM(H64:I67) -> 2.3483268e+08 | K68: =SUM(K64:M67) -> 8044541.1 | O68: =L68-H68 -> -2.3483268e+08
B70: Period | H70: Total Outflows | L70: Total Inflows | O70: Net Remittances
B71: 2019 Q1 | H71: 62312409 | L71: 1915939.4 | O71: =L71-H71 -> -60396470
B72: 2019 Q2 | H72: 64550584 | L72: 2063041 | O72: =L72-H72 -> -62487543
B73: 2019 Q3 | H73: 64626957 | L73: 2147193 | O73: =L73-H73 -> -62479764
B74: 2019 Q4 | H74: 72470062 | L74: 1998148 | O74: =L74-H74 -> -70471914
B75: Total 2019 | H75: =SUM(H71:I74) -> 2.6396001e+08 | K75: =SUM(K71:M74) -> 8124321.4 | O75: =SUM(O71:P74) -> -2.5583569e+08
O76: =L76-H76 -> 0
B77: Period | H77: Total Outflows | L77: Total Inflows | O77: Net Remittances
B78: 2020 Q1 | H78: 63587882 | L78: 1716641 | O78: =L78-H78 -> -61871241
B79: 2020 Q2 | H79: 37945479 | L79: 1174158.7 | O79: =L79-H79 -> -36771321
B80: 2020 Q3 | H80: 86016515 | L80: 1653916.6 | O80: =L80-H80 -> -84362598
B81: 2020 Q4 | H81: 74115932 | L81: 1828326.8 | O81: =L81-H81 -> -72287605
B82: Total 2020 | H82: =SUM(H78:I81) -> 2.6166581e+08 | K82: =SUM(K78:M81) -> 6373043.1 | O82: =SUM(O78:P81) -> -2.5529276e+08
B84: Period | H84: Total Outflows | L84: Total Inflows | O84: Net Remittances
B85: 2021 Q1 | H85: 67638561 | L85: 1994160.6 | O85: =L85-H85 -> -65644401
B86: 2021 Q2 | H86: 68174853 | L86: 2215105.9 | O86: =L86-H86 -> -65959747
B87: 2021 Q3 | H87: 66974215 | L87: 2472709.6 | O87: =L87-H87 -> -64501506
B88: 2021 Q4 | H88: 75367864 | L88: 2675231.7 | O88: =L88-H88 -> -72692632
B89: Total 2021 | H89: =SUM(H85:I88) -> 2.7815549e+08 | K89: =SUM(K85:M88) -> 9357207.9 | O89: =SUM(O85:P88) -> -2.6879829e+08
B91: Period | H91: Total Outflows | L91: Total Inflows | O91: Net Remittances
B92: 2022 Q1 | H92: 68950387 | L92: 2335170.5 | O92: =L92-H92 -> -66615216
B93: 2022 Q2 | H93: 75828211 | L93: 2381724.9 | O93: =L93-H93 -> -73446486
B94: 2022 Q3 | H94: 63113020 | L94: 2605187 | O94: =L94-H94 -> -60507833
B95: 2022 Q4 | H95: 82206783 | L95: 2650456.6 | O95: =L95-H95 -> -79556326
B96: Total 2022 | H96: =SUM(H92:I95) -> 2.900984e+08 | K96: =SUM(K92:M95) -> 9972539 | O96: =SUM(O92:P95) -> -2.8012586e+08
B99: * aggregated information does not include one reporting entity.
B100: Source: Money Service Providers (MSP's) licensed by Cayman Islands Monetary Authority (CIMA).
B101: Updated - March 2023
A105: Cayman's Islands Remittances Number of Transactions by Country and Value (in US$) For 5 Largest Countries by Number of Transactions
B111: OUTFLOWS
B112: Number of Transactions (more than) > CI$500
B113: COUNTRY | H113: Year 2020 Q4 | L113: Year 2021 Q4 | O113: Year 2022 Q4
B114: JAMAICA | H114: ='Tri-Year Comparison'!V7 -> 18067 | L114: ='Tri-Year Comparison'!W7 -> 19282 | O114: ='Tri-Year Comparison'!X7 -> 20810
B115: PHILIPPINES | H115: ='Tri-Year Comparison'!V9 -> 6070 | L115: ='Tri-Year Comparison'!W9 -> 6411 | O115: ='Tri-Year Comparison'!X9 -> 6807
B116: HONDURAS | H116: ='Tri-Year Comparison'!V8 -> 1638 | L116: ='Tri-Year Comparison'!W8 -> 1781 | O116: ='Tri-Year Comparison'!X8 -> 1742
B117: UNITED STATES | H117: ='Tri-Year Comparison'!V17 -> 1575 | L117: ='Tri-Year Comparison'!W17 -> 1587 | O117: ='Tri-Year Comparison'!X17 -> 1569
B118: DOMINICAN REPUBLIC | H118: ='Tri-Year Comparison'!V10 -> 653 | L118: ='Tri-Year Comparison'!W10 -> 657 | O118: ='Tri-Year Comparison'!X10 -> 794
B120: OUTFLOWS
B121: Number of Transactions (less than) < CI$500
B122: COUNTRY | H122: Year 2020 Q4 | L122: Year 2021 Q4 | O122: Year 2022 Q4
B123: JAMAICA | H123: ='Tri-Year Comparison'!V37 -> 119945 | L123: ='Tri-Year Comparison'!W37 -> 115690 | O123: ='Tri-Year Comparison'!X37 -> 125312
B124: PHILIPPINES | H124: ='Tri-Year Comparison'!V39 -> 18077 | L124: ='Tri-Year Comparison'!W39 -> 19051 | O124: ='Tri-Year Comparison'!X39 -> 20581
B125: HONDURAS | H125: ='Tri-Year Comparison'!V38 -> 15423 | L125: ='Tri-Year Comparison'!W38 -> 14948 | O125: ='Tri-Year Comparison'!X38 -> 14854
B126: UNITED STATES | H126: ='Tri-Year Comparison'!V47 -> 6648 | L126: ='Tri-Year Comparison'!W47 -> 5913 | O126: ='Tri-Year Comparison'!X47 -> 6202
B127: NICARAGUA | H127: ='Tri-Year Comparison'!V41 -> 5230 | L127: ='Tri-Year Comparison'!W41 -> 5461 | O127: ='Tri-Year Comparison'!X41 -> 6296
B129: INFLOWS
B130: REMITTANCE INFLOWS BY COUNTRY and VALUE (Actual Amounts)
B131: COUNTRY | H131: Year 2020 Q3 | L131: Year 2021 Q3 | O131: Year 2022 Q3
B132: UNITED STATES | H132: ='Tri-Year Comparison'!AF21 -> 1001397 | L132: ='Tri-Year Comparison'!AG21 -> 1432107.9 | O132: ='Tri-Year Comparison'!AH21 -> 1459870.9
B133: UNITED KINGDOM | H133: ='Tri-Year Comparison'!AF20 -> 208283.26 | L133: ='Tri-Year Comparison'!AG20 -> 177326.34 | O133: ='Tri-Year Comparison'!AH20 -> 145538.19
B134: JAMAICA | H134: ='Tri-Year Comparison'!AF11 -> 154287.11 | L134: ='Tri-Year Comparison'!AG11 -> 338587.85 | O134: ='Tri-Year Comparison'!AH11 -> 425086.06
B135: CANADA | H135: ='Tri-Year Comparison'!AF22 -> 119887.47 | L135: ='Tri-Year Comparison'!AG22 -> 154687.94 | O135: ='Tri-Year Comparison'!AH22 -> 145289.35
B136: HONDURAS | H136: ='Tri-Year Comparison'!AF12 -> 9106.48 | L136: ='Tri-Year Comparison'!AG12 -> 27857.77 | O136: ='Tri-Year Comparison'!AH12 -> 34948.291
B138: INFLOWS
B139: Total Transactions per Quarter
B140: Year | H140: Year 2020 Q4 | L140: Year 2021 Q4 | O140: Year 2022 Q4
B141: Number of Transactions | H141: ='Tri-Year Comparison'!AF6 -> 5401 | L141: ='Tri-Year Comparison'!AG6 -> 6923 | O141: ='Tri-Year Comparison'!AH6 -> 6636
B143: Source: Money Service Providers (MSP's) licensed by Cayman Islands Monetary Authority (CIMA).
B144: Updated - March 2023
A151: REMITTANCE OUTFLOWS BY COUNTRY AND BY COUNTRY BY PERCENTAGE (US$ - Actual Amounts)
...

Sheet Calculations
A1: =((Bulletin!M8-Bulletin!K8)/Bulletin!K8)*100% -> 0.090740517 | B1: =(A1*-1) -> -0.090740517 | D1: Outflow D %
A3: =Bulletin!M8-Bulletin!K8 -> 6838919 | D3: Outflow D amount
A6: =((Bulletin!M7-Bulletin!K7)/Bulletin!K7)*100% -> -0.0092609394 | B6: =(A6*-1) -> 0.0092609394 | D6: Inflow D %
A8: =Bulletin!M7-Bulletin!K7 -> -24775.159 | D8: Inflow D amount
A11: =((Bulletin!M10-Bulletin!K10)/Bulletin!K10)*100% -> 0.094420767 | D11: Net D %
B14: Chart 1: Share of Remittance Outflows to Source Countries 2022Q4
A15: JA | B15: ='Tri-Year Comparison'!D36 -> 0.61028959
A16: PH | B16: ='Tri-Year Comparison'!D38 -> 0.15954287
A17: HN | B17: ='Tri-Year Comparison'!D37 -> 0.068606779
A18: US | B18: ='Tri-Year Comparison'!D46 -> 0.042556458
A19: Other | B19: =SUM('Tri-Year Comparison'!D39:D45,'Tri-Year Comparison'!D47:D59) -> 0.1190043
B20: =SUM(B15:B19) -> 1
D21: 2018Q1 | E21: 2018Q2 | F21: 2018Q3 | G21: 2018Q4 | H21: 2019Q1 | I21: 2019Q2 | J21: 2019Q3 | K21: 2019Q4 | L21: 2020Q1 | M21: 2020Q2 | N21: 2020Q3 | O21: 2020Q4 | P21: 2021Q1 | Q21: 2021Q2 | R21: 2021Q3 | S21: 2021Q4 | T21: 2022Q1 | U21: 2022Q2 | V21: 2022Q3 | W21: 2022Q4
A22: =SUM(B15:B18) -> 0.8809957 | C22: JA | D22: =OUTFLOWS!M36-OUTFLOWS!K36 -> -0.029927741 | E22: =OUTFLOWS!N36-OUTFLOWS!M36 -> 0.0077999224 | F22: =OUTFLOWS!O36-OUTFLOWS!N36 -> 0.0091108297 | G22: =OUTFLOWS!P36-OUTFLOWS!O36 -> -0.027447118 | H22: =OUTFLOWS!R36-OUTFLOWS!P36 -> 0.0092366799 | I22: =OUTFLOWS!S36-OUTFLOWS!R36 -> 0.0039458782 | J22: =OUTFLOWS!T36-OUTFLOWS!S36 -> 0.0043212738 | K22: =OUTFLOWS!U36-OUTFLOWS!T36 -> 0.013578661 | L22: =OUTFLOWS!W36-OUTFLOWS!U36 -> -0.019805412 | M22: =OUTFLOWS!X36-OUTFLOWS!W36 -> 0.066703556 | N22: =OUTFLOWS!Y36-OUTFLOWS!X36 -> -0.0023841925 | O22: =OUTFLOWS!Z36-OUTFLOWS!Y36 -> -0.033615196 | P22: =OUTFLOWS!AB36-OUTFLOWS!Z36 -> -0.0049714396 | Q22: =OUTFLOWS!AC36-OUTFLOWS!AB36 -> 0.00036454226 | R22: =OUTFLOWS!AD36-OUTFLOWS!AC36 -> -0.0073350589 | S22: =OUTFLOWS!AE36-OUTFLOWS!AD36 -> 0.020196064 | T22: =OUTFLOWS!AG36-OUTFLOWS!AE36 -> -0.0065399046 | U22: =OUTFLOWS!AH36-OUTFLOWS!AG36 -> 0.003610813 | V22: =OUTFLOWS!AI36-OUTFLOWS!AH36 -> -0.078032686 | W22: =OUTFLOWS!AJ36-OUTFLOWS!AI36 -> 0.087599703
A23: =100%-A22 -> 0.1190043 | C23: PH | D23: =OUTFLOWS!M38-OUTFLOWS!K38 -> 0.017951798 | E23: =OUTFLOWS!N38-OUTFLOWS!M38 -> -0.0046142571 | F23: =OUTFLOWS!O38-OUTFLOWS!N38 -> -0.0045740989 | G23: =OUTFLOWS!P38-OUTFLOWS!O38 -> 0.012324806 | H23: =OUTFLOWS!R38-OUTFLOWS!P38 -> 0.00013650503 | I23: =OUTFLOWS!S38-OUTFLOWS!R38 -> 0.00040607795 | J23: =OUTFLOWS!T38-OUTFLOWS!S38 -> -0.00047635472 | K23: =OUTFLOWS!U38-OUTFLOWS!T38 -> -0.0054170748 | L23: =OUTFLOWS!W38-OUTFLOWS!U38 -> 0.016301455 | M23: =OUTFLOWS!X38-OUTFLOWS!W38 -> -0.027039253 | N23: =OUTFLOWS!Y38-OUTFLOWS!X38 -> -0.0070933655 | O23: =OUTFLOWS!Z38-OUTFLOWS!Y38 -> 0.0085933067 | P23: =OUTFLOWS!AB38-OUTFLOWS!Z38 -> -0.0071495065 | Q23: =OUTFLOWS!AC38-OUTFLOWS!AB38 -> 0.019343593 | R23: =OUTFLOWS!AD38-OUTFLOWS!AC38 -> 0.00043354089 | S23: =OUTFLOWS!AE38-OUTFLOWS!AD38 -> -0.010340891 | T23: =OUTFLOWS!AG38-OUTFLOWS!AE38 -> 0.0097818371 | U23: =OUTFLOWS!AH37-OUTFLOWS!AG37 -> 0.0023361088 | V23: =OUTFLOWS!AI37-OUTFLOWS!AH37 -> 0.0076404372 | W23: =OUTFLOWS!AJ37-OUTFLOWS!AI37 -> -0.0118256
C24: HN | D24: =OUTFLOWS!M37-OUTFLOWS!K37 -> 0.0019268368 | E24: =OUTFLOWS!N37-OUTFLOWS!M37 -> 0.00092155439 | F24: =OUTFLOWS!O37-OUTFLOWS!N37 -> 0.00025598504 | G24: =OUTFLOWS!P37-OUTFLOWS!O37 -> 0.00039419845 | H24: =OUTFLOWS!R37-OUTFLOWS!P37 -> -0.0034934256 | I24: =OUTFLOWS!S37-OUTFLOWS!R37 -> -0.00077983043 | J24: =OUTFLOWS!T37-OUTFLOWS!S37 -> 0.0014846432 | K24: =OUTFLOWS!U37-OUTFLOWS!T37 -> -0.0025194596 | L24: =OUTFLOWS!W37-OUTFLOWS!U37 -> -1.5095509e-05 | M24: =OUTFLOWS!X37-OUTFLOWS!W37 -> -0.0031526835 | N24: =OUTFLOWS!Y37-OUTFLOWS!X37 -> 0.0022526212 | O24: =OUTFLOWS!Z37-OUTFLOWS!Y37 -> 0.0046273266 | P24: =OUTFLOWS!AB37-OUTFLOWS!Z37 -> -0.011475998 | Q24: =OUTFLOWS!AC37-OUTFLOWS!AB37 -> 0.017345171 | R24: =OUTFLOWS!AD37-OUTFLOWS!AC37 -> 0.00038813355 | S24: =OUTFLOWS!AE37-OUTFLOWS!AD37 -> -0.0053527151 | T24: =OUTFLOWS!AG37-OUTFLOWS!AE37 -> -0.0019815629 | U24: =OUTFLOWS!AH38-OUTFLOWS!AG38 -> -0.0059533297 | V24: =OUTFLOWS!AI38-OUTFLOWS!AH38 -> 0.036771525 | W24: =OUTFLOWS!AJ38-OUTFLOWS!AI38 -> -0.041629538
C25: US | D25: =OUTFLOWS!M46-OUTFLOWS!K46 -> -0.0042773252 | E25: =OUTFLOWS!N46-OUTFLOWS!M46 -> 0.0010750189 | F25: =OUTFLOWS!O46-OUTFLOWS!N46 -> 0.0029375529 | G25: =OUTFLOWS!P46-OUTFLOWS!O46 -> 0.00090468845 | H25: =OUTFLOWS!R46-OUTFLOWS!P46 -> -0.0076074636 | I25: =OUTFLOWS!S46-OUTFLOWS!R46 -> 0.0011181467 | J25: =OUTFLOWS!T46-OUTFLOWS!S46 -> 0.0061437358 | K25: =OUTFLOWS!U46-OUTFLOWS!T46 -> -0.004680927 | L25: =OUTFLOWS!W46-OUTFLOWS!U46 -> -0.0062615444 | M25: =OUTFLOWS!X46-OUTFLOWS!W46 -> -0.0090881201 | N25: =OUTFLOWS!Y46-OUTFLOWS!X46 -> 0.0054073253 | O25: =OUTFLOWS!Z46-OUTFLOWS!Y46 -> 0.0097264697 | P25: =OUTFLOWS!AB46-OUTFLOWS!Z46 -> -0.0077873666 | Q25: =OUTFLOWS!AC46-OUTFLOWS!AB46 -> 0.0017487168 | R25: =OUTFLOWS!AD46-OUTFLOWS!AC46 -> 0.0036158109 | S25: =OUTFLOWS!AE46-OUTFLOWS!AD46 -> -0.0002042958 | T25: =OUTFLOWS!AG46-OUTFLOWS!AE46 -> -0.0052046079 | U25: =OUTFLOWS!AH39-OUTFLOWS!AG39 -> -0.00062219966 | V25: =OUTFLOWS!AI39-OUTFLOWS!AH39 -> 0.0030146759 | W25: =OUTFLOWS!AJ39-OUTFLOWS!AI39 -> -0.0036151745
A26: =SUM(B29:B32) -> 0.82090934
A27: =100%-A26 -> 0.17909066
B28: Chart 2: Share of Remittance Inflows from Source Countries 2022Q4 | L28: 2020Q1 | M28: 2020Q2 | N28: 2020Q3 | O28: 2020Q4 | P28: 2021Q1 | Q28: 2021Q2 | R28: 2021Q3 | S28: 2021Q4 | T28: 2022Q1 | U28: 2022Q2 | V28: 2022Q3 | W28: 2022Q4
A29: JA | B29: ='Tri-Year Comparison'!N36 -> 0.1603822 | L29: =INFLOWS!W32-INFLOWS!U32 -> -281506.44 | M29: =INFLOWS!X32-INFLOWS!W32 -> -542482.7 | N29: =INFLOWS!Y32-INFLOWS!X32 -> 479757.9 | O29: =INFLOWS!Z32-INFLOWS!Y32 -> 174410.15 | P29: =INFLOWS!AB32-INFLOWS!Z32 -> 165833.8 | Q29: =INFLOWS!AC32-INFLOWS!AB32 -> 220945.39 | R29: =INFLOWS!AD32-INFLOWS!AC32 -> 257603.7 | S29: =INFLOWS!AE32-INFLOWS!AD32 -> 202522.08 | T29: =INFLOWS!AG32-INFLOWS!AE32 -> -340061.19 | U29: =INFLOWS!AH32-INFLOWS!AG32 -> 46554.32 | V29: =INFLOWS!AI32-INFLOWS!AH32 -> 223462.2 | W29: =INFLOWS!AJ32-INFLOWS!AI32 -> 45269.511
A30: UK | B30: ='Tri-Year Comparison'!N45 -> 0.054910612
A31: US | B31: ='Tri-Year Comparison'!N46 -> 0.5507998
A32: CA | B32: ='Tri-Year Comparison'!N47 -> 0.054816727
A33: Other | B33: =SUM('Tri-Year Comparison'!N37:N44,'Tri-Year Comparison'!N48:N59) -> 0.17909066
B34: =SUM(B29:B33) -> 1
D35: 2018Q1 | E35: 2018Q2 | F35: 2018Q3 | G35: 2018Q4 | H35: 2019Q1 | I35: 2019Q2 | J35: 2019Q3 | K35: 2019Q4 | L35: 2020Q1 | M35: 2020Q2 | N35: 2020Q3 | O35: 2020Q4 | P35: 2021Q1 | Q35: 2021Q2 | R35: 2021Q3 | S35: 2021Q4 | T35: 2022Q1 | U35: 2022Q2 | V35: 2022Q3 | W35: 2022Q4
A36: JA | B36: ='Tri-Year Comparison'!N36 -> 0.1603822 | C36: JA | D36: =INFLOWS!M36-INFLOWS!K36 -> 0.009325361 | E36: =INFLOWS!N36-INFLOWS!M36 -> 0.0087316848 | F36: =INFLOWS!O36-INFLOWS!N36 -> -0.019634282 | G36: =INFLOWS!P36-INFLOWS!O36 -> 0.015138087 | H36: =INFLOWS!R36-INFLOWS!P36 -> 0.016147352 | I36: =INFLOWS!S36-INFLOWS!R36 -> -0.035261694 | J36: =INFLOWS!T36-INFLOWS!S36 -> 0.0072666941 | K36: =INFLOWS!U36-INFLOWS!T36 -> -0.032498493 | L36: =INFLOWS!W36-INFLOWS!U36 -> 0.0095074178 | M36: =INFLOWS!X36-INFLOWS!W36 -> -0.023124526 | N36: =INFLOWS!Y36-INFLOWS!X36 -> 0.023448844 | O36: =INFLOWS!Z36-INFLOWS!Y36 -> -0.013223272 | P36: =INFLOWS!AB36-INFLOWS!Z36 -> 0.013066508 | Q36: =INFLOWS!AC36-INFLOWS!AB36 -> 0.020336479 | R36: =INFLOWS!AD36-INFLOWS!AC36 -> 0.0082280706 | S36: =INFLOWS!AE36-INFLOWS!AD36 -> 0.00054582183 | T36: =INFLOWS!AG36-INFLOWS!AE36 -> 0.011340423 | U36: =INFLOWS!AH36-INFLOWS!AG36 -> 0.0084181078 | V36: =INFLOWS!AI36-INFLOWS!AH36 -> -0.0040377887 | W36: =INFLOWS!AJ36-INFLOWS!AI36 -> 0.018097526
A37: UK | B37: ='Tri-Year Comparison'!N45 -> 0.054910612 | C37: UK | D37: =INFLOWS!M45-INFLOWS!K45 -> -0.023593826 | E37: =INFLOWS!N45-INFLOWS!M45 -> 0.0079309356 | F37: =INFLOWS!O45-INFLOWS!N45 -> 0.0068262127 | G37: =INFLOWS!P45-INFLOWS!O45 -> 0.0060934875 | H37: =INFLOWS!R45-INFLOWS!P45 -> -0.015434066 | I37: =INFLOWS!S45-INFLOWS!R45 -> 0.00056873492 | J37: =INFLOWS!T45-INFLOWS!S45 -> -0.0036704348 | K37: =INFLOWS!U45-INFLOWS!T45 -> -0.0002646185 | L37: =INFLOWS!W45-INFLOWS!U45 -> -0.0032538515 | M37: =INFLOWS!X45-INFLOWS!W45 -> 0.019225674 | N37: =INFLOWS!Y45-INFLOWS!X45 -> -0.0095794144 | O37: =INFLOWS!Z45-INFLOWS!Y45 -> 0.054006864 | P37: =INFLOWS!AB45-INFLOWS!Z45 -> -0.038112534 | Q37: =INFLOWS!AC45-INFLOWS!AB45 -> -0.019402207 | R37: =INFLOWS!AD45-INFLOWS!AC45 -> 0.042125366 | S37: =INFLOWS!AE45-INFLOWS!AD45 -> -0.032246297 | T37: =INFLOWS!AG45-INFLOWS!AE45 -> 0.012256081 | U37: =INFLOWS!AH45-INFLOWS!AG45 -> -0.0067559325 | V37: =INFLOWS!AI45-INFLOWS!AH45 -> -0.0111362 | W37: =INFLOWS!AJ45-INFLOWS!AI45 -> -0.005737815
A38: US | B38: ='Tri-Year Comparison'!N46 -> 0.5507998 | C38: US | D38: =INFLOWS!M46-INFLOWS!K46 -> -0.01594723 | E38: =INFLOWS!N46-INFLOWS!M46 -> 0.030638337 | F38: =INFLOWS!O46-INFLOWS!N46 -> -0.0076635707 | G38: =INFLOWS!P46-INFLOWS!O46 -> -0.016906005 | H38: =INFLOWS!R46-INFLOWS!P46 -> -0.00039921283 | I38: =INFLOWS!S46-INFLOWS!R46 -> -0.0044564943 | J38: =INFLOWS!T46-INFLOWS!S46 -> -0.021446884 | K38: =INFLOWS!U46-INFLOWS!T46 -> 0.013896308 | L38: =INFLOWS!W46-INFLOWS!U46 -> -0.0056518604 | M38: =INFLOWS!X46-INFLOWS!W46 -> 0.14621996 | N38: =INFLOWS!Y46-INFLOWS!X46 -> -0.062687934 | O38: =INFLOWS!Z46-INFLOWS!Y46 -> 0.0056456701 | P38: =INFLOWS!AB46-INFLOWS!Z46 -> 0.021423832 | Q38: =INFLOWS!AC46-INFLOWS!AB46 -> -0.015502023 | R38: =INFLOWS!AD46-INFLOWS!AC46 -> -0.03934367 | S38: =INFLOWS!AE46-INFLOWS!AD46 -> 0.021030643 | T38: =INFLOWS!AG46-INFLOWS!AE46 -> -0.083749729 | U38: =INFLOWS!AH46-INFLOWS!AG46 -> 0.096342658 | V38: =INFLOWS!AI46-INFLOWS!AH46 -> 0.023441452 | W38: =INFLOWS!AJ46-INFLOWS!AI46 -> -0.020555656
A39: CA | B39: ='Tri-Year Comparison'!N47 -> 0.054816727 | C39: CA | D39: =INFLOWS!M47-INFLOWS!K47 -> -0.0025697971 | E39: =INFLOWS!N47-INFLOWS!M47 -> 0.003688122 | F39: =INFLOWS!O47-INFLOWS!N47 -> 0.017647524 | G39: =INFLOWS!P47-INFLOWS!O47 -> -0.014293912 | H39: =INFLOWS!R47-INFLOWS!P47 -> 0.0030402446 | I39: =INFLOWS!S47-INFLOWS!R47 -> 0.0048046746 | J39: =INFLOWS!T47-INFLOWS!S47 -> -0.0031647152 | K39: =INFLOWS!U47-INFLOWS!T47 -> -0.0067427025 | L39: =INFLOWS!W47-INFLOWS!U47 -> 0.0063625764 | M39: =INFLOWS!X47-INFLOWS!W47 -> 0.0039680548 | N39: =INFLOWS!Y47-INFLOWS!X47 -> -0.0097223684 | O39: =INFLOWS!Z47-INFLOWS!Y47 -> 0.0080393756 | P39: =INFLOWS!AB47-INFLOWS!Z47 -> 0.015745777 | Q39: =INFLOWS!AC47-INFLOWS!AB47 -> -0.025284447 | R39: =INFLOWS!AD47-INFLOWS!AC47 -> 0.0069897194 | S39: =INFLOWS!AE47-INFLOWS!AD47 -> -0.0052010248 | T39: =INFLOWS!AG47-INFLOWS!AE47 -> 0.011804982 | U39: =INFLOWS!AH47-INFLOWS!AG47 -> -0.011001472 | V39: =INFLOWS!AI47-INFLOWS!AH47 -> -0.010087446 | W39: =INFLOWS!AJ47-INFLOWS!AI47 -> 0.0062784048
A46: Did You Know? Alt
A47: The Cayman Islands Remittance Reports do not include remittances by commercial retail banks.

Sheet OUTFLOWS
B2: CAYMAN ISLANDS REMITTANCE REPORT - MONEY SERVICE PROVIDERS (REMITTANCE COMPANIES)
B3: (Workers' remittances transmitted by the remittance companies licensed as Money Service Providers)
B6: REMITTANCE OUTFLOWS BY COUNTRY (US$ - Actual Amounts)
B7: COUNTRY | C7: Year 2012 | D7: Year 2013 | E7: Year 2014* | F7: Year 2015 | G7: Year 2016 | H7: 2017Q1 | I7: 2017Q2 | J7: 2017Q3 | K7: 2017Q4 | L7: Year 2017 | M7: 2018Q1 | N7: 2018Q2 | O7: 2018Q3 | P7: 2018Q4 | Q7: Year 2018 | R7: 2019Q1 | S7: 2019Q2 | T7: 2019Q3 | U7: 2019Q4 | V7: Year 2019 | W7: 2020Q1 | X7: 2020Q2 | Y7: 2020Q3 | Z7: 2020Q4 | AA7: Year 2020 | AB7: 2021Q1 | AC7: 2021Q2 | AD7: 2021Q3 | AE7: 2021Q4 | AF7: Year 2021 | AG7: 2022Q1 | AH7: 2022Q2 | AI7: 2022Q3 | AJ7: 2022Q4 | AK7: Year 2022 | AL7: Diff 22Q4/22Q3 | AM7: Diff 22Q4/22Q3
B8: JAMAICA | C8: 1.155401e+08 | D8: 111335609 | E8: 1.1043333e+08 | F8: 101580069 | G8: 1.1893607e+08 | H8: 29724607 | I8: 31176252 | J8: 32443671 | K8: 34553097 | L8: =SUM(H8:K8) -> 1.2789763e+08 | M8: 31446526 | N8: 33660569 | O8: 34246875 | P8: 33891533 | Q8: =SUM(M8:P8) -> 1.332455e+08 | R8: 35060263 | S8: 36574288 | T8: 36896832 | U8: 42358664 | V8: =SUM(R8:U8) -> 1.5089005e+08 | W8: 35907618 | X8: 23958660 | Y8: 54105485 | Z8: 44128445 | AA8: =SUM(W8:Z8) -> 1.5810021e+08 | AB8: 39935573 | AC8: 40277066 | AD8: 39076481 | AE8: 45495936 | AF8: =SUM(AB8:AE8) -> 1.6478506e+08 | AG8: 41171087 | AH8: 45551718 | AI8: 32988537 | AJ8: 50169944 | AK8: =SUM(AG8:AJ8) -> 1.6988129e+08 | AL8: =AJ8-AI8 -> 17181406 | AM8: =AL8/AI8 -> 0.52082959
B9: HONDURAS | C9: 11732907 | D9: 11274557 | E9: 12503598 | F9: 12766569 | G9: 14164776 | H9: 3777657 | I9: 3855303 | J9: 3862458.6 | K9: 4051214.2 | L9: =SUM(H9:K9) -> 15546633 | M9: 3990083.3 | N9: 4267000.1 | O9: 4288322.4 | P9: 4478444.2 | Q9: =SUM(M9:P9) -> 17023850 | R9: 4339142.2 | S9: 4444659.7 | T9: 4545866.4 | U9: 4914965.7 | V9: =SUM(R9:U9) -> 18244634 | W9: 4311606.1 | X9: 2453283.6 | Y9: 5754976 | Z9: 5301720.5 | AA9: =SUM(W9:Z9) -> 17821586 | AB9: 4062156 | AC9: 5276868.4 | AD9: 5209931.6 | AE9: 5459451.8 | AF9: =SUM(AB9:AE9) -> 20008408 | AG9: 4857956.9 | AH9: 5519682.7 | AI9: 5076330.4 | AJ9: 5639942.6 | AK9: =SUM(AG9:AJ9) -> 21093913 | AL9: =AJ9-AI9 -> 563612.22 | AM9: =AL9/AI9 -> 0.11102749
B10: PHILIPPINES | C10: 21213753 | D10: 21059125 | E10: 23703964 | F10: 24411490 | G10: 29699447 | H10: 7845029 | I10: 8211099.7 | J10: 8219509.8 | K10: 8831205.3 | L10: =SUM(H10:K10) -> 33106844 | M10: 9464743.2 | N10: 9721260 | O10: 9465770.7 | P10: 10586924 | Q10: =SUM(M10:P10) -> 39238699 | R10: 10780723 | S10: 11194164 | T10: 11176623 | U10: 12140439 | V10: =SUM(R10:U10) -> 45291949 | W10: 11689027 | X10: 5949308.6 | Y10: 12876013 | Z10: 11731488 | AA10: =SUM(W10:Z10) -> 42245837 | AB10: 10222631 | AC10: 11622430 | AD10: 11446782 | AE10: 12101997 | AF10: =SUM(AB10:AE10) -> 45393841 | AG10: 11745989 | AH10: 12466225 | AI10: 12696599 | AJ10: 13115506 | AK10: =SUM(AG10:AJ10) -> 50024319 | AL10: =AJ10-AI10 -> 418907.92 | AM10: =AL10/AI10 -> 0.032993712
B11: DOMINICAN REPUBLIC | C11: 2912093.7 | D11: 3059811 | E11: 3411920.4 | F11: 2950035 | G11: 3948921.8 | H11: 1135092 | I11: 1249314.4 | J11: 1192289.8 | K11: 1189061.7 | L11: =SUM(H11:K11) -> 4765757.9 | M11: 1276520.1 | N11: 1307773 | O11: 1181727.4 | P11: 1307489.7 | Q11: =SUM(M11:P11) -> 5073510.2 | R11: 1259463.3 | S11: 1322303.7 | T11: 1332610.7 | U11: 1425061.4 | V11: =SUM(R11:U11) -> 5339439 | W11: 1198150.9 | X11: 569853.53 | Y11: 1501817.7 | Z11: 1426159.4 | AA11: =SUM(W11:Z11) -> 4695981.5 | AB11: 1281766.4 | AC11: 1332396.7 | AD11: 1385989 | AE11: 1438534 | AF11: =SUM(AB11:AE11) -> 5438686.1 | AG11: 1462971.1 | AH11: 1561722.7 | AI11: 1490111.8 | AJ11: 1643727.7 | AK11: =SUM(AG11:AJ11) -> 6158533.2 | AL11: =AJ11-AI11 -> 153615.92 | AM11: =AL11/AI11 -> 0.1030902
B12: NICARAGUA | C12: 2974568 | D12: 2963679 | E12: 2721282.6 | F12: 3488355 | G12: 3668711.1 | H12: 919834 | I12: 958104.52 | J12: 971692.71 | K12: 1007121.9 | L12: =SUM(H12:K12) -> 3856753.1 | M12: 1028677.6 | N12: 1106916.1 | O12: 1079440.4 | P12: 1172180.8 | Q12: =SUM(M12:P12) -> 4387214.9 | R12: 1259285.4 | S12: 1384629.9 | T12: 1256935.6 | U12: 1436912 | V12: =SUM(R12:U12) -> 5337763 | W12: 1410657.2 | X12: 865340.54 | Y12: 1902558.9 | Z12: 1843939.6 | AA12: =SUM(W12:Z12) -> 6022496.2 | AB12: 1609997.7 | AC12: 1544048.4 | AD12: 1555499.9 | AE12: 1721893.6 | AF12: =SUM(AB12:AE12) -> 6431439.6 | AG12: 1749933.3 | AH12: 1948344 | AI12: 1941916.3 | AJ12: 2032665.8 | AK12: =SUM(AG12:AJ12) -> 7672859.4 | AL12: =AJ12-AI12 -> 90749.523 | AM12: =AL12/AI12 -> 0.046731943
B13: COLOMBIA | C13: 3164000.6 | D13: 2810097 | E13: 2285949.9 | F13: 2168136 | G13: 2499760.4 | H13: 656551 | I13: 795588.08 | J13: 607416.94 | K13: 757057.2 | L13: =SUM(H13:K13) -> 2816613.2 | M13: 750800.77 | N13: 688426.86 | O13: 656999.11 | P13: 932152.64 | Q13: =SUM(M13:P13) -> 3028379.4 | R13: 897817.72 | S13: 761700.73 | T13: 693053.12 | U13: 770120.56 | V13: =SUM(R13:U13) -> 3122692.1 | W13: 819874.83 | X13: 436609.79 | Y13: 919352.39 | Z13: 925342.66 | AA13: =SUM(W13:Z13) -> 3101179.7 | AB13: 718740.19 | AC13: 718917.61 | AD13: 707831.23 | AE13: 751331.18 | AF13: =SUM(AB13:AE13) -> 2896820.2 | AG13: 712937.46 | AH13: 721989.14 | AI13: 793048.57 | AJ13: 819075.09 | AK13: =SUM(AG13:AJ13) -> 3047050.3 | AL13: =AJ13-AI13 -> 26026.524 | AM13: =AL13/AI13 -> 0.032818322
B14: GUYANA | C14: 1466033.1 | D14: 1306066 | E14: 1347637 | F14: 1205419 | G14: 1234747.8 | H14: 288754 | I14: 237393.07 | J14: 276619.2 | K14: 320803.47 | L14: =SUM(H14:K14) -> 1123569.7 | M14: 294381.65 | N14: 288666.87 | O14: 280579.91 | P14: 368274.04 | Q14: =SUM(M14:P14) -> 1231902.5 | R14: 323225.52 | S14: 317327.75 | T14: 298762.14 | U14: 451993.13 | V14: =SUM(R14:U14) -> 1391308.5 | W14: 411619.51 | X14: 302152.35 | Y14: 690887.69 | Z14: 610326.97 | AA14: =SUM(W14:Z14) -> 2014986.5 | AB14: 456244.95 | AC14: 500166.16 | AD14: 411797.87 | AE14: 568144.74 | AF14: =SUM(AB14:AE14) -> 1936353.7 | AG14: 527185.05 | AH14: 526287.67 | AI14: 407274.77 | AJ14: 506928.36 | AK14: =SUM(AG14:AJ14) -> 1967675.8 | AL14: =AJ14-AI14 -> 99653.587 | AM14: =AL14/AI14 -> 0.24468392
B15: TRINIDAD & TOBAGO | C15: 403418.61 | D15: 337061 | E15: 409522.26 | F15: 360343 | G15: 343443.55 | H15: 99967 | I15: 98713.49 | J15: 100148.69 | K15: 122665.11 | L15: =SUM(H15:K15) -> 421494.29 | M15: 80157.76 | N15: 76564.25 | O15: 75178.7 | P15: 66126.42 | Q15: =SUM(M15:P15) -> 298027.13 | R15: 59121.79 | S15: 74276.82 | T15: 51759.27 | U15: 74972.737 | V15: =SUM(R15:U15) -> 260130.62 | W15: 62736.61 | X15: 53080.64 | Y15: 91055.96 | Z15: 130994.29 | AA15: =SUM(W15:Z15) -> 337867.5 | AB15: 81989.82 | AC15: 95098.29 | AD15: 110792.83 | AE15: 95832.65 | AF15: =SUM(AB15:AE15) -> 383713.59 | AG15: 87444.62 | AH15: 109767.14 | AI15: 83652.363 | AJ15: 110145.35 | AK15: =SUM(AG15:AJ15) -> 391009.48 | AL15: =AJ15-AI15 -> 26492.991 | AM15: =AL15/AI15 -> 0.31670345
B16: INDIA | C16: 739411.04 | D16: 667954 | E16: 844199.04 | F16: 781922 | G16: 833414.41 | H16: 244545 | I16: 286253.99 | J16: 266803.7 | K16: 287515.1 | L16: =SUM(H16:K16) -> 1085117.8 | M16: 379233.29 | N16: 399724.38 | O16: 387874.68 | P16: 490389.33 | Q16: =SUM(M16:P16) -> 1657221.7 | R16: 566224.34 | S16: 532795.67 | T16: 493057.13 | U16: 570894.15 | V16: =SUM(R16:U16) -> 2162971.3 | W16: 501955.96 | X16: 235677.48 | Y16: 455015.28 | Z16: 437880.38 | AA16: =SUM(W16:Z16) -> 1630529.1 | AB16: 421013.73 | AC16: 320380.85 | AD16: 381765.18 | AE16: 382562.68 | AF16: =SUM(AB16:AE16) -> 1505722.4 | AG16: 412784.18 | AH16: 470616.12 | AI16: 425789.22 | AJ16: 419157.46 | AK16: =SUM(AG16:AJ16) -> 1728347 | AL16: =AJ16-AI16 -> -6631.7605 | AM16: =AL16/AI16 -> -0.015575219
B17: UNITED KINGDOM | C17: 686082.54 | D17: 691647 | E17: 885329.29 | F17: 817952 | G17: 884970.52 | H17: 260994 | I17: 294164.45 | J17: 257197.2 | K17: 274841.03 | L17: =SUM(H17:K17) -> 1087196.7 | M17: 223934.63 | N17: 278807.98 | O17: 286620.13 | P17: 292405.32 | Q17: =SUM(M17:P17) -> 1081768.1 | R17: 266124.47 | S17: 278727.09 | T17: 222183.48 | U17: 290948.45 | V17: =SUM(R17:U17) -> 1057983.5 | W17: 260884.54 | X17: 86746.54 | Y17: 246947.66 | Z17: 256283.77 | AA17: =SUM(W17:Z17) -> 850862.51 | AB17: 207028.42 | AC17: 253559.98 | AD17: 255151.97 | AE17: 249933.96 | AF17: =SUM(AB17:AE17) -> 965674.33 | AG17: 220390.46 | AH17: 286818.85 | AI17: 250097.78 | AJ17: 241357.81 | AK17: =SUM(AG17:AJ17) -> 998664.9 | AL17: =AJ17-AI17 -> -8739.9634 | AM17: =AL17/AI17 -> -0.034946186
B18: UNITED STATES | C18: 8611740.1 | D18: 8963575 | E18: 12267595 | F18: 9116535 | G18: 11086480 | H18: 2700211 | I18: 2878932.8 | J18: 3144374.5 | K18: 3106596.1 | L18: =SUM(H18:K18) -> 11830114 | M18: 2738821.4 | N18: 2954947.6 | O18: 3132455.7 | P18: 3309102 | Q18: =SUM(M18:P18) -> 12135327 | R18: 2892978.6 | S18: 3069067.4 | T18: 3469749.5 | U18: 3551610 | V18: =SUM(R18:U18) -> 12983406 | W18: 2718151.2 | X18: 1277180.2 | Y18: 3360288.7 | Z18: 3616271.4 | AA18: =SUM(W18:Z18) -> 10971892 | AB18: 2773500.6 | AC18: 2914709.6 | AD18: 3105544.4 | AE18: 3479354.2 | AF18: =SUM(AB18:AE18) -> 12273109 | AG18: 2824232 | AH18: 3175798.6 | AI18: 3308951.6 | AJ18: 3498429.5 | AK18: =SUM(AG18:AJ18) -> 12807412 | AL18: =AJ18-AI18 -> 189477.87 | AM18: =AL18/AI18 -> 0.057262207
B19: CANADA | C19: n/a | D19: 781327 | E19: 1001198.1 | F19: 898383 | G19: 1323991.7 | H19: 335545 | I19: 349210.28 | J19: 368021.92 | K19: 386750.14 | L19: =SUM(H19:K19) -> 1439527.3 | M19: 361493.3 | N19: 339838.41 | O19: 368049.84 | P19: 394715.47 | Q19: =SUM(M19:P19) -> 1464097 | R19: 368450.07 | S19: 396262.68 | T19: 396773.31 | U19: 436583.37 | V19: =SUM(R19:U19) -> 1598069.4 | W19: 426606.49 | X19: 138040.91 | Y19: 366314.76 | Z19: 420152.27 | AA19: =SUM(W19:Z19) -> 1351114.4 | AB19: 357406.35 | AC19: 341803.38 | AD19: 368274.26 | AE19: 446250.74 | AF19: =SUM(AB19:AE19) -> 1513734.7 | AG19: 396848.09 | AH19: 427601.9 | AI19: 417259.1 | AJ19: 473720.76 | AK19: =SUM(AG19:AJ19) -> 1715429.8 | AL19: =AJ19-AI19 -> 56461.66 | AM19: =AL19/AI19 -> 0.13531559
B20: COSTA RICA | C20: n/a | D20: 764645 | E20: 605744.21 | F20: 439428 | G20: 767536.53 | H20: 238412 | I20: 251137.02 | J20: 205271.41 | K20: 220095.22 | L20: =SUM(H20:K20) -> 914915.65 | M20: 219437.58 | N20: 245959.34 | O20: 271759.03 | P20: 305597.93 | Q20: =SUM(M20:P20) -> 1042753.9 | R20: 286206.58 | S20: 274529.93 | T20: 300519.88 | U20: 314579.15 | V20: =SUM(R20:U20) -> 1175835.5 | W20: 310627.83 | X20: 157609.18 | Y20: 337904.41 | Z20: 304465.75 | AA20: =SUM(W20:Z20) -> 1110607.2 | AB20: 253596.43 | AC20: 206525.34 | AD20: 224096.75 | AE20: 255311.82 | AF20: =SUM(AB20:AE20) -> 939530.34 | AG20: 217313.09 | AH20: 242454.28 | AI20: 240986.49 | AJ20: 275128.02 | AK20: =SUM(AG20:AJ20) -> 975881.88 | AL20: =AJ20-AI20 -> 34141.527 | AM20: =AL20/AI20 -> 0.14167403
B21: BARBADOS | C21: n/a | D21: 259571 | E21: 269967.32 | F21: 195544 | G21: 276592.26 | H21: 67576 | I21: 77490.85 | J21: 63260.06 | K21: 76772.1 | L21: =SUM(H21:K21) -> 285099.01 | M21: 69064.7 | N21: 77137.09 | O21: 66885.84 | P21: 83134.65 | Q21: =SUM(M21:P21) -> 296222.28 | R21: 83730.32 | S21: 92458.52 | T21: 98526.71 | U21: 103158.08 | V21: =SUM(R21:U21) -> 377873.63 | W21: 78719.45 | X21: 42026.67 | Y21: 79495.01 | Z21: 79527.63 | AA21: =SUM(W21:Z21) -> 279768.76 | AB21: 46690.93 | AC21: 75104.02 | AD21: 79841.29 | AE21: 81943.04 | AF21: =SUM(AB21:AE21) -> 283579.28 | AG21: 72177.03 | AH21: 64709.64 | AI21: 90777.132 | AJ21: 82056.55 | AK21: =SUM(AG21:AJ21) -> 309720.35 | AL21: =AJ21-AI21 -> -8720.5829 | AM21: =AL21/AI21 -> -0.096065856
B22: PANAMA | C22: n/a | D22: 321650 | E22: 291115.89 | F22: 209638 | G22: 287736.43 | H22: 60035 | I22: 102765.95 | J22: 76959.41 | K22: 127305.15 | L22: =SUM(H22:K22) -> 367065.51 | M22: 97826.22 | N22: 88654.04 | O22: 75553.85 | P22: 104999.93 | Q22: =SUM(M22:P22) -> 367034.04 | R22: 95861.38 | S22: 91945.47 | T22: 67204.88 | U22: 86587.695 | V22: =SUM(R22:U22) -> 341599.43 | W22: 56897.12 | X22: 33460.23 | Y22: 87101.58 | Z22: 64538.53 | AA22: =SUM(W22:Z22) -> 241997.46 | AB22: 61799.93 | AC22: 65525.17 | AD22: 54694.13 | AE22: 74901.76 | AF22: =SUM(AB22:AE22) -> 256920.99 | AG22: 68203.78 | AH22: 72476.37 | AI22: 87851.639 | AJ22: 75683.364 | AK22: =SUM(AG22:AJ22) -> 304215.15 | AL22: =AJ22-AI22 -> -12168.276 | AM22: =AL22/AI22 -> -0.13850937
B23: BELIZE | C23: n/a | D23: n/a | E23: n/a | F23: n/a | G23: n/a | H23: 102518 | I23: 124966.03 | J23: 136583.83 | K23: 134553.79 | L23: =SUM(H23:K23) -> 498621.65 | M23: 147780.26 | N23: 133917.7 | O23: 107040.85 | P23: 115726.13 | Q23: =SUM(M23:P23) -> 504464.94 | R23: 103587.85 | S23: 112566.6 | T23: 107935.93 | U23: 127733.27 | V23: =SUM(R23:U23) -> 451823.65 | W23: 123093.01 | X23: 69265.85 | Y23: 165730.97 | Z23: 156831.63 | AA23: =SUM(W23:Z23) -> 514921.46 | AB23: 115050.33 | AC23: 142058.87 | AD23: 134389.67 | AE23: 165855.25 | AF23: =SUM(AB23:AE23) -> 557354.12 | AG23: 132540.03 | AH23: 145241.27 | AI23: 145879.73 | AJ23: 173151.58 | AK23: =SUM(AG23:AJ23) -> 596812.62 | AL23: =AJ23-AI23 -> 27271.851 | AM23: =AL23/AI23 -> 0.1869475
B24: CHINA | C24: n/a | D24: n/a | E24: n/a | F24: n/a | G24: n/a | H24: 108885 | I24: 63973.11 | J24: 113323.16 | K24: 107418.65 | L24: =SUM(H24:K24) -> 393599.92 | M24: 72441.05 | N24: 123418.28 | O24: 73611.45 | P24: 87314.03 | Q24: =SUM(M24:P24) -> 356784.81 | R24: 79059.16 | S24: 75081.19 | T24: 65463.98 | U24: 51271.814 | V24: =SUM(R24:U24) -> 270876.14 | W24: 28308.7 | X24: 18222.98 | Y24: 62932.14 | Z24: 75132.12 | AA24: =SUM(W24:Z24) -> 184595.94 | AB24: 85219.65 | AC24: 47666.47 | AD24: 37278.04 | AE24: 46711.96 | AF24: =SUM(AB24:AE24) -> 216876.12 | AG24: 36887.4 | AH24: 24563.97 | AI24: 41219.94 | AJ24: 39682.58 | AK24: =SUM(AG24:AJ24) -> 142353.89 | AL24: =AJ24-AI24 -> -1537.36 | AM24: =AL24/AI24 -> -0.037296512
B25: CUBA | C25: n/a | D25: n/a | E25: n/a | F25: n/a | G25: n/a | H25: 289548 | I25: 340097.2 | J25: 312287.71 | K25: 352776.53 | L25: =SUM(H25:K25) -> 1294709.4 | M25: 409025.66 | N25: 401726.71 | O25: 413174.47 | P25: 472726.13 | Q25: =SUM(M25:P25) -> 1696653 | R25: 527102.36 | S25: 574959.45 | T25: 507692.95 | U25: 382222.12 | V25: =SUM(R25:U25) -> 1991976.9 | W25: 212174.12 | X25: 0 | Y25: 0 | Z25: 0 | AA25: =SUM(W25:Z25) -> 212174.12 | AB25: 0 | AC25: 0 | AD25: 0 | AE25: 0 | AF25: =SUM(AB25:AE25) -> 0 | AG25: 0 | AH25: 0 | AI25: 0 | AJ25: 0 | AK25: =SUM(AG25:AJ25) -> 0 | AL25: =AJ25-AI25 -> 0 | AM25: =AL25/AI25 -> #DIV/0!
B26: KENYA | C26: n/a | D26: n/a | E26: n/a | F26: n/a | G26: n/a | H26: 129979 | I26: 112038.22 | J26: 114309.19 | K26: 107358.01 | L26: =SUM(H26:K26) -> 463684.42 | M26: 125989.32 | N26: 152644.03 | O26: 133557.49 | P26: 122339.15 | Q26: =SUM(M26:P26) -> 534529.99 | R26: 192507.27 | S26: 177866.13 | T26: 147448.17 | U26: 172884.41 | V26: =SUM(R26:U26) -> 690705.98 | W26: 184622.4 | X26: 53636.25 | Y26: 125222.47 | Z26: 103774.7 | AA26: =SUM(W26:Z26) -> 467255.82 | AB26: 126145.91 | AC26: 110337.52 | AD26: 135616.14 | AE26: 153254.3 | AF26: =SUM(AB26:AE26) -> 525353.87 | AG26: 148522.78 | AH26: 175386.11 | AI26: 171974.01 | AJ26: 205916.79 | AK26: =SUM(AG26:AJ26) -> 701799.69 | AL26: =AJ26-AI26 -> 33942.787 | AM26: =AL26/AI26 -> 0.19737161
B27: MEXICO | C27: n/a | D27: n/a | E27: n/a | F27: n/a | G27: n/a | H27: 191433 | I27: 181750.97 | J27: 184839.54 | K27: 201146.34 | L27: =SUM(H27:K27) -> 759169.85 | M27: 186674.25 | N27: 211365.67 | O27: 166394.2 | P27: 231788.25 | Q27: =SUM(M27:P27) -> 796222.37 | R27: 304103.97 | S27: 232541.09 | T27: 167392.33 | U27: 180152.56 | V27: =SUM(R27:U27) -> 884189.95 | W27: 189774.36 | X27: 74388.34 | Y27: 194024.87 | Z27: 183537.31 | AA27: =SUM(W27:Z27) -> 641724.88 | AB27: 183931.92 | AC27: 174530.14 | AD27: 195319.27 | AE27: 223406.78 | AF27: =SUM(AB27:AE27) -> 777188.11 | AG27: 181106.76 | AH27: 184407.05 | AI27: 282742.72 | AJ27: 357101.59 | AK27: =SUM(AG27:AJ27) -> 1005358.1 | AL27: =AJ27-AI27 -> 74358.873 | AM27: =AL27/AI27 -> 0.26299129
B28: NEPAL | C28: n/a | D28: n/a | E28: n/a | F28: n/a | G28: n/a | H28: 191147 | I28: 153818.98 | J28: 146796.08 | K28: 216113.09 | L28: =SUM(H28:K28) -> 707875.15 | M28: 371067.46 | N28: 418973.87 | O28: 417869.6 | P28: 451580.74 | Q28: =SUM(M28:P28) -> 1659491.7 | R28: 515755.76 | S28: 489020.56 | T28: 456349.71 | U28: 442027.57 | V28: =SUM(R28:U28) -> 1903153.6 | W28: 539168.95 | X28: 229696.43 | Y28: 449339.2 | Z28: 378513.68 | AA28: =SUM(W28:Z28) -> 1596718.3 | AB28: 399038.68 | AC28: 396182.42 | AD28: 431076.65 | AE28: 374459.45 | AF28: =SUM(AB28:AE28) -> 1600757.2 | AG28: 382584.44 | AH28: 459687.48 | AI28: 388288.74 | AJ28: 431836.28 | AK28: =SUM(AG28:AJ28) -> 1662396.9 | AL28: =AJ28-AI28 -> 43547.535 | AM28: =AL28/AI28 -> 0.11215245
B29: PERU | C29: n/a | D29: n/a | E29: n/a | F29: n/a | G29: n/a | H29: 101454 | I29: 98018.54 | J29: 78166.01 | K29: 102311.84 | L29: =SUM(H29:K29) -> 379950.39 | M29: 121685.81 | N29: 120243.24 | O29: 141555.63 | P29: 121756.96 | Q29: =SUM(M29:P29) -> 505241.64 | R29: 141786.35 | S29: 27545.89 | T29: 26980.96 | U29: 20023.699 | V29: =SUM(R29:U29) -> 216336.9 | W29: 16786.2 | X29: 8807.09 | Y29: 22920.59 | Z29: 28361.28 | AA29: =SUM(W29:Z29) -> 76875.16 | AB29: 13845.29 | AC29: 9350.87 | AD29: 8500.59 | AE29: 7416.58 | AF29: =SUM(AB29:AE29) -> 39113.33 | AG29: 6975.4 | AH29: 7718.94 | AI29: 154364.54 | AJ29: 167472.61 | AK29: =SUM(AG29:AJ29) -> 336531.49 | AL29: =AJ29-AI29 -> 13108.077 | AM29: =AL29/AI29 -> 0.084916377
B30: ZIMBABWE | C30: n/a | D30: n/a | E30: n/a | F30: n/a | G30: n/a | H30: 68038 | I30: 42700.2 | J30: 44912.46 | K30: 50099.2 | L30: =SUM(H30:K30) -> 205749.86 | M30: 65876.51 | N30: 44743.21 | O30: 48196.6 | P30: 70657.4 | Q30: =SUM(M30:P30) -> 229473.72 | R30: 58651.74 | S30: 242792.63 | T30: 188990.3 | U30: 182364.61 | V30: =SUM(R30:U30) -> 672799.28 | W30: 234613.41 | X30: 64415.41 | Y30: 181900.33 | Z30: 226670.06 | AA30: =SUM(W30:Z30) -> 707599.21 | AB30: 171552.28 | AC30: 189415.02 | AD30: 197523.22 | AE30: 172657.83 | AF30: =SUM(AB30:AE30) -> 731148.35 | AG30: 202949.71 | AH30: 215522.38 | AI30: 136517.68 | AJ30: 177353.55 | AK30: =SUM(AG30:AJ30) -> 732343.32 | AL30: =AJ30-AI30 -> 40835.879 | AM30: =AL30/AI30 -> 0.29912521
B31: OTHER | C31: 9285102.7 | D31: 8038658 | E31: 6928838.1 | F31: 8156047 | G31: 9384210.6 | H31: 1525730 | I31: 1621529.8 | J31: 1730728.6 | K31: 1598032.3 | L31: =SUM(H31:K31) -> 6476020.6 | M31: 1838689.1 | N31: 1763334.6 | O31: 1593073.4 | P31: 1783216.6 | Q31: =SUM(M31:P31) -> 6978313.7 | R31: 1851236.8 | S31: 1809073.3 | T31: 1658246.2 | U31: 1983892.7 | V31: =SUM(R31:U31) -> 7302449 | W31: 1894139.8 | X31: 868016.89 | Y31: 2039230.3 | Z31: 1685575.3 | AA31: =SUM(W31:Z31) -> 6486962.3 | AB31: 4053641.8 | AC31: 1560710.9 | AD31: 1460038.1 | AE31: 1620721.8 | AF31: =SUM(AB31:AE31) -> 8695112.7 | AG31: 1331367.4 | AH31: 1469471.7 | AI31: 1492849.9 | AJ31: 1550799.4 | AK31: =SUM(AG31:AJ31) -> 5844488.4 | AL31: =AJ31-AI31 -> 57949.493 | AM31: =AL31/AI31 -> 0.03881803
B32: TOTALS | C32: =SUM(C8:C31) -> 1.7872921e+08 | D32: =SUM(D8:D31) -> 174635032 | E32: =SUM(E8:E31) -> 1.7991119e+08 | F32: =SUM(F8:F31) -> 169545865 | G32: =SUM(G8:G31) -> 1.9934081e+08 | H32: =SUM(H8:H31) -> 51063541 | I32: =SUM(I8:I31) -> 53560617 | J32: =SUM(J8:J31) -> 54917641 | ... AG32: =SUM(AG8:AG31) -> 68950387 | AH32: 75828211 | AI32: 63113020 | AJ32: 82206783 | AK32: =SUM(AK8:AK31) -> 2.900984e+08 | AL32: =AI32-AH32 -> -12715191 | AM32: =AL32/AH32 -> -0.16768417
B34: REMITTANCE OUTFLOWS BY COUNTRY BY PERCENTAGE (%)
B35: COUNTRY | C35: Year 2012 | D35: Year 2013 | E35: Year 2014* | F35: Year 2015 | G35: Year 2016 | H35: 2017Q1 | I35: 2017Q2 | J35: 2017Q3 | K35: 2017Q4 | L35: Year 2017 | M35: 2018Q1 | N35: 2018Q2 | O35: 2018Q3 | P35: 2018Q4 | Q35: Year 2018 | R35: 2019Q1 | S35: 2019Q2 | T35: 2019Q3 | U35: 2019Q4 | V35: Year 2019 | W35: 2020Q1 | X35: 2020Q2 | Y35: 2020Q3 | Z35: 2020Q4 | AA35: Year 2020 | AB35: 2021Q1 | AC35: 2021Q2 | AD35: 2021Q3 | AE35: 2021Q4 | AF35: Year 2021 | AG35: 2022Q1 | AH35: 2022Q2 | AI35: 2022Q3 | AJ35: 2022Q4 | AK35: Year 2022
B36: JAMAICA | C36: =C8/C$32 -> 0.64645337 | D36: =D8/D$32 -> 0.63753308 | E36: =E8/E$32 -> 0.61382136 | F36: =F8/F$32 -> 0.59913032 | G36: =G8/G$32 -> 0.59664687 | H36: =H8/H$32 -> 0.58211018 | I36: =I8/I$32 -> 0.58207418 | J36: =J8/J$32 -> 0.59076956 | ... AK36: =AK8/AK$32 -> 0.58559884
B37: HONDURAS | C37: =C9/C$32 -> 0.065646277 | D37: =D9/D$32 -> 0.064560683 | E37: =E9/E$32 -> 0.06949872 | F37: =F9/F$32 -> 0.075298616 | G37: =G9/G$32 -> 0.071058084 | H37: =H9/H$32 -> 0.073979535 | I37: =I9/I$32 -> 0.071980184 | J37: =J9/J$32 -> 0.070331837 | ... AK37: =AK9/AK$32 -> 0.072712957
B38: PHILIPPINES | C38: =C10/C$32 -> 0.11869214 | D38: =D10/D$32 -> 0.12058935 | E38: =E10/E$32 -> 0.13175369 | F38: =F10/F$32 -> 0.14398163 | G38: =G10/G$32 -> 0.14898829 | H38: =H10/H$32 -> 0.15363269 | I38: =I10/I$32 -> 0.1533048 | J38: =J10/J$32 -> 0.14966975 | ... AK38: =AK10/AK$32 -> 0.17243914
B39: DOMINICAN REPUBLIC | C39: =C11/C$32 -> 0.016293329 | D39: =D11/D$32 -> 0.017521175 | E39: =E11/E$32 -> 0.01896447 | F39: =F11/F$32 -> 0.017399628 | G39: =G11/G$32 -> 0.019809901 | H39: =H11/H$32 -> 0.022229011 | I39: =I11/I$32 -> 0.023325242 | J39: =J11/J$32 -> 0.021710507 | ... AK39: =AK11/AK$32 -> 0.021229118
B40: NICARAGUA | C40: =C12/C$32 -> 0.016642875 | D40: =D12/D$32 -> 0.016970702 | E40: =E12/E$32 -> 0.015125699 | F40: =F12/F$32 -> 0.020574698 | G40: =G12/G$32 -> 0.018404215 | H40: =H12/H$32 -> 0.018013518 | I40: =I12/I$32 -> 0.017888228 | J40: =J12/J$32 -> 0.017693635 | ... AK40: =AK12/AK$32 -> 0.026449161
B41: COLOMBIA | C41: =C13/C$32 -> 0.017702762 | D41: =D13/D$32 -> 0.016091256 | E41: =E13/E$32 -> 0.01270599 | F41: =F13/F$32 -> 0.012787903 | G41: =G13/G$32 -> 0.012540133 | H41: =H13/H$32 -> 0.01285753 | I41: =I13/I$32 -> 0.014853975 | J41: =J13/J$32 -> 0.011060507 | ... AK41: =AK13/AK$32 -> 0.010503506
B42: GUYANA | C42: =C14/C$32 -> 0.0082025377 | D42: =D14/D$32 -> 0.0074788316 | E42: =E14/E$32 -> 0.0074905678 | F42: =F14/F$32 -> 0.0071096927 | G42: =G14/G$32 -> 0.0061941547 | H42: =H14/H$32 -> 0.0056547978 | I42: =I14/I$32 -> 0.0044322318 | J42: =J14/J$32 -> 0.0050369826 | ... AK42: =AK14/AK$32 -> 0.0067827876
B43: TRINIDAD & TOBAGO | C43: =C15/C$32 -> 0.0022571499 | D43: =D15/D$32 -> 0.0019300881 | E43: =E15/E$32 -> 0.0022762467 | F43: =F15/F$32 -> 0.0021253423 | G43: =G15/G$32 -> 0.0017228963 | H43: =H15/H$32 -> 0.0019576982 | I43: =I15/I$32 -> 0.0018430238 | J43: =J15/J$32 -> 0.001823616 | ... AK43: =AK15/AK$32 -> 0.0013478512
B44: INDIA | C44: =C16/C$32 -> 0.0041370465 | D44: =D16/D$32 -> 0.0038248569 | E44: =E16/E$32 -> 0.0046923097 | F44: =F16/F$32 -> 0.0046118612 | G44: =G16/G$32 -> 0.0041808519 | H44: =H16/H$32 -> 0.0047890333 | I44: =I16/I$32 -> 0.0053444864 | J44: =J16/J$32 -> 0.0048582513 | ... AK44: =AK16/AK$32 -> 0.0059577956
B45: UNITED KINGDOM | C45: =C17/C$32 -> 0.0038386705 | D45: =D17/D$32 -> 0.0039605284 | E45: =E17/E$32 -> 0.0049209238 | F45: =F17/F$32 -> 0.0048243701 | G45: =G17/G$32 -> 0.0044394848 | H45: =H17/H$32 -> 0.0051111614 | I45: =I17/I$32 -> 0.0054921781 | J45: =J17/J$32 -> 0.0046833257 | ... AK45: =AK17/AK$32 -> 0.003442504
B46: UNITED STATES | C46: =C18/C$32 -> 0.048183171 | D46: =D18/D$32 -> 0.051327474 | E46: =E18/E$32 -> 0.068186948 | F46: =F18/F$32 -> 0.053770318 | G46: =G18/G$32 -> 0.055615708 | H46: =H18/H$32 -> 0.052879431 | I46: =I18/I$32 -> 0.053750927 | J46: =J18/J$32 -> 0.057256184 | ... AK46: =AK18/AK$32 -> 0.044148508
B47: CANADA | C47: n/a | D47: =D19/D$32 -> 0.0044740565 | E47: =E19/E$32 -> 0.0055649573 | F47: =F19/F$32 -> 0.0052987609 | G47: =G19/G$32 -> 0.0066418497 | H47: =H19/H$32 -> 0.0065711267 | I47: =I19/I$32 -> 0.0065199077 | J47: =J19/J$32 -> 0.0067013425 | K47: =K19/K$32 -> 0.0066472574 | ... AK47: =AK19/AK$32 -> 0.0059132689
B48: COSTA RICA | C48: n/a | D48: =D20/D$32 -> 0.0043785316 | E48: =E20/E$32 -> 0.0033669067 | F48: =F20/F$32 -> 0.0025917943 | G48: =G20/G$32 -> 0.0038503732 | H48: =H20/H$32 -> 0.0046689281 | I48: =I20/I$32 -> 0.0046888373 | J48: =J20/J$32 -> 0.0037378046 | K48: =K20/K$32 -> 0.0037828806 | ... AK48: =AK20/AK$32 -> 0.0033639685
B49: BARBADOS | C49: n/a | D49: =D21/D$32 -> 0.0014863627 | E49: =E21/E$32 -> 0.0015005588 | F49: =F21/F$32 -> 0.0011533398 | G49: =G21/G$32 -> 0.0013875345 | H49: =H21/H$32 -> 0.0013233708 | I49: =I21/I$32 -> 0.0014467879 | J49: =J21/J$32 -> 0.0011519078 | K49: =K21/K$32 -> 0.0013195184 | ... AK49: =AK21/AK$32 -> 0.0010676389
B50: PANAMA | C50: n/a | D50: =D22/D$32 -> 0.0018418412 | E50: =E22/E$32 -> 0.0016181088 | F50: =F22/F$32 -> 0.0012364678 | G50: =G22/G$32 -> 0.0014434396 | H50: =H22/H$32 -> 0.0011756921 | I50: =I22/I$32 -> 0.001918685 | J50: =J22/J$32 -> 0.0014013604 | K50: =K22/K$32 -> 0.0021880538 | ... AK50: =AK22/AK$32 -> 0.0010486619
B51: BELIZE | C51: n/a | D51: n/a | E51: n/a | F51: n/a | G51: n/a | H51: =H23/H$32 -> 0.0020076555 | I51: =I23/I$32 -> 0.0023331701 | J51: =J23/J$32 -> 0.0024870666 | K51: =K23/K$32 -> 0.0023126396 | L51: =L23/L$32 -> 0.0022901578 | M51: =M23/M$32 -> 0.0026502473 | N51: =N23/N$32 -> 0.0022747029 | O51: =O23/O$32 -> 0.0018155267 | ... AK51: =AK23/AK$32 -> 0.0020572765
B52: CHINA | C52: n/a | D52: n/a | E52: n/a | F52: n/a | G52: n/a | H52: =H24/H$32 -> 0.0021323433 | I52: =I24/I$32 -> 0.0011944058 | J52: =J24/J$32 -> 0.0020635111 | K52: =K24/K$32 -> 0.0018462551 | L52: =L24/L$32 -> 0.0018077954 | M52: =M24/M$32 -> 0.0012991363 | N52: =N24/N$32 -> 0.0020963615 | O52: =O24/O$32 -> 0.0012485285 | ... AK52: =AK24/AK$32 -> 0.00049070898
B53: CUBA | C53: n/a | D53: n/a | E53: n/a | F53: n/a | G53: n/a | H53: =H25/H$32 -> 0.0056703471 | I53: =I25/I$32 -> 0.0063497625 | J53: =J25/J$32 -> 0.0056864735 | K53: =K25/K$32 -> 0.006063337 | L53: =L25/L$32 -> 0.0059465707 | M53: =M25/M$32 -> 0.0073353448 | N53: =N25/N$32 -> 0.0068236604 | O53: =O25/O$32 -> 0.0070078785 | ... AK53: =AK25/AK$32 -> 0
B54: KENYA | C54: n/a | D54: n/a | E54: n/a | F54: n/a | G54: n/a | H54: =H26/H$32 -> 0.0025454365 | I54: =I26/I$32 -> 0.0020918023 | J54: =J26/J$32 -> 0.0020814658 | K54: =K26/K$32 -> 0.0018452129 | L54: =L26/L$32 -> 0.0021296919 | M54: =M26/M$32 -> 0.0022594551 | N54: =N26/N$32 -> 0.0025927851 | O54: =O26/O$32 -> 0.0022652771 | ... AK54: =AK26/AK$32 -> 0.0024191781
B55: MEXICO | C55: n/a | D55: n/a | E55: n/a | F55: n/a | G55: n/a | H55: =H27/H$32 -> 0.0037489175 | I55: =I27/I$32 -> 0.0033933696 | J55: =J27/J$32 -> 0.0033657589 | K55: =K27/K$32 -> 0.0034571972 | L55: =L27/L$32 -> 0.0034868497 | M55: =M27/M$32 -> 0.0033477606 | N55: =N27/N$32 -> 0.0035902207 | O55: =O27/O$32 -> 0.0028222226 | ... AK55: =AK27/AK$32 -> 0.0034655762
B56: NEPAL | C56: n/a | D56: n/a | E56: n/a | F56: n/a | G56: n/a | H56: =H28/H$32 -> 0.0037433166 | I56: =I28/I$32 -> 0.0028718672 | J56: =J28/J$32 -> 0.0026730223 | K56: =K28/K$32 -> 0.0037144378 | L56: =L28/L$32 -> 0.0032512543 | M56: =M28/M$32 -> 0.0066546137 | N56: =N28/N$32 -> 0.0071166176 | O56: =O28/O$32 -> 0.0070875129 | ... AK56: =AK28/AK$32 -> 0.0057304588
B57: PERU | C57: n/a | D57: n/a | E57: n/a | F57: n/a | G57: n/a | H57: =H29/H$32 -> 0.0019868187 | I57: =I29/I$32 -> 0.0018300487 | J57: =J29/J$32 -> 0.0014233315 | K57: =K29/K$32 -> 0.001758482 | L57: =L29/L$32 -> 0.0017451034 | M57: =M29/M$32 -> 0.0021822772 | N57: =N29/N$32 -> 0.0020424309 | O57: =O29/O$32 -> 0.0024009341 | ... AK57: =AK29/AK$32 -> 0.0011600598
B58: ZIMBABWE | C58: n/a | D58: n/a | E58: n/a | F58: n/a | G58: n/a | H58: =H30/H$32 -> 0.0013324184 | I58: =I30/I$32 -> 0.00079723129 | J58: =J30/J$32 -> 0.00081781481 | K58: =K30/K$32 -> 0.00086107863 | L58: =L30/L$32 -> 0.00094500438 | M58: =M30/M$32 -> 0.0011814098 | N58: =N30/N$32 -> 0.00076000042 | O58: =O30/O$32 -> 0.00081746561 | ... AK58: =AK30/AK$32 -> 0.0025244652
B59: OTHER | C59: =C31/C$32 -> 0.051950673 | D59: =D31/D$32 -> 0.046031188 | E59: =E31/E$32 -> 0.038512546 | F59: =F31/F$32 -> 0.048105255 | G59: =G31/G$32 -> 0.047076213 | H59: =H31/H$32 -> 0.029879048 | I59: =I31/I$32 -> 0.030274665 | J59: =J31/J$32 -> 0.031514984 | ... AK59: =AK31/AK$32 -> 0.020146572
B60: TOTALS | C60: =SUM(C36:C59) -> 1 | D60: =SUM(D36:D59) -> 1 | E60: =SUM(E36:E59) -> 1 | F60: =SUM(F36:F59) -> 1 | G60: =SUM(G36:G59) -> 1 | H60: =SUM(H36:H59) -> 1 | I60: =SUM(I36:I59) -> 1 | J60: =SUM(J36:J59) -> 1 | ... AK60: =SUM(AK36:AK59) -> 1
B61: REMITTANCE INFLOWS BY COUNTRY (US$ - Actual Amounts)
B62: * aggregated information does not include one reporting entity.
B63: Source: Money Service Providers (MSP's) licensed by Cayman Islands Monetary Authority (CIMA).
B64: n/a - data not collected
B65: Updated - December 2022

Sheet INFLOWS
B2: CAYMAN ISLANDS REMITTANCE REPORT - MONEY SERVICE PROVIDERS (REMITTANCE COMPANIES)
B3: (Workers' remittances transmitted by the remittance companies licensed as Money Service Providers)
B6: REMITTANCE INFLOWS BY COUNTRY (US$ - Actual Amounts)
B7: COUNTRY | C7: Year 2012 | D7: Year 2013 | E7: Year 2014* | F7: Year 2015 | G7: Year 2016 | H7: 2017Q1 | I7: 2017Q2 | J7: 2017Q3 | K7: 2017Q4 | L7: Year 2017 | M7: 2018Q1 | N7: 2018Q2 | O7: 2018Q3 | P7: 2018Q4 | Q7: Year 2018 | R7: 2019Q1 | S7: 2019Q2 | T7: 2019Q3 | U7: 2019Q4 | V7: Year 2019 | W7: 2020Q1 | X7: 2020Q2 | Y7: 2020Q3 | Z7: 2020Q4 | AA7: Year 2020 | AB7: 2021Q1 | AC7: 2021Q2 | AD7: 2021Q3 | AE7: 2021Q4 | AF7: Year 2021 | AG7: 2022Q1 | AH7: 2022Q2 | AI7: 2022Q3 | AJ7: 2022Q4 | AK7: Year 2022 | AL7: Diff 22Q4/22Q3 | AM7: Diff 22Q4/22Q3
B8: JAMAICA | C8: 1259921.9 | D8: 1196086 | E8: 951576.59 | F8: 825503 | G8: 748501.54 | H8: 230833 | I8: 221084.36 | J8: 229708.15 | K8: 249260.4 | L8: =SUM(H8:K8) -> 930885.91 | M8: 245028.03 | N8: 277722.52 | O8: 240766 | P8: 277961.1 | Q8: =SUM(M8:P8) -> 1041477.7 | R8: 284080.32 | S8: 233145.06 | T8: 258258.06 | U8: 175394.6 | V8: =SUM(R8:U8) -> 950878.04 | W8: 167005.19 | X8: 87077.35 | Y8: 161439.34 | Z8: 154287.11 | AA8: =SUM(W8:Z8) -> 569808.99 | AB8: 194338.05 | AC8: 260917.42 | AD8: 311606.2 | AE8: 338587.85 | AF8: =SUM(AB8:AE8) -> 1105449.5 | AG8: 322030.19 | AH8: 348499.85 | AI8: 370678.19 | AJ8: 425086.06 | AK8: =SUM(AG8:AJ8) -> 1466294.3 | AL8: =AJ8-AI8 -> 54407.864 | AM8: =AL8/AI8 -> 0.14677924
B9: HONDURAS | C9: 122361.13 | D9: 129767 | E9: 105945.43 | F9: 85266 | G9: 112708.68 | H9: 27469 | I9: 21409.35 | J9: 25656.21 | K9: 30752.61 | L9: =SUM(H9:K9) -> 105287.17 | M9: 32478.68 | N9: 21200.77 | O9: 26840 | P9: 31622.81 | Q9: =SUM(M9:P9) -> 112142.26 | R9: 27809.8 | S9: 25895.83 | T9: 26781.24 | U9: 35088.549 | V9: =SUM(R9:U9) -> 115575.42 | W9: 29188.23 | X9: 4834.63 | Y9: 13147.03 | Z9: 9106.48 | AA9: =SUM(W9:Z9) -> 56276.37 | AB9: 19735.3 | AC9: 33746.34 | AD9: 32921.97 | AE9: 27857.77 | AF9: =SUM(AB9:AE9) -> 114261.38 | AG9: 22325.46 | AH9: 22043.65 | AI9: 20473.769 | AJ9: 34948.291 | AK9: =SUM(AG9:AJ9) -> 99791.17 | AL9: =AJ9-AI9 -> 14474.523 | AM9: =AL9/AI9 -> 0.70697892
B10: PHILIPPINES | C10: 75978.34 | D10: 81026 | E10: 79820.17 | F10: 92836 | G10: 136908.88 | H10: 37152 | I10: 22184.32 | J10: 30648.41 | K10: 36748.93 | L10: =SUM(H10:K10) -> 126733.66 | M10: 33065.73 | N10: 41536.72 | O10: 32465 | P10: 44586.75 | Q10: =SUM(M10:P10) -> 151654.2 | R10: 46080.99 | S10: 49111.03 | T10: 70772.22 | U10: 83640.9 | V10: =SUM(R10:U10) -> 249605.14 | W10: 57007.12 | X10: 4638.79 | Y10: 9809.87 | Z10: 23032.7 | AA10: =SUM(W10:Z10) -> 94488.48 | AB10: 24869.13 | AC10: 26961.27 | AD10: 43064.51 | AE10: 62152.7 | AF10: =SUM(AB10:AE10) -> 157047.61 | AG10: 74619.45 | AH10: 59637.12 | AI10: 78739.555 | AJ10: 72764.22 | AK10: =SUM(AG10:AJ10) -> 285760.35 | AL10: =AJ10-AI10 -> -5975.3349 | AM10: =AL10/AI10 -> -0.075887333
B11: DOMINICAN REPUBLIC | C11: 41199.06 | D11: 50279 | E11: 40527.19 | F11: 52365 | G11: 79712.75 | H11: 6744 | I11: 3066.29 | J11: 11581.84 | K11: 6238.52 | L11: =SUM(H11:K11) -> 27630.65 | M11: 5194.01 | N11: 3841.32 | O11: 6145 | P11: 10189.87 | Q11: =SUM(M11:P11) -> 25370.2 | R11: 7476.03 | S11: 14083.76 | T11: 14322.68 | U11: 11419.14 | V11: =SUM(R11:U11) -> 47301.61 | W11: 9994.41 | X11: 0 | Y11: 3456.18 | Z11: 1569.45 | AA11: =SUM(W11:Z11) -> 15020.04 | AB11: 4737.91 | AC11: 6315.41 | AD11: 6756.38 | AE11: 5657.93 | AF11: =SUM(AB11:AE11) -> 23467.63 | AG11: 18979.6 | AH11: 10762.88 | AI11: 13580.27 | AJ11: 8640.04 | AK11: =SUM(AG11:AJ11) -> 51962.79 | AL11: =AJ11-AI11 -> -4940.23 | AM11: =AL11/AI11 -> -0.36377995
B12: NICARAGUA | C12: 32879.6 | D12: 36665 | E12: 24351.23 | F12: 25789 | G12: 17128.45 | H12: 2795 | I12: 3344.72 | J12: 4087.84 | K12: 4297.48 | L12: =SUM(H12:K12) -> 14525.04 | M12: 6119.18 | N12: 2296.26 | O12: 9029 | P12: 7730.47 | Q12: =SUM(M12:P12) -> 25174.91 | R12: 10902.06 | S12: 8016.01 | T12: 19878.16 | U12: 15670.7 | V12: =SUM(R12:U12) -> 54466.93 | W12: 3183.15 | X12: 91.42 | Y12: 606.69 | Z12: 2871.2 | AA12: =SUM(W12:Z12) -> 6752.46 | AB12: 3507 | AC12: 6228.22 | AD12: 6084.13 | AE12: 4437.18 | AF12: =SUM(AB12:AE12) -> 20256.53 | AG12: 3924.61 | AH12: 10556.25 | AI12: 9429.47 | AJ12: 12805.32 | AK12: =SUM(AG12:AJ12) -> 36715.65 | AL12: =AJ12-AI12 -> 3375.85 | AM12: =AL12/AI12 -> 0.35801058
B13: COLOMBIA | C13: 73121.85 | D13: 97018 | E13: 75808.27 | F13: 28687 | G13: 21959.23 | H13: 5676 | I13: 19805.05 | J13: 7576.71 | K13: 12743.72 | L13: =SUM(H13:K13) -> 45801.48 | M13: 20923.72 | N13: 9886.9 | O13: 20307 | P13: 13969.14 | Q13: =SUM(M13:P13) -> 65086.76 | R13: 4660.84 | S13: 4542.15 | T13: 6123.54 | U13: 8881.09 | V13: =SUM(R13:U13) -> 24207.62 | W13: 4257.13 | X13: 2700.1 | Y13: 9133.2 | Z13: 17045.34 | AA13: =SUM(W13:Z13) -> 33135.77 | AB13: 5957.74 | AC13: 11874.73 | AD13: 10882.55 | AE13: 11109.99 | AF13: =SUM(AB13:AE13) -> 39825.01 | AG13: 5502.54 | AH13: 6203.4 | AI13: 8121.32 | AJ13: 3841.96 | AK13: =SUM(AG13:AJ13) -> 23669.22 | AL13: =AJ13-AI13 -> -4279.36 | AM13: =AL13/AI13 -> -0.52692912
B14: GUYANA | C14: 11718.72 | D14: 14391 | E14: 16574.13 | F14: 7917 | G14: 20872.99 | H14: 8908 | I14: 3253.61 | J14: 5076.96 | K14: 12693.18 | L14: =SUM(H14:K14) -> 29931.75 | M14: 3936.3 | N14: 4425.03 | O14: 3624 | P14: 2805.41 | Q14: =SUM(M14:P14) -> 14790.74 | R14: 3158.33 | S14: 11281.45 | T14: 3425.21 | U14: 2742.6538 | V14: =SUM(R14:U14) -> 20607.644 | W14: 3197.64 | X14: 592.22 | Y14: 1149.38 | Z14: 2174.9 | AA14: =SUM(W14:Z14) -> 7114.14 | AB14: 2004.67 | AC14: 1490.96 | AD14: 791.91 | AE14: 3098.59 | AF14: =SUM(AB14:AE14) -> 7386.13 | AG14: 1864.6 | AH14: 6284.97 | AI14: 2539.7339 | AJ14: 3679.6529 | AK14: =SUM(AG14:AJ14) -> 14368.957 | AL14: =AJ14-AI14 -> 1139.919 | AM14: =AL14/AI14 -> 0.44883404
B15: TRINIDAD & TOBAGO | C15: 38308.16 | D15: 69897 | E15: 79862.4 | F15: 83189 | G15: 48797 | H15: 13416 | I15: 20915.27 | J15: 14862.3 | K15: 25256.51 | L15: =SUM(H15:K15) -> 74450.08 | M15: 20260.83 | N15: 17741.3 | O15: 17354 | P15: 20932.38 | Q15: =SUM(M15:P15) -> 76288.51 | R15: 11279.47 | S15: 27056.15 | T15: 30304.08 | U15: 13689.179 | V15: =SUM(R15:U15) -> 82328.879 | W15: 20238.94 | X15: 3912.56 | Y15: 8744.92 | Z15: 6705.96 | AA15: =SUM(W15:Z15) -> 39602.38 | AB15: 5915.39 | AC15: 15199.6 | AD15: 18043.45 | AE15: 13549.47 | AF15: =SUM(AB15:AE15) -> 52707.91 | AG15: 13301.54 | AH15: 19127.94 | AI15: 17557.407 | AJ15: 12913.46 | AK15: =SUM(AG15:AJ15) -> 62900.347 | AL15: =AJ15-AI15 -> -4643.9466 | AM15: =AL15/AI15 -> -0.26450071
B16: INDIA | C16: 0 | D16: 0 | E16: 0 | F16: 0 | G16: 0 | H16: 0 | I16: 0 | J16: 0 | K16: 0 | L16: =SUM(H16:K16) -> 0 | M16: 0 | N16: 0 | O16: 0 | P16: 0 | Q16: =SUM(M16:P16) -> 0 | R16: 0 | S16: 0 | T16: 0 | U16: 0 | V16: =SUM(R16:U16) -> 0 | W16: 0 | X16: 0 | Y16: 0 | Z16: 0 | AA16: =SUM(W16:Z16) -> 0 | AB16: 0 | AC16: 0 | AD16: 0 | AE16: 0 | AF16: =SUM(AB16:AE16) -> 0 | AG16: 1687.08 | AH16: 0 | AI16: 0 | AJ16: 0 | AK16: =SUM(AG16:AJ16) -> 1687.08 | AL16: =AJ16-AI16 -> 0 | AM16: =AL16/AI16 -> #DIV/0!
B17: UNITED KINGDOM | C17: 463742.96 | D17: 667883 | E17: 547945.44 | F17: 448071 | G17: 506693.82 | H17: 105298 | I17: 110998.57 | J17: 148668.78 | K17: 157810.25 | L17: =SUM(H17:K17) -> 522775.6 | M17: 98614.6 | N17: 120751.28 | O17: 136301 | P17: 152147.88 | Q17: =SUM(M17:P17) -> 507814.76 | R17: 108992.42 | S17: 118533.94 | T17: 115487.82 | U17: 106942.63 | V17: =SUM(R17:U17) -> 449956.81 | W17: 86290.46 | X17: 81595.46 | Y17: 99091.58 | Z17: 208283.26 | AA17: =SUM(W17:Z17) -> 475260.76 | AB17: 151172.56 | AC17: 124943.96 | AD17: 243638 | AE17: 177326.34 | AF17: =SUM(AB17:AE17) -> 697080.86 | AG17: 183405.6 | AH17: 170971.23 | AI17: 158000.5 | AJ17: 145538.19 | AK17: =SUM(AG17:AJ17) -> 657915.52 | AL17: =AJ17-AI17 -> -12462.305 | AM17: =AL17/AI17 -> -0.078875098
B18: UNITED STATES | C18: 2415708.4 | D18: 3077253 | E18: 3021535.9 | F18: 3252040 | G18: 3311119 | H18: 861903 | I18: 938460.03 | J18: 1029044.9 | K18: 1022723 | L18: =SUM(H18:K18) -> 3852130.9 | M18: 901495.41 | N18: 1018760.9 | O18: 1015652 | P18: 1002645.3 | Q18: =SUM(M18:P18) -> 3938553.6 | R18: 912357.92 | S18: 973212.81 | T18: 966859.66 | U18: 927513.16 | V18: =SUM(R18:U18) -> 3779943.6 | W18: 787139.47 | X18: 710077.82 | Y18: 896532.98 | Z18: 1001397 | AA18: =SUM(W18:Z18) -> 3395147.3 | AB18: 1134948.8 | AC18: 1226358.2 | AD18: 1271690.9 | AE18: 1432107.9 | AF18: =SUM(AB18:AE18) -> 5065105.8 | AG18: 1054496.1 | AH18: 1304980.4 | AI18: 1488487.8 | AJ18: 1459870.9 | AK18: =SUM(AG18:AJ18) -> 5307835.2 | AL18: =AJ18-AI18 -> -28616.892 | AM18: =AL18/AI18 -> -0.019225479
B19: CANADA | C19: n/a | D19: 687246 | E19: 689183.28 | F19: 517747 | G19: 459812.48 | H19: 122252 | I19: 152390.51 | J19: 124816.5 | K19: 114608.85 | L19: =SUM(H19:K19) -> 514067.86 | M19: 99524.16 | N19: 113091.54 | O19: 150817 | P19: 124095.75 | Q19: =SUM(M19:P19) -> 487528.45 | R19: 118840.62 | S19: 137877.18 | T19: 136705.95 | U19: 113743.76 | V19: =SUM(R19:U19) -> 507167.51 | W19: 108641.38 | X19: 78968.31 | Y19: 95154.55 | Z19: 119887.47 | AA19: =SUM(W19:Z19) -> 402651.71 | AB19: 162161.17 | AC19: 124120.28 | AD19: 155838.28 | AE19: 154687.94 | AF19: =SUM(AB19:AE19) -> 596807.67 | AG19: 162591.48 | AH19: 139630.45 | AI19: 126451.41 | AJ19: 145289.35 | AK19: =SUM(AG19:AJ19) -> 573962.69 | AL19: =AJ19-AI19 -> 18837.945 | AM19: =AL19/AI19 -> 0.14897379
B20: COSTA RICA | C20: n/a | D20: 19887 | E20: 26075.33 | F20: 17578 | G20: 9562.86 | H20: 446 | I20: 6608.6 | J20: 2627.77 | K20: 7582.92 | L20: =SUM(H20:K20) -> 17265.29 | M20: 5029.08 | N20: 1842.65 | O20: 5668 | P20: 3163.31 | Q20: =SUM(M20:P20) -> 15703.04 | R20: 2663.27 | S20: 3518.93 | T20: 3030 | U20: 4715.76 | V20: =SUM(R20:U20) -> 13927.96 | W20: 0 | X20: 4119.11 | Y20: 585.24 | Z20: 100 | AA20: =SUM(W20:Z20) -> 4804.35 | AB20: 7592.49 | AC20: 3261.49 | AD20: 1523.73 | AE20: 498.96 | AF20: =SUM(AB20:AE20) -> 12876.67 | AG20: 3574.44 | AH20: 1927.53 | AI20: 4994.02 | AJ20: 1918.56 | AK20: =SUM(AG20:AJ20) -> 12414.55 | AL20: =AJ20-AI20 -> -3075.46 | AM20: =AL20/AI20 -> -0.61582853
B21: BARBADOS | C21: n/a | D21: 52558 | E21: 27565.28 | F21: 18039 | G21: 17155.75 | H21: 7000 | I21: 3384.29 | J21: 11870.38 | K21: 15761.25 | L21: =SUM(H21:K21) -> 38015.92 | M21: 3348.97 | N21: 2867.72 | O21: 2141 | P21: 4795.65 | Q21: =SUM(M21:P21) -> 13153.34 | R21: 6826.37 | S21: 7265.73 | T21: 6264.64 | U21: 5265.31 | V21: =SUM(R21:U21) -> 25622.05 | W21: 8212.3 | X21: 0 | Y21: 3384.57 | Z21: 1063.82 | AA21: =SUM(W21:Z21) -> 12660.69 | AB21: 13155.77 | AC21: 4878.59 | AD21: 3855.22 | AE21: 7144.19 | AF21: =SUM(AB21:AE21) -> 29033.77 | AG21: 10638.13 | AH21: 1960.56 | AI21: 15420.02 | AJ21: 13370.612 | AK21: =SUM(AG21:AJ21) -> 41389.322 | AL21: =AJ21-AI21 -> -2049.4078 | AM21: =AL21/AI21 -> -0.13290565
B22: PANAMA | C22: n/a | D22: 12376 | E22: 17127.01 | F22: 9892 | G22: 13079.78 | H22: 5407 | I22: 4816.05 | J22: 3751.05 | K22: 6391.08 | L22: =SUM(H22:K22) -> 20365.18 | M22: 10764.11 | N22: 6789.64 | O22: 9798 | P22: 5929.95 | Q22: =SUM(M22:P22) -> 33281.7 | R22: 9668.47 | S22: 11676.47 | T22: 15046.33 | U22: 4463.3262 | V22: =SUM(R22:U22) -> 40854.596 | W22: 9068.59 | X22: 4783.55 | Y22: 4595.13 | Z22: 2714.4 | AA22: =SUM(W22:Z22) -> 21161.67 | AB22: 578.5 | AC22: 242.36 | AD22: 1495.62 | AE22: 2009.55 | AF22: =SUM(AB22:AE22) -> 4326.03 | AG22: 8131.82 | AH22: 1249.6 | AI22: 291 | AJ22: 1839.2793 | AK22: =SUM(AG22:AJ22) -> 11511.699 | AL22: =AJ22-AI22 -> 1548.2793 | AM22: =AL22/AI22 -> 5.3205473
B23: BELIZE | C23: n/a | D23: n/a | E23: n/a | F23: n/a | G23: n/a | H23: 2495 | I23: 1139.28 | J23: 4294.94 | K23: 918.05 | L23: =SUM(H23:K23) -> 8847.27 | M23: 2019.91 | N23: 1571.27 | O23: 2903 | P23: 1276.3 | Q23: =SUM(M23:P23) -> 7770.48 | R23: 3539.51 | S23: 1783.51 | T23: 1649.99 | U23: 4280.45 | V23: =SUM(R23:U23) -> 11253.46 | W23: 4188.87 | X23: 659.22 | Y23: 1257.86 | Z23: 2034.94 | AA23: =SUM(W23:Z23) -> 8140.89 | AB23: 918.08 | AC23: 2631.37 | AD23: 672.91 | AE23: 313.32 | AF23: =SUM(AB23:AE23) -> 4535.68 | AG23: 1250.64 | AH23: 1075.27 | AI23: 870.03 | AJ23: 2435.6332 | AK23: =SUM(AG23:AJ23) -> 5631.5732 | AL23: =AJ23-AI23 -> 1565.6032 | AM23: =AL23/AI23 -> 1.7994818
B24: CHINA | C24: n/a | D24: n/a | E24: n/a | F24: n/a | G24: n/a | H24: 611 | I24: 5505.72 | J24: 0 | K24: 317.45 | L24: =SUM(H24:K24) -> 6434.17 | M24: 197.8 | N24: 378.79 | O24: 757 | P24: 1186.8 | Q24: =SUM(M24:P24) -> 2520.39 | R24: 0 | S24: 692.3 | T24: 1341.08 | U24: 2541.74 | V24: =SUM(R24:U24) -> 4575.12 | W24: 100 | X24: 0 | Y24: 486 | Z24: 0 | AA24: =SUM(W24:Z24) -> 586 | AB24: 0 | AC24: 476.19 | AD24: 0 | AE24: 0 | AF24: =SUM(AB24:AE24) -> 476.19 | AG24: 0 | AH24: 1305.64 | AI24: 0 | AJ24: 0 | AK24: =SUM(AG24:AJ24) -> 1305.64 | AL24: =AJ24-AI24 -> 0 | AM24: =AL24/AI24 -> #DIV/0!
B25: CUBA | C25: n/a | D25: n/a | E25: n/a | F25: n/a | G25: n/a | H25: 0 | I25: 0 | J25: 0 | K25: 0 | L25: =SUM(H25:K25) -> 0 | M25: 0 | N25: 0 | O25: 0 | P25: 0 | Q25: =SUM(M25:P25) -> 0 | R25: 0 | S25: 0 | T25: 0 | U25: 0 | V25: =SUM(R25:U25) -> 0 | W25: 0 | X25: 0 | Y25: 0 | Z25: 0 | AA25: =SUM(W25:Z25) -> 0 | AB25: 0 | AC25: 0 | AD25: 0 | AE25: 0 | AF25: =SUM(AB25:AE25) -> 0 | AG25: 0 | AH25: 0 | AI25: 0 | AJ25: 0 | AK25: =SUM(AG25:AJ25) -> 0 | AL25: =AJ25-AI25 -> 0 | AM25: =AL25/AI25 -> #DIV/0!
B26: KENYA | C26: n/a | D26: n/a | E26: n/a | F26: n/a | G26: n/a | H26: 626 | I26: 3399.59 | J26: 101.21 | K26: 4022.19 | L26: =SUM(H26:K26) -> 8148.99 | M26: 3636.44 | N26: 150 | O26: 1115 | P26: 1165.19 | Q26: =SUM(M26:P26) -> 6066.63 | R26: 533.76 | S26: 203.29 | T26: 8898.77 | U26: 274.89 | V26: =SUM(R26:U26) -> 9910.71 | W26: 239.7 | X26: 0 | Y26: 3285.59 | Z26: 3110.25 | AA26: =SUM(W26:Z26) -> 6635.54 | AB26: 0 | AC26: 0 | AD26: 2566.78 | AE26: 4348.48 | AF26: =SUM(AB26:AE26) -> 6915.26 | AG26: 684.63 | AH26: 0 | AI26: 2107.33 | AJ26: 7704.74 | AK26: =SUM(AG26:AJ26) -> 10496.7 | AL26: =AJ26-AI26 -> 5597.41 | AM26: =AL26/AI26 -> 2.6561621
B27: MEXICO | C27: n/a | D27: n/a | E27: n/a | F27: n/a | G27: n/a | H27: 5601 | I27: 404.91 | J27: 0 | K27: 2411 | L27: =SUM(H27:K27) -> 8416.91 | M27: 3398.85 | N27: 0 | O27: 2521 | P27: 0 | Q27: =SUM(M27:P27) -> 5919.85 | R27: 2279.77 | S27: 0 | T27: 0 | U27: 552.94 | V27: =SUM(R27:U27) -> 2832.71 | W27: 0 | X27: 700.92 | Y27: 595.23 | Z27: 0 | AA27: =SUM(W27:Z27) -> 1296.15 | AB27: 0 | AC27: 50 | AD27: 0 | AE27: 1673.82 | AF27: =SUM(AB27:AE27) -> 1723.82 | AG27: 0 | AH27: 204.68 | AI27: 1244.81 | AJ27: 1065.26 | AK27: =SUM(AG27:AJ27) -> 2514.75 | AL27: =AJ27-AI27 -> -179.55 | AM27: =AL27/AI27 -> -0.14423888
B28: NEPAL | C28: n/a | D28: n/a | E28: n/a | F28: n/a | G28: n/a | H28: 0 | I28: 0 | J28: 0 | K28: 0 | L28: =SUM(H28:K28) -> 0 | M28: 0 | N28: 0 | O28: 0 | P28: 0 | Q28: =SUM(M28:P28) -> 0 | R28: 0 | S28: 145.5 | T28: 1639.76 | U28: 2840.8 | V28: =SUM(R28:U28) -> 4626.06 | W28: 9668.33 | X28: 145.5 | Y28: 3260.42 | Z28: 1755.7 | AA28: =SUM(W28:Z28) -> 14829.95 | AB28: 2716 | AC28: 1309.5 | AD28: 3065.2 | AE28: 5003.41 | AF28: =SUM(AB28:AE28) -> 12094.11 | AG28: 388 | AH28: 1195.32 | AI28: 0 | AJ28: 0 | AK28: =SUM(AG28:AJ28) -> 1583.32 | AL28: =AJ28-AI28 -> 0 | AM28: =AL28/AI28 -> #DIV/0!
B29: PERU | C29: n/a | D29: n/a | E29: n/a | F29: n/a | G29: n/a | H29: 2311 | I29: 2854.83 | J29: 0 | K29: 500 | L29: =SUM(H29:K29) -> 5665.83 | M29: 6928.75 | N29: 2790.79 | O29: 1000 | P29: 4535.3 | Q29: =SUM(M29:P29) -> 15254.84 | R29: 776 | S29: 300 | T29: 0 | U29: 0 | V29: =SUM(R29:U29) -> 1076 | W29: 300 | X29: 0 | Y29: 0 | Z29: 0 | AA29: =SUM(W29:Z29) -> 300 | AB29: 0 | AC29: 0 | AD29: 0 | AE29: 0 | AF29: =SUM(AB29:AE29) -> 0 | AG29: 0 | AH29: 0 | AI29: 514.58 | AJ29: 485 | AK29: =SUM(AG29:AJ29) -> 999.58 | AL29: =AJ29-AI29 -> -29.58 | AM29: =AL29/AI29 -> -0.057483773
B30: ZIMBABWE | C30: n/a | D30: n/a | E30: n/a | F30: n/a | G30: n/a | H30: 776 | I30: 620.8 | J30: 0 | K30: 0 | L30: =SUM(H30:K30) -> 1396.8 | M30: 0 | N30: 1066.04 | O30: 0 | P30: 0 | Q30: =SUM(M30:P30) -> 1066.04 | R30: 38.8 | S30: 34.52 | T30: 1404.45 | U30: 575.47 | V30: =SUM(R30:U30) -> 2053.24 | W30: 2045.75 | X30: 1208.09 | Y30: 502.54 | Z30: 2073.72 | AA30: =SUM(W30:Z30) -> 5830.1 | AB30: 765.33 | AC30: 442.15 | AD30: 2232.64 | AE30: 176.88 | AF30: =SUM(AB30:AE30) -> 3617 | AG30: 1354.18 | AH30: 119.43 | AI30: 0 | AJ30: 0 | AK30: =SUM(AG30:AJ30) -> 1473.61 | AL30: =AJ30-AI30 -> 0 | AM30: =AL30/AI30 -> #DIV/0!
B31: OTHER | C31: 1347766 | D31: 1009527 | E31: 782514.23 | F31: 608092 | G31: 1027952.8 | H31: 238458 | I31: 342980.69 | J31: 436575.87 | K31: 391292.59 | L31: =SUM(H31:K31) -> 1409307.1 | M31: 347938.15 | N31: 384084.89 | O31: 372861 | P31: 393038.61 | Q31: =SUM(M31:P31) -> 1497922.6 | R31: 353974.61 | S31: 434665.32 | T31: 458998.93 | U31: 477910.79 | V31: =SUM(R31:U31) -> 1725549.6 | W31: 406674.74 | X31: 188053.65 | Y31: 337698.3 | Z31: 269113.02 | AA31: =SUM(W31:Z31) -> 1201539.7 | AB31: 259086.66 | AC31: 363657.92 | AD31: 355979.26 | AE31: 423489.44 | AF31: =SUM(AB31:AE31) -> 1402213.3 | AG31: 444420.45 | AH31: 273988.69 | AI31: 285685.81 | AJ31: 296259.99 | AK31: =SUM(AG31:AJ31) -> 1300354.9 | AL31: =AJ31-AI31 -> 10574.184 | AM31: =AL31/AI31 -> 0.037013333
B32: TOTALS | C32: =SUM(C8:C31) -> 5882706.2 | D32: =SUM(D8:D31) -> 7201859 | E32: =SUM(E8:E31) -> 6486411.9 | F32: =SUM(F8:F31) -> 6073011 | G32: =SUM(G8:G31) -> 6531966.1 | H32: =SUM(H8:H31) -> 1686177 | I32: =SUM(I8:I31) -> 1888626.8 | J32: =SUM(J8:J31) -> 2090949.8 | ... L32: =SUM(L8:L31) -> 7768083.7 | M32: 1915939.4 | N32: =SUM(N8:N31) -> 2032796.4 | O32: =SUM(O8:O31) -> 2058064 | P32: =SUM(P8:P31) -> 2103778 | Q32: =SUM(Q8:Q31) -> 8044541 | R32: =SUM(R8:R31) -> 1915939.4 | S32: =SUM(S8:S31) -> 2063040.9 | T32: =SUM(T8:T31) -> 2147192.6 | U32: =SUM(U8:U31) -> 1998147.8 | ... AK32: =SUM(AK8:AK31) -> 9972539 | AL32: =AJ32-AI32 -> 45269.511 | AM32: =AL32/AH32 -> 0.019007028
B34: REMITTANCE INFLOWS BY COUNTRY BY PERCENTAGE (%)
B35: COUNTRY | C35: Year 2012 | D35: Year 2013 | E35: Year 2014* | F35: Year 2015 | G35: Year 2016 | H35: 2017Q1 | I35: 2017Q2 | J35: 2017Q3 | K35: 2017Q4 | L35: Year 2017 | M35: 2018Q1 | N35: 2018Q2 | O35: 2018Q3 | P35: 2018Q4 | Q35: Year 2018 | R35: 2019Q1 | S35: 2019Q2 | T35: 2019Q3 | U35: 2019Q4 | V35: Year 2019 | W35: 2020Q1 | X35: 2020Q2 | Y35: 2020Q3 | Z35: 2020Q4 | AA35: Year 2020 | AB35: 2021Q1 | AC35: 2021Q2 | AD35: 2021Q3 | AE35: 2021Q4 | AF35: Year 2021 | AG35: 2022Q1 | AH35: 2022Q2 | AI35: 2022Q3 | AJ35: 2022Q4 | AK35: Year 2022
B36: JAMAICA | C36: =C8/C$32 -> 0.21417387 | D36: =D8/D$32 -> 0.16608017 | E36: =E8/E$32 -> 0.14670308 | F36: =F8/F$32 -> 0.13592977 | G36: =G8/G$32 -> 0.11459054 | H36: =H8/H$32 -> 0.13689725 | I36: =I8/I$32 -> 0.1170609 | J36: =J8/J$32 -> 0.10985828 | ... AK36: =AK8/AK$32 -> 0.1470332
B37: HONDURAS | C37: =C9/C$32 -> 0.020800143 | D37: =D9/D$32 -> 0.018018542 | E37: =E9/E$32 -> 0.016333442 | F37: =F9/F$32 -> 0.014040152 | G37: =G9/G$32 -> 0.01725494 | H37: =H9/H$32 -> 0.016290698 | I37: =I9/I$32 -> 0.011335934 | J37: =J9/J$32 -> 0.012270122 | ... AK37: =AK9/AK$32 -> 0.010006596
B38: PHILIPPINES | C38: =C10/C$32 -> 0.012915542 | D38: =D10/D$32 -> 0.011250706 | E38: =E10/E$32 -> 0.012305751 | F38: =F10/F$32 -> 0.015286651 | G38: =G10/G$32 -> 0.020959827 | H38: =H10/H$32 -> 0.022033274 | I38: =I10/I$32 -> 0.01174627 | J38: =J10/J$32 -> 0.01465765 | ... AK38: =AK10/AK$32 -> 0.028654723
B39: DOMINICAN REPUBLIC | C39: =C11/C$32 -> 0.0070034197 | D39: =D11/D$32 -> 0.0069813919 | E39: =E11/E$32 -> 0.0062480137 | F39: =F11/F$32 -> 0.0086225762 | G39: =G11/G$32 -> 0.012203485 | H39: =H11/H$32 -> 0.0039995801 | I39: =I11/I$32 -> 0.0016235552 | J39: =J11/J$32 -> 0.005539033 | ... AK39: =AK11/AK$32 -> 0.0052105878
B40: NICARAGUA | C40: =C12/C$32 -> 0.0055891964 | D40: =D12/D$32 -> 0.0050910466 | E40: =E12/E$32 -> 0.0037541911 | F40: =F12/F$32 -> 0.0042464932 | G40: =G12/G$32 -> 0.0026222503 | H40: =H12/H$32 -> 0.0016575959 | I40: =I12/I$32 -> 0.0017709798 | J40: =J12/J$32 -> 0.0019550158 | ... AK40: =AK12/AK$32 -> 0.0036816753
B41: COLOMBIA | C41: =C13/C$32 -> 0.012429968 | D41: =D13/D$32 -> 0.013471244 | E41: =E13/E$32 -> 0.011687243 | F41: =F13/F$32 -> 0.0047236865 | G41: =G13/G$32 -> 0.0033618102 | H41: =H13/H$32 -> 0.0033661947 | I41: =I13/I$32 -> 0.010486481 | J41: =J13/J$32 -> 0.0036235733 | ... AK41: =AK13/AK$32 -> 0.0023734397
B42: GUYANA | C42: =C14/C$32 -> 0.0019920628 | D42: =D14/D$32 -> 0.0019982341 | E42: =E14/E$32 -> 0.0025552078 | F42: =F14/F$32 -> 0.0013036367 | G42: =G14/G$32 -> 0.0031955142 | H42: =H14/H$32 -> 0.0052829567 | I42: =I14/I$32 -> 0.0017227384 | J42: =J14/J$32 -> 0.002428064 | ... AK42: =AK14/AK$32 -> 0.0014408524
B43: TRINIDAD & TOBAGO | C43: =C15/C$32 -> 0.0065119962 | D43: =D15/D$32 -> 0.0097054108 | E43: =E15/E$32 -> 0.012312262 | F43: =F15/F$32 -> 0.013698147 | G43: =G15/G$32 -> 0.007470492 | H43: =H15/H$32 -> 0.0079564601 | I43: =I15/I$32 -> 0.011074326 | J43: =J15/J$32 -> 0.0071079181 | ... AK43: =AK15/AK$32 -> 0.0063073553
B44: INDIA | C44: =C16/C$32 -> 0 | D44: =D16/D$32 -> 0 | E44: =E16/E$32 -> 0 | F44: =F16/F$32 -> 0 | G44: =G16/G$32 -> 0 | H44: =H16/H$32 -> 0 | I44: =I16/I$32 -> 0 | J44: =J16/J$32 -> 0 | ... AK44: =AK16/AK$32 -> 0.00016917256
B45: UNITED KINGDOM | C45: =C17/C$32 -> 0.078831569 | D45: =D17/D$32 -> 0.092737583 | E45: =E17/E$32 -> 0.084475894 | F45: =F17/F$32 -> 0.0737807 | G45: =G17/G$32 -> 0.07757141 | H45: =H17/H$32 -> 0.062447774 | I45: =I17/I$32 -> 0.058772102 | J45: =J17/J$32 -> 0.071101075 | ... AK45: =AK17/AK$32 -> 0.06597272
B46: UNITED STATES | C46: =C18/C$32 -> 0.41064577 | D46: =D18/D$32 -> 0.42728593 | E46: =E18/E$32 -> 0.46582548 | F46: =F18/F$32 -> 0.53549055 | G46: =G18/G$32 -> 0.50691002 | H46: =H18/H$32 -> 0.51115808 | I46: =I18/I$32 -> 0.49690072 | J46: =J18/J$32 -> 0.49214232 | ... AK46: =AK18/AK$32 -> 0.53224512
B47: CANADA | C47: n/a | D47: =D19/D$32 -> 0.095426195 | E47: =E19/E$32 -> 0.10625031 | F47: =F19/F$32 -> 0.085253756 | G47: =G19/G$32 -> 0.070394193 | H47: =H19/H$32 -> 0.072502472 | I47: =I19/I$32 -> 0.080688523 | J47: =J19/J$32 -> 0.059693685 | K47: =K19/K$32 -> 0.054515157 | ... AK47: =AK19/AK$32 -> 0.057554319
B48: COSTA RICA | C48: n/a | D48: =D20/D$32 -> 0.0027613704 | E48: =E20/E$32 -> 0.0040199929 | F48: =F20/F$32 -> 0.0028944456 | G48: =G20/G$32 -> 0.0014640094 | H48: =H20/H$32 -> 0.00026450367 | I48: =I20/I$32 -> 0.003499156 | J48: =J20/J$32 -> 0.0012567351 | K48: =K20/K$32 -> 0.0036069123 | ... AK48: =AK20/AK$32 -> 0.0012448735
B49: BARBADOS | C49: n/a | D49: =D21/D$32 -> 0.007297838 | E49: =E21/E$32 -> 0.0042496962 | F49: =F21/F$32 -> 0.0029703552 | G49: =G21/G$32 -> 0.0026264298 | H49: =H21/H$32 -> 0.0041514028 | I49: =I21/I$32 -> 0.0017919315 | J49: =J21/J$32 -> 0.0056770277 | K49: =K21/K$32 -> 0.007497039 | ... AK49: =AK21/AK$32 -> 0.0041503294
B50: PANAMA | C50: n/a | D50: =D22/D$32 -> 0.0017184452 | E50: =E22/E$32 -> 0.0026404444 | F50: =F22/F$32 -> 0.0016288461 | G50: =G22/G$32 -> 0.0020024262 | H50: =H22/H$32 -> 0.0032066622 | I50: =I22/I$32 -> 0.0025500273 | J50: =J22/J$32 -> 0.0017939455 | K50: =K22/K$32 -> 0.0030399985 | ... AK50: =AK22/AK$32 -> 0.0011543399
B51: BELIZE | C51: n/a | D51: n/a | E51: n/a | F51: n/a | G51: n/a | H51: =H23/H$32 -> 0.0014796786 | I51: =I23/I$32 -> 0.00060323192 | J51: =J23/J$32 -> 0.0020540617 | K51: =K23/K$32 -> 0.00043668216 | L51: =L23/L$32 -> 0.0011389257 | M51: =M23/M$32 -> 0.0010542661 | N51: =N23/N$32 -> 0.00077295987 | O51: =O23/O$32 -> 0.0014105489 | ... AK51: =AK23/AK$32 -> 0.00056470806
B52: CHINA | C52: n/a | D52: n/a | E52: n/a | F52: n/a | G52: n/a | H52: =H24/H$32 -> 0.00036235816 | I52: =I24/I$32 -> 0.0029151974 | J52: =J24/J$32 -> 0 | K52: =K24/K$32 -> 0.00015099913 | L52: =L24/L$32 -> 0.00082828279 | M52: =M24/M$32 -> 0.00010323918 | N52: =N24/N$32 -> 0.00018633937 | O52: =O24/O$32 -> 0.00036782141 | ... AK52: =AK24/AK$32 -> 0.00013092353
B53: CUBA | C53: n/a | D53: n/a | E53: n/a | F53: n/a | G53: n/a | H53: =H25/H$32 -> 0 | I53: =I25/I$32 -> 0 | J53: =J25/J$32 -> 0 | K53: =K25/K$32 -> 0 | L53: =L25/L$32 -> 0 | M53: =M25/M$32 -> 0 | N53: =N25/N$32 -> 0 | O53: =O25/O$32 -> 0 | ... AK53: =AK25/AK$32 -> 0
B54: KENYA | C54: n/a | D54: n/a | E54: n/a | F54: n/a | G54: n/a | H54: =H26/H$32 -> 0.00037125403 | I54: =I26/I$32 -> 0.0018000327 | J54: =J26/J$32 -> 4.840384e-05 | K54: =K26/K$32 -> 0.0019132058 | L54: =L26/L$32 -> 0.0010490348 | M54: =M26/M$32 -> 0.0018979933 | N54: =N26/N$32 -> 7.3789979e-05 | O54: =O26/O$32 -> 0.0005417713 | ... AK54: =AK26/AK$32 -> 0.0010525604
B55: MEXICO | C55: n/a | D55: n/a | E55: n/a | F55: n/a | G55: n/a | H55: =H27/H$32 -> 0.0033217153 | I55: =I27/I$32 -> 0.00021439386 | J55: =J27/J$32 -> 0 | K55: =K27/K$32 -> 0.0011468228 | L55: =L27/L$32 -> 0.0010835246 | M55: =M27/M$32 -> 0.0017739862 | N55: =N27/N$32 -> 0 | O55: =O27/O$32 -> 0.0012249376 | ... AK55: =AK27/AK$32 -> 0.00025216748
B56: NEPAL | C56: n/a | D56: n/a | E56: n/a | F56: n/a | G56: n/a | H56: =H28/H$32 -> 0 | I56: =I28/I$32 -> 0 | J56: =J28/J$32 -> 0 | K56: =K28/K$32 -> 0 | L56: =L28/L$32 -> 0 | M56: =M28/M$32 -> 0 | N56: =N28/N$32 -> 0 | O56: =O28/O$32 -> 0 | ... AK56: =AK28/AK$32 -> 0.00015876799
B57: PERU | C57: n/a | D57: n/a | E57: n/a | F57: n/a | G57: n/a | H57: =H29/H$32 -> 0.001370556 | I57: =I29/I$32 -> 0.0015115903 | J57: =J29/J$32 -> 0 | K57: =K29/K$32 -> 0.00023783136 | L57: =L29/L$32 -> 0.00072937294 | M57: =M29/M$32 -> 0.0036163723 | N57: =N29/N$32 -> 0.0013728822 | O57: =O29/O$32 -> 0.00048589354 | ... AK57: =AK29/AK$32 -> 0.00010023325
B58: ZIMBABWE | C58: n/a | D58: n/a | E58: n/a | F58: n/a | G58: n/a | H58: =H30/H$32 -> 0.00046021266 | I58: =I30/I$32 -> 0.00032870443 | J58: =J30/J$32 -> 0 | K58: =K30/K$32 -> 0 | L58: =L30/L$32 -> 0.00017981269 | M58: =M30/M$32 -> 0 | N58: =N30/N$32 -> 0.00052442046 | O58: =O30/O$32 -> 0 | ... AK58: =AK30/AK$32 -> 0.00014776678
B59: OTHER | C59: =C31/C$32 -> 0.22910646 | D59: =D31/D$32 -> 0.14017589 | E59: =E31/E$32 -> 0.120639 | F59: =F31/F$32 -> 0.10013023 | G59: =G31/G$32 -> 0.15737265 | H59: =H31/H$32 -> 0.14141932 | I59: =I31/I$32 -> 0.18160321 | J59: =J31/J$32 -> 0.20879309 | ... AK59: =AK31/AK$32 -> 0.13039357
B60: TOTALS | C60: =SUM(C36:C59) -> 1 | D60: =SUM(D36:D59) -> 1 | E60: =SUM(E36:E59) -> 1 | F60: =SUM(F36:F59) -> 1 | G60: =SUM(G36:G59) -> 1 | H60: =SUM(H36:H59) -> 1 | I60: =SUM(I36:I59) -> 1 | J60: =SUM(J36:J59) -> 1 | ... AK60: =SUM(AK36:AK59) -> 1
B61: * aggregated information does not include one reporting entity.
B62: Source: Money Service Providers (MSP's) licensed by Cayman Islands Monetary Authority (CIMA).
B63: n/a - data not collected
B64: Updated - December 2022

Sheet Trans OUTFLOWS
B2: CAYMAN ISLANDS REMITTANCE REPORT BY NUMBER OF TRANSACTIONS, BY COUNTRY & VALUE (in US$)
B3: (Workers' remittances transmitted by the remittance companies licensed as Money Service Providers)
B4: REMITTANCE OUTFLOWS BY TRANSACTIONS, COUNTRY, VALUE (Actual Amounts)
B5: Transactions (more than) > CI$500
B6: COUNTRY | C6: Year 2012 | D6: Year 2013 | E6: Year 2014* | F6: Year 2015 | G6: Year 2016 | H6: 2017Q1 | I6: 2017Q2 | J6: 2017Q3 | K6: 2017Q4 | L6: Year 2017 | M6: 2018Q1 | N6: 2018Q2 | O6: 2018Q3 | P6: 2018Q4 | Q6: Year 2018 | R6: 2019Q1 | S6: 2019Q2 | T6: 2019Q3 | U6: 2019Q4 | V6: Year 2019 | W6: 2020Q1 | X6: 2020Q2 | Y6: 2020Q3 | Z6: 2020Q4 | AA6: Year 2020 | AB6: 2021Q1 | AC6: 2021Q2 | AD6: 2021Q3 | AE6: 2021Q4 | AF6: Year 2021 | AG6: 2022Q1 | AH6: 2022Q2 | AI6: 2022Q3 | AJ6: 2022Q4 | AK6: Year 2022
B7: JAMAICA | C7: 39235 | D7: 35978 | E7: 33756 | F7: 33069 | G7: 40565 | H7: 10156 | I7: 10830 | J7: 11424 | K7: 12447 | L7: =SUM(H7:K7) -> 44857 | M7: 11296 | N7: 12035 | O7: 12647 | P7: 10825 | Q7: =SUM(M7:P7) -> 46803 | R7: 12644 | S7: 13363 | T7: 13916 | U7: 16461 | V7: =SUM(R7:U7) -> 56384 | W7: 12980 | X7: 11069 | Y7: 24063 | Z7: 18067 | AA7: =SUM(W7:Z7) -> 66179 | AB7: 16872 | AC7: 16860 | AD7: 16057 | AE7: 19282 | AF7: =SUM(AB7:AE7) -> 69071 | AG7: 16683 | AH7: 18734 | AI7: 18428 | AJ7: 20810 | AK7: =SUM(AG7:AJ7) -> 74655
B8: HONDURAS | C8: 3444 | D8: 3293 | E8: 3712 | F8: 5374 | G8: 4321 | H8: 1149 | I8: 1161 | J8: 1154 | K8: 1244 | L8: =SUM(H8:K8) -> 4708 | M8: 1245 | N8: 1346 | O8: 1421 | P8: 1414 | Q8: =SUM(M8:P8) -> 5426 | R8: 1160 | S8: 1155 | T8: 1193 | U8: 1345 | V8: =SUM(R8:U8) -> 4853 | W8: 1065 | X8: 792 | Y8: 1952 | Z8: 1638 | AA8: =SUM(W8:Z8) -> 5447 | AB8: 1643 | AC8: 1624 | AD8: 1635 | AE8: 1781 | AF8: =SUM(AB8:AE8) -> 6683 | AG8: 1519 | AH8: 1802 | AI8: 1858 | AJ8: 1742 | AK8: =SUM(AG8:AJ8) -> 6921
B9: PHILIPPINES | C9: 7916 | D9: 8121 | E9: 9527 | F9: 11827 | G9: 13200 | H9: 3565 | I9: 3810 | J9: 3719 | K9: 4191 | L9: =SUM(H9:K9) -> 15285 | M9: 4552 | N9: 4687 | O9: 4330 | P9: 4933 | Q9: =SUM(M9:P9) -> 18502 | R9: 5196 | S9: 5447 | T9: 5255 | U9: 6134 | V9: =SUM(R9:U9) -> 22032 | W9: 5962 | X9: 3356 | Y9: 7016 | Z9: 6070 | AA9: =SUM(W9:Z9) -> 22404 | AB9: 5988 | AC9: 6016 | AD9: 6031 | AE9: 6411 | AF9: =SUM(AB9:AE9) -> 24446 | AG9: 6131 | AH9: 6522 | AI9: 6669 | AJ9: 6807 | AK9: =SUM(AG9:AJ9) -> 26129
B10: DOMINICAN REPUBLIC | C10: 8993 | D10: 1011 | E10: 1218 | F10: 1098 | G10: 1610 | H10: 483 | I10: 528 | J10: 506 | K10: 517 | L10: =SUM(H10:K10) -> 2034 | M10: 567 | N10: 627 | O10: 536 | P10: 609 | Q10: =SUM(M10:P10) -> 2339 | R10: 593 | S10: 561 | T10: 579 | U10: 665 | V10: =SUM(R10:U10) -> 2398 | W10: 528 | X10: 246 | Y10: 732 | Z10: 653 | AA10: =SUM(W10:Z10) -> 2159 | AB10: 590 | AC10: 606 | AD10: 644 | AE10: 657 | AF10: =SUM(AB10:AE10) -> 2497 | AG10: 686 | AH10: 753 | AI10: 714 | AJ10: 794 | AK10: =SUM(AG10:AJ10) -> 2947
B11: NICARAGUA | C11: 954 | D11: 983 | E11: 952 | F11: 2661 | G11: 1279 | H11: 303 | I11: 331 | J11: 321 | K11: 328 | L11: =SUM(H11:K11) -> 1283 | M11: 357 | N11: 386 | O11: 351 | P11: 381 | Q11: =SUM(M11:P11) -> 1475 | R11: 394 | S11: 406 | T11: 328 | U11: 397 | V11: =SUM(R11:U11) -> 1525 | W11: 408 | X11: 312 | Y11: 663 | Z11: 539 | AA11: =SUM(W11:Z11) -> 1922 | AB11: 516 | AC11: 399 | AD11: 387 | AE11: 404 | AF11: =SUM(AB11:AE11) -> 1706 | AG11: 426 | AH11: 508 | AI11: 510 | AJ11: 539 | AK11: =SUM(AG11:AJ11) -> 1983
B12: COLUMBIA | C12: 1268 | D12: 1178 | E12: 913 | F12: 1546 | G12: 990 | H12: 236 | I12: 350 | J12: 233 | K12: 323 | L12: =SUM(H12:K12) -> 1142 | M12: 341 | N12: 300 | O12: 280 | P12: 428 | Q12: =SUM(M12:P12) -> 1349 | R12: 400 | S12: 323 | T12: 272 | U12: 299 | V12: =SUM(R12:U12) -> 1294 | W12: 339 | X12: 185 | Y12: 404 | Z12: 343 | AA12: =SUM(W12:Z12) -> 1271 | AB12: 274 | AC12: 246 | AD12: 264 | AE12: 287 | AF12: =SUM(AB12:AE12) -> 1071 | AG12: 294 | AH12: 292 | AI12: 314 | AJ12: 316 | AK12: =SUM(AG12:AJ12) -> 1216
B13: GUYANA | C13: 503 | D13: 517 | E13: 555 | F13: 1068 | G13: 435 | H13: 97 | I13: 73 | J13: 84 | K13: 110 | L13: =SUM(H13:K13) -> 364 | M13: 98 | N13: 110 | O13: 101 | P13: 131 | Q13: =SUM(M13:P13) -> 440 | R13: 99 | S13: 92 | T13: 70 | U13: 156 | V13: =SUM(R13:U13) -> 417 | W13: 131 | X13: 142 | Y13: 268 | Z13: 234 | AA13: =SUM(W13:Z13) -> 775 | AB13: 204 | AC13: 199 | AD13: 159 | AE13: 225 | AF13: =SUM(AB13:AE13) -> 787 | AG13: 219 | AH13: 200 | AI13: 168 | AJ13: 198 | AK13: =SUM(AG13:AJ13) -> 785
B14: TRINIDAD & TOBAGO | C14: 172 | D14: 133 | E14: 155 | F14: 189 | G14: 128 | H14: 41 | I14: 42 | J14: 36 | K14: 46 | L14: =SUM(H14:K14) -> 165 | M14: 29 | N14: 29 | O14: 32 | P14: 25 | Q14: =SUM(M14:P14) -> 115 | R14: 22 | S14: 30 | T14: 15 | U14: 25 | V14: =SUM(R14:U14) -> 92 | W14: 19 | X14: 16 | Y14: 31 | Z14: 46 | AA14: =SUM(W14:Z14) -> 112 | AB14: 30 | AC14: 26 | AD14: 32 | AE14: 28 | AF14: =SUM(AB14:AE14) -> 116 | AG14: 24 | AH14: 26 | AI14: 24 | AJ14: 22 | AK14: =SUM(AG14:AJ14) -> 96
B15: INDIA | C15: 393 | D15: 362 | E15: 422 | F15: 541 | G15: 448 | H15: 143 | I15: 167 | J15: 141 | K15: 169 | L15: =SUM(H15:K15) -> 620 | M15: 230 | N15: 252 | O15: 222 | P15: 305 | Q15: =SUM(M15:P15) -> 1009 | R15: 328 | S15: 337 | T15: 299 | U15: 346 | V15: =SUM(R15:U15) -> 1310 | W15: 310 | X15: 140 | Y15: 236 | Z15: 241 | AA15: =SUM(W15:Z15) -> 927 | AB15: 225 | AC15: 179 | AD15: 161 | AE15: 209 | AF15: =SUM(AB15:AE15) -> 774 | AG15: 212 | AH15: 223 | AI15: 225 | AJ15: 228 | AK15: =SUM(AG15:AJ15) -> 888
B16: UNITED KINGDOM | C16: 261 | D16: 256 | E16: 358 | F16: 533 | G16: 348 | H16: 115 | I16: 114 | J16: 103 | K16: 98 | L16: =SUM(H16:K16) -> 430 | M16: 74 | N16: 97 | O16: 110 | P16: 112 | Q16: =SUM(M16:P16) -> 393 | R16: 116 | S16: 104 | T16: 82 | U16: 109 | V16: =SUM(R16:U16) -> 411 | W16: 102 | X16: 41 | Y16: 93 | Z16: 99 | AA16: =SUM(W16:Z16) -> 335 | AB16: 75 | AC16: 89 | AD16: 97 | AE16: 91 | AF16: =SUM(AB16:AE16) -> 352 | AG16: 81 | AH16: 106 | AI16: 105 | AJ16: 92 | AK16: =SUM(AG16:AJ16) -> 384
B17: UNITED STATES | C17: 3641 | D17: 3280 | E17: 4529 | F17: 4228 | G17: 4275 | H17: 1153 | I17: 1201 | J17: 1244 | K17: 1291 | L17: =SUM(H17:K17) -> 4889 | M17: 1162 | N17: 1264 | O17: 1245 | P17: 1359 | Q17: =SUM(M17:P17) -> 5030 | R17: 1210 | S17: 1241 | T17: 1420 | U17: 1474 | V17: =SUM(R17:U17) -> 5345 | W17: 1163 | X17: 573 | Y17: 1523 | Z17: 1575 | AA17: =SUM(W17:Z17) -> 4834 | AB17: 1305 | AC17: 1297 | AD17: 1412 | AE17: 1587 | AF17: =SUM(AB17:AE17) -> 5601 | AG17: 1269 | AH17: 1471 | AI17: 1506 | AJ17: 1569 | AK17: =SUM(AG17:AJ17) -> 5815
B18: CANADA | C18: n/a | D18: 304 | E18: 404 | F18: 503 | G18: 568 | H18: 159 | I18: 178 | J18: 185 | K18: 180 | L18: =SUM(H18:K18) -> 702 | M18: 179 | N18: 152 | O18: 159 | P18: 165 | Q18: =SUM(M18:P18) -> 655 | R18: 162 | S18: 184 | T18: 166 | U18: 201 | V18: =SUM(R18:U18) -> 713 | W18: 203 | X18: 57 | Y18: 172 | Z18: 200 | AA18: =SUM(W18:Z18) -> 632 | AB18: 185 | AC18: 149 | AD18: 175 | AE18: 208 | AF18: =SUM(AB18:AE18) -> 717 | AG18: 203 | AH18: 192 | AI18: 201 | AJ18: 223 | AK18: =SUM(AG18:AJ18) -> 819
B19: COSTA RICA | C19: n/a | D19: 349 | E19: 242 | F19: 190 | G19: 370 | H19: 112 | I19: 114 | J19: 91 | K19: 97 | L19: =SUM(H19:K19) -> 414 | M19: 95 | N19: 107 | O19: 132 | P19: 140 | Q19: =SUM(M19:P19) -> 474 | R19: 113 | S19: 108 | T19: 108 | U19: 130 | V19: =SUM(R19:U19) -> 459 | W19: 145 | X19: 77 | Y19: 151 | Z19: 133 | AA19: =SUM(W19:Z19) -> 506 | AB19: 110 | AC19: 81 | AD19: 92 | AE19: 107 | AF19: =SUM(AB19:AE19) -> 390 | AG19: 75 | AH19: 82 | AI19: 87 | AJ19: 100 | AK19: =SUM(AG19:AJ19) -> 344
B20: BARBADOS | C20: n/a | D20: 110 | E20: 102 | F20: 126 | G20: 93 | H20: 28 | I20: 38 | J20: 18 | K20: 25 | L20: =SUM(H20:K20) -> 109 | M20: 29 | N20: 27 | O20: 19 | P20: 33 | Q20: =SUM(M20:P20) -> 108 | R20: 36 | S20: 48 | T20: 38 | U20: 39 | V20: =SUM(R20:U20) -> 161 | W20: 35 | X20: 17 | Y20: 22 | Z20: 25 | AA20: =SUM(W20:Z20) -> 99 | AB20: 20 | AC20: 31 | AD20: 32 | AE20: 38 | AF20: =SUM(AB20:AE20) -> 121 | AG20: 26 | AH20: 25 | AI20: 44 | AJ20: 35 | AK20: =SUM(AG20:AJ20) -> 130
B21: PANAMA | C21: n/a | D21: 97 | E21: 101 | F21: 84 | G21: 124 | H21: 54 | I21: 42 | J21: 25 | K21: 51 | L21: =SUM(H21:K21) -> 172 | M21: 34 | N21: 32 | O21: 24 | P21: 49 | Q21: =SUM(M21:P21) -> 139 | R21: 34 | S21: 36 | T21: 22 | U21: 38 | V21: =SUM(R21:U21) -> 130 | W21: 10 | X21: 14 | Y21: 31 | Z21: 16 | AA21: =SUM(W21:Z21) -> 71 | AB21: 19 | AC21: 12 | AD21: 11 | AE21: 20 | AF21: =SUM(AB21:AE21) -> 62 | AG21: 14 | AH21: 21 | AI21: 32 | AJ21: 29 | AK21: =SUM(AG21:AJ21) -> 96
B22: BELIZE | C22: n/a | D22: n/a | E22: n/a | F22: n/a | G22: n/a | H22: 119 | I22: 39 | J22: 44 | K22: 57 | L22: =SUM(H22:K22) -> 259 | M22: 59 | N22: 47 | O22: 39 | P22: 40 | Q22: =SUM(M22:P22) -> 185 | R22: 36 | S22: 30 | T22: 27 | U22: 31 | V22: =SUM(R22:U22) -> 124 | W22: 33 | X22: 22 | Y22: 55 | Z22: 46 | AA22: =SUM(W22:Z22) -> 156 | AB22: 31 | AC22: 39 | AD22: 31 | AE22: 121 | AF22: =SUM(AB22:AE22) -> 222 | AG22: 51 | AH22: 56 | AI22: 42 | AJ22: 60 | AK22: =SUM(AG22:AJ22) -> 209
B23: CHINA | C23: n/a | D23: n/a | E23: n/a | F23: n/a | G23: n/a | H23: 46 | I23: 26 | J23: 46 | K23: 63 | L23: =SUM(H23:K23) -> 181 | M23: 33 | N23: 55 | O23: 32 | P23: 39 | Q23: =SUM(M23:P23) -> 159 | R23: 35 | S23: 42 | T23: 26 | U23: 16 | V23: =SUM(R23:U23) -> 119 | W23: 12 | X23: 8 | Y23: 37 | Z23: 40 | AA23: =SUM(W23:Z23) -> 97 | AB23: 46 | AC23: 28 | AD23: 22 | AE23: 27 | AF23: =SUM(AB23:AE23) -> 123 | AG23: 22 | AH23: 11 | AI23: 21 | AJ23: 26 | AK23: =SUM(AG23:AJ23) -> 80
B24: CUBA | C24: n/a | D24: n/a | E24: n/a | F24: n/a | G24: n/a | H24: 115 | I24: 82 | J24: 77 | K24: 63 | L24: =SUM(H24:K24) -> 337 | M24: 109 | N24: 94 | O24: 115 | P24: 122 | Q24: =SUM(M24:P24) -> 440 | R24: 150 | S24: 155 | T24: 139 | U24: 76 | V24: =SUM(R24:U24) -> 520 | W24: 28 | X24: 0 | Y24: 0 | Z24: 0 | AA24: =SUM(W24:Z24) -> 28 | AB24: 0 | AC24: 0 | AD24: 0 | AE24: 0 | AF24: =SUM(AB24:AE24) -> 0 | AG24: 0 | AH24: 0 | AI24: 0 | AJ24: 0 | AK24: =SUM(AG24:AJ24) -> 0
B25: KENYA | C25: n/a | D25: n/a | E25: n/a | F25: n/a | G25: n/a | H25: 110 | I25: 57 | J25: 58 | K25: 39 | L25: =SUM(H25:K25) -> 264 | M25: 58 | N25: 70 | O25: 62 | P25: 54 | Q25: =SUM(M25:P25) -> 244 | R25: 93 | S25: 78 | T25: 63 | U25: 78 | V25: =SUM(R25:U25) -> 312 | W25: 79 | X25: 25 | Y25: 54 | Z25: 33 | AA25: =SUM(W25:Z25) -> 191 | AB25: 44 | AC25: 31 | AD25: 53 | AE25: 67 | AF25: =SUM(AB25:AE25) -> 195 | AG25: 59 | AH25: 72 | AI25: 65 | AJ25: 81 | AK25: =SUM(AG25:AJ25) -> 277
B26: MEXICO | C26: n/a | D26: n/a | E26: n/a | F26: n/a | G26: n/a | H26: 160 | I26: 98 | J26: 95 | K26: 108 | L26: =SUM(H26:K26) -> 461 | M26: 103 | N26: 131 | O26: 87 | P26: 115 | Q26: =SUM(M26:P26) -> 436 | R26: 150 | S26: 179 | T26: 120 | U26: 130 | V26: =SUM(R26:U26) -> 579 | W26: 170 | X26: 31 | Y26: 105 | Z26: 115 | AA26: =SUM(W26:Z26) -> 421 | AB26: 134 | AC26: 91 | AD26: 109 | AE26: 147 | AF26: =SUM(AB26:AE26) -> 481 | AG26: 142 | AH26: 136 | AI26: 125 | AJ26: 185 | AK26: =SUM(AG26:AJ26) -> 588
B27: NEPAL | C27: n/a | D27: n/a | E27: n/a | F27: n/a | G27: n/a | H27: 58 | I27: 83 | J27: 93 | K27: 113 | L27: =SUM(H27:K27) -> 347 | M27: 229 | N27: 256 | O27: 259 | P27: 292 | Q27: =SUM(M27:P27) -> 1036 | R27: 314 | S27: 268 | T27: 209 | U27: 207 | V27: =SUM(R27:U27) -> 998 | W27: 258 | X27: 104 | Y27: 202 | Z27: 170 | AA27: =SUM(W27:Z27) -> 734 | AB27: 187 | AC27: 182 | AD27: 189 | AE27: 174 | AF27: =SUM(AB27:AE27) -> 732 | AG27: 157 | AH27: 222 | AI27: 213 | AJ27: 259 | AK27: =SUM(AG27:AJ27) -> 851
B28: PERU | C28: n/a | D28: n/a | E28: n/a | F28: n/a | G28: n/a | H28: 62 | I28: 54 | J28: 42 | K28: 50 | L28: =SUM(H28:K28) -> 208 | M28: 66 | N28: 65 | O28: 65 | P28: 59 | Q28: =SUM(M28:P28) -> 255 | R28: 74 | S28: 79 | T28: 75 | U28: 67 | V28: =SUM(R28:U28) -> 295 | W28: 92 | X28: 19 | Y28: 54 | Z28: 57 | AA28: =SUM(W28:Z28) -> 222 | AB28: 33 | AC28: 51 | AD28: 40 | AE28: 50 | AF28: =SUM(AB28:AE28) -> 174 | AG28: 41 | AH28: 52 | AI28: 90 | AJ28: 96 | AK28: =SUM(AG28:AJ28) -> 279
B29: ZIMBABWE | C29: n/a | D29: n/a | E29: n/a | F29: n/a | G29: n/a | H29: 51 | I29: 22 | J29: 16 | K29: 20 | L29: =SUM(H29:K29) -> 109 | M29: 22 | N29: 16 | O29: 16 | P29: 25 | Q29: =SUM(M29:P29) -> 79 | R29: 20 | S29: 29 | T29: 24 | U29: 28 | V29: =SUM(R29:U29) -> 101 | W29: 25 | X29: 21 | Y29: 44 | Z29: 40 | AA29: =SUM(W29:Z29) -> 130 | AB29: 31 | AC29: 39 | AD29: 33 | AE29: 33 | AF29: =SUM(AB29:AE29) -> 136 | AG29: 28 | AH29: 36 | AI29: 60 | AJ29: 74 | AK29: =SUM(AG29:AJ29) -> 198
B30: OTHER | C30: 4524 | D30: 3476 | E30: 3351 | F30: 9782 | G30: 4209 | H30: 814 | I30: 755 | J30: 799 | K30: 738 | L30: =SUM(H30:K30) -> 3106 | M30: 904 | N30: 848 | O30: 778 | P30: 849 | Q30: =SUM(M30:P30) -> 3379 | R30: 860 | S30: 692 | T30: 764 | U30: 910 | V30: =SUM(R30:U30) -> 3226 | W30: 875 | X30: 372 | Y30: 918 | Z30: 722 | AA30: =SUM(W30:Z30) -> 2887 | AB30: 676 | AC30: 652 | AD30: 662 | AE30: 593 | AF30: =SUM(AB30:AE30) -> 2583 | AG30: 555 | AH30: 595 | AI30: 591 | AJ30: 818 | AK30: =SUM(AG30:AJ30) -> 2559
B31: TOTAL TRANSACTIONS | C31: =SUM(C7:C30) -> 71304 | D31: =SUM(D7:D30) -> 59448 | E31: =SUM(E7:E30) -> 60297 | F31: =SUM(F7:F30) -> 72819 | G31: =SUM(G7:G30) -> 72963 | H31: =SUM(H7:H30) -> 19329 | I31: =SUM(I7:I30) -> 20195 | J31: =SUM(J7:J30) -> 20554 | ... AE31: =SUM(AE7:AE30) -> 32547 | AF31: =SUM(AB31:AE31) -> 119040 | AG31: =SUM(AG7:AG30) -> 28917 | AH31: =SUM(AH7:AH30) -> 32137 | AI31: =SUM(AI7:AI30) -> 32092 | AJ31: =SUM(AJ7:AJ30) -> 35103 | AK31: =SUM(AG31:AJ31) -> 128249
B32: VALUE IN US$ (>CI$500) | C32: 72868981 | D32: 68247854 | E32: 72605020 | F32: 66255359 | G32: 81913238 | H32: 21306641 | I32: 22683575 | J32: 23146791 | K32: 25258106 | L32: =SUM(H32:K32) -> 92395113 | M32: 24703417 | N32: 26202088 | O32: 26438638 | P32: 25391993 | Q32: =SUM(M32:P32) -> 1.0273614e+08 | R32: 27663462 | S32: 27663462 | T32: ='[1]Fee Schedule '!$C$14 -> 28754640 | U32: 33460019 | V32: =SUM(R32:U32) -> 1.1754158e+08 | W32: 28733529 | X32: 21947553 | Y32: 49588920 | Z32: 36559916 | AA32: =SUM(W32:Z32) -> 1.3682992e+08 | AB32: 34067889 | AC32: 39829588 | AD32: 33299629 | AE32: 38542029 | AF32: =SUM(AB32:AE32) -> 1.4573914e+08 | AG32: 34623546 | AH32: 38059607 | AI32: 38196387 | AJ32: 41540120 | AK32: =SUM(AG32:AJ32) -> 1.5241966e+08
B34: REMITTANCE OUTFLOWS BY TRANSACTIONS, COUNTRY, VALUE (Actual Amounts)
B35: Transactions (less than) < CI$500
B36: COUNTRY | C36: Year 2012 | D36: Year 2013 | E36: Year 2014* | F36: Year 2015 | G36: Year 2016 | H36: 2017Q1 | I36: 2017Q2 | J36: 2017Q3 | K36: 2017Q4 | L36: Year 2017 | M36: 2018Q1 | N36: 2018Q2 | O36: 2018Q3 | P36: 2018Q4 | Q36: Year 2018 | R36: 2019Q1 | S36: 2019Q2 | T36: 2019Q3 | U36: 2019Q4 | V36: Year 2019 | W36: 2020Q1 | X36: 2020Q2 | Y36: 2020Q3 | Z36: 2020Q4 | AA36: Year 2020 | AB36: 2021Q1 | AC36: 2021Q2 | AD36: 2021Q3 | AE36: 2021Q4 | AF36: Year 2021 | AG36: 2022Q1 | AH36: 2022Q2 | AI36: 2022Q3 | AJ36: 2022Q4 | AK36: Year 2022
B37: JAMAICA | C37: 447533 | D37: 454785 | E37: 426955 | F37: 426390 | G37: 459307 | H37: 116389 | I37: 128105 | J37: 117713 | K37: 123267 | L37: =SUM(H37:K37) -> 485474 | M37: 119014 | N37: 120448 | O37: 116951 | P37: 127568 | Q37: =SUM(M37:P37) -> 483981 | R37: 121087 | S37: ='[2]Fee Schedule '!$E$37 -> 123023 | T37: ='[1]Fee Schedule '!$E$37 -> 117783 | U37: 125484 | V37: =SUM(R37:U37) -> 487377 | W37: 118278 | X37: 49411 | Y37: 118222 | Z37: 119945 | AA37: =SUM(W37:Z37) -> 405856 | AB37: 112009 | AC37: 111112 | AD37: 107569 | AE37: 115690 | AF37: =SUM(AB37:AE37) -> 446380 | AG37: 108068 | AH37: 119630 | AI37: 115402 | AJ37: 125312 | AK37: =SUM(AG37:AJ37) -> 468412
B38: HONDURAS | C38: 43267 | D38: 45477 | E38: 48961 | F38: 47031 | G38: 51497 | H38: 13857 | I38: 14184 | J38: 14607 | K38: 14577 | L38: =SUM(H38:K38) -> 57225 | M38: 14555 | N38: 15235 | O38: 14965 | P38: 15798 | Q38: =SUM(M38:P38) -> 60553 | R38: 15537 | S38: ='[2]Fee Schedule '!$F$37 -> 15882 | T38: ='[1]Fee Schedule '!$F$37 -> 15704 | U38: 16720 | V38: =SUM(R38:U38) -> 63843 | W38: 14841 | X38: 6419 | Y38: 14450 | Z38: 15423 | AA38: =SUM(W38:Z38) -> 51133 | AB38: 14058 | AC38: 13475 | AD38: 14837 | AE38: 14948 | AF38: =SUM(AB38:AE38) -> 57318 | AG38: 13609 | AH38: 14800 | AI38: 14278 | AJ38: 14854 | AK38: =SUM(AG38:AJ38) -> 57541
B39: PHILIPPINES | C39: 55824 | D39: 55080 | E39: 59114 | F39: 56504 | G39: 66871 | H39: 17218 | I39: 17462 | J39: 18478 | K39: 19193 | L39: =SUM(H39:K39) -> 72351 | M39: 19011 | N39: 19602 | O39: 20041 | P39: 21157 | Q39: =SUM(M39:P39) -> 79811 | R39: 20592 | S39: ='[2]Fee Schedule '!$G$37 -> 20706 | T39: ='[1]Fee Schedule '!$G$37 -> 21509 | U39: 22582 | V39: =SUM(R39:U39) -> 85389 | W39: 20896 | X39: 6589 | Y39: 15614 | Z39: 18077 | AA39: =SUM(W39:Z39) -> 61176 | AB39: 17401 | AC39: 17631 | AD39: 17943 | AE39: 19051 | AF39: =SUM(AB39:AE39) -> 72026 | AG39: 17975 | AH39: 18568 | AI39: 19977 | AJ39: 20581 | AK39: =SUM(AG39:AJ39) -> 77101
B40: DOMINICAN REPUBLIC | C40: 9922 | D40: 9856 | E40: 9582 | F40: 8291 | G40: 11030 | H40: 3075 | I40: 3150 | J40: 3071 | K40: 3126 | L40: =SUM(H40:K40) -> 12422 | M40: 3014 | N40: 3061 | O40: 2853 | P40: 3154 | Q40: =SUM(M40:P40) -> 12082 | R40: 2902 | S40: ='[2]Fee Schedule '!$H$37 -> 3161 | T40: ='[1]Fee Schedule '!$H$37 -> 3056 | U40: 3078 | V40: =SUM(R40:U40) -> 12197 | W40: 2738 | X40: 912 | Y40: 2228 | Z40: 2470 | AA40: =SUM(W40:Z40) -> 8348 | AB40: 2146 | AC40: 2131 | AD40: 2254 | AE40: 2326 | AF40: =SUM(AB40:AE40) -> 8857 | AG40: 2251 | AH40: 2335 | AI40: 2348 | AJ40: 2618 | AK40: =SUM(AG40:AJ40) -> 9552
B41: NICARAGUA | C41: 10616 | D41: 10755 | E41: 9455 | F41: 10472 | G41: 12112 | H41: 3234 | I41: 3303 | J41: 3552 | K41: 3519 | L41: =SUM(H41:K41) -> 13608 | M41: 3600 | N41: 3744 | O41: 3802 | P41: 4079 | Q41: =SUM(M41:P41) -> 15225 | R41: 4283 | S41: ='[2]Fee Schedule '!$I$37 -> 4732 | T41: ='[1]Fee Schedule '!$I$37 -> 4646 | U41: 5166 | V41: =SUM(R41:U41) -> 18827 | W41: 4905 | X41: 2211 | Y41: 4818 | Z41: 5230 | AA41: =SUM(W41:Z41) -> 17164 | AB41: 4635 | AC41: 3916 | AD41: 5120 | AE41: 5461 | AF41: =SUM(AB41:AE41) -> 19132 | AG41: 5134 | AH41: 5711 | AI41: 6003 | AJ41: 6296 | AK41: =SUM(AG41:AJ41) -> 23144
B42: COLUMBIA | C42: 8293 | D42: 7403 | E42: 6874 | F42: 5393 | G42: 6658 | H42: 1735 | I42: 1785 | J42: 1747 | K42: 1786 | L42: =SUM(H42:K42) -> 7053 | M42: 1611 | N42: 1738 | O42: 1668 | P42: 1995 | Q42: =SUM(M42:P42) -> 7012 | R42: 1834 | S42: ='[2]Fee Schedule '!$J$37 -> 1892 | T42: ='[1]Fee Schedule '!$J$37 -> 1769 | U42: 1944 | V42: =SUM(R42:U42) -> 7439 | W42: 1871 | X42: 765 | Y42: 1628 | Z42: 2169 | AA42: =SUM(W42:Z42) -> 6433 | AB42: 1802 | AC42: 1738 | AD42: 1794 | AE42: 1725 | AF42: =SUM(AB42:AE42) -> 7059 | AG42: 1528 | AH42: 1654 | AI42: 1759 | AJ42: 2042 | AK42: =SUM(AG42:AJ42) -> 6983
B43: GUYANA | C43: 4461 | D43: 4241 | E43: 3805 | F43: 3011 | G43: 3781 | H43: 895 | I43: 836 | J43: 916 | K43: 909 | L43: =SUM(H43:K43) -> 3556 | M43: 892 | N43: 803 | O43: 866 | P43: 1041 | Q43: =SUM(M43:P43) -> 3602 | R43: 950 | S43: ='[2]Fee Schedule '!$K$37 -> 1008 | T43: ='[1]Fee Schedule '!$K$37 -> 932 | U43: 1228 | V43: =SUM(R43:U43) -> 4118 | W43: 1092 | X43: 494 | Y43: 1179 | Z43: 1256 | AA43: =SUM(W43:Z43) -> 4021 | AB43: 997 | AC43: 1005 | AD43: 957 | AE43: 1010 | AF43: =SUM(AB43:AE43) -> 3969 | AG43: 891 | AH43: 1001 | AI43: 904 | AJ43: 961 | AK43: =SUM(AG43:AJ43) -> 3757
B44: TRINIDAD & TOBAGO | C44: 1156 | D44: 1044 | E44: 1043 | F44: 992 | G44: 1081 | H44: 271 | I44: 271 | J44: 319 | K44: 353 | L44: =SUM(H44:K44) -> 1214 | M44: 252 | N44: 231 | O44: 214 | P44: 202 | Q44: =SUM(M44:P44) -> 899 | R44: 156 | S44: ='[2]Fee Schedule '!$L$37 -> 195 | T44: ='[1]Fee Schedule '!$L$37 -> 186 | U44: 227 | V44: =SUM(R44:U44) -> 764 | W44: 238 | X44: 123 | Y44: 282 | Z44: 345 | AA44: =SUM(W44:Z44) -> 988 | AB44: 243 | AC44: 257 | AD44: 323 | AE44: 330 | AF44: =SUM(AB44:AE44) -> 1153 | AG44: 279 | AH44: 353 | AI44: 297 | AJ44: 396 | AK44: =SUM(AG44:AJ44) -> 1325
B45: INDIA | C45: 1189 | D45: 1132 | E45: 1343 | F45: 1231 | G45: 1291 | H45: 324 | I45: 355 | J45: 347 | K45: 329 | L45: =SUM(H45:K45) -> 1355 | M45: 416 | N45: 393 | O45: 432 | P45: 508 | Q45: =SUM(M45:P45) -> 1749 | R45: 613 | S45: ='[2]Fee Schedule '!$E$43 -> 558 | T45: ='[1]Fee Schedule '!$E$43 -> 523 | U45: 618 | V45: =SUM(R45:U45) -> 2312 | W45: 514 | X45: 157 | Y45: 427 | Z45: 461 | AA45: =SUM(W45:Z45) -> 1559 | AB45: 419 | AC45: 314 | AD45: 380 | AE45: 386 | AF45: =SUM(AB45:AE45) -> 1499 | AG45: 402 | AH45: 443 | AI45: 350 | AJ45: 361 | AK45: =SUM(AG45:AJ45) -> 1556
B46: UNITED KINGDOM | C46: 1824 | D46: 1839 | E46: 2437 | F46: 1857 | G46: 2100 | H46: 606 | I46: 782 | J46: 631 | K46: 728 | L46: =SUM(H46:K46) -> 2747 | M46: 595 | N46: 673 | O46: 698 | P46: 769 | Q46: =SUM(M46:P46) -> 2735 | R46: 704 | S46: ='[2]Fee Schedule '!$F$43 -> 713 | T46: ='[1]Fee Schedule '!$F$43 -> 613 | U46: 760 | V46: =SUM(R46:U46) -> 2790 | W46: 645 | X46: 163 | Y46: 522 | Z46: 539 | AA46: =SUM(W46:Z46) -> 1869 | AB46: 461 | AC46: 510 | AD46: 537 | AE46: 582 | AF46: =SUM(AB46:AE46) -> 2090 | AG46: 465 | AH46: 533 | AI46: 493 | AJ46: 507 | AK46: =SUM(AG46:AJ46) -> 1998
B47: UNITED STATES | C47: 21693 | D47: 24113 | E47: 33800 | F47: 22750 | G47: 27903 | H47: 6350 | I47: 6944 | J47: 7691 | K47: 7447 | L47: =SUM(H47:K47) -> 28432 | M47: 6437 | N47: 6842 | O47: 7567 | P47: 8005 | Q47: =SUM(M47:P47) -> 28851 | R47: 6417 | S47: ='[2]Fee Schedule '!$G$43 -> 7039 | T47: ='[1]Fee Schedule '!$G$43 -> 7764 | U47: 7824 | V47: =SUM(R47:U47) -> 29044 | W47: 6052 | X47: 2132 | Y47: 5800 | Z47: 6648 | AA47: =SUM(W47:Z47) -> 20632 | AB47: 4996 | AC47: 5182 | AD47: 5576 | AE47: 5913 | AF47: =SUM(AB47:AE47) -> 21667 | AG47: 4723 | AH47: 5296 | AI47: 5648 | AJ47: 6202 | AK47: =SUM(AG47:AJ47) -> 21869
B48: CANADA | C48: 0 | D48: 1722 | E48: 2115 | F48: 2158 | G48: 2620 | H48: 642 | I48: 634 | J48: 628 | K48: 669 | L48: =SUM(H48:K48) -> 2573 | M48: 610 | N48: 640 | O48: 678 | P48: 795 | Q48: =SUM(M48:P48) -> 2723 | R48: 746 | S48: ='[2]Fee Schedule '!$H$43 -> 756 | T48: ='[1]Fee Schedule '!$H$43 -> 753 | U48: 817 | V48: =SUM(R48:U48) -> 3072 | W48: 695 | X48: 206 | Y48: 547 | Z48: 645 | AA48: =SUM(W48:Z48) -> 2093 | AB48: 463 | AC48: 550 | AD48: 582 | AE48: 642 | AF48: =SUM(AB48:AE48) -> 2237 | AG48: 513 | AH48: 636 | AI48: 635 | AJ48: 692 | AK48: =SUM(AG48:AJ48) -> 2476
B49: COSTA RICA | C49: 0 | D49: 1880 | E49: 1621 | F49: 1231 | G49: 1683 | H49: 491 | I49: 521 | J49: 481 | K49: 522 | L49: =SUM(H49:K49) -> 2015 | M49: 493 | N49: 535 | O49: 620 | P49: 641 | Q49: =SUM(M49:P49) -> 2289 | R49: 632 | S49: ='[2]Fee Schedule '!$I$43 -> 619 | T49: ='[1]Fee Schedule '!$I$43 -> 709 | U49: 728 | V49: =SUM(R49:U49) -> 2688 | W49: 621 | X49: 272 | Y49: 545 | Z49: 592 | AA49: =SUM(W49:Z49) -> 2030 | AB49: 553 | AC49: 439 | AD49: 498 | AE49: 525 | AF49: =SUM(AB49:AE49) -> 2015 | AG49: 467 | AH49: 551 | AI49: 552 | AJ49: 610 | AK49: =SUM(AG49:AJ49) -> 2180
B50: BARBADOS | C50: 0 | D50: 663 | E50: 679 | F50: 480 | G50: 574 | H50: 151 | I50: 149 | J50: 185 | K50: 230 | L50: =SUM(H50:K50) -> 715 | M50: 170 | N50: 200 | O50: 194 | P50: 223 | Q50: =SUM(M50:P50) -> 787 | R50: 208 | S50: ='[2]Fee Schedule '!$J$43 -> 210 | T50: ='[1]Fee Schedule '!$J$43 -> 223 | U50: 212 | V50: =SUM(R50:U50) -> 853 | W50: 167 | X50: 76 | Y50: 188 | Z50: 183 | AA50: =SUM(W50:Z50) -> 614 | AB50: 101 | AC50: 116 | AD50: 148 | AE50: 138 | AF50: =SUM(AB50:AE50) -> 503 | AG50: 129 | AH50: 119 | AI50: 138 | AJ50: 143 | AK50: =SUM(AG50:AJ50) -> 529
B51: PANAMA | C51: 0 | D51: 1148 | E51: 810 | F51: 646 | G51: 796 | H51: 189 | I51: 221 | J51: 276 | K51: 264 | L51: =SUM(H51:K51) -> 950 | M51: 291 | N51: 254 | O51: 249 | P51: 270 | Q51: =SUM(M51:P51) -> 1064 | R51: 263 | S51: ='[2]Fee Schedule '!$K$43 -> 282 | T51: ='[1]Fee Schedule '!$K$43 -> 206 | U51: 253 | V51: =SUM(R51:U51) -> 1004 | W51: 215 | X51: 94 | Y51: 239 | Z51: 214 | AA51: =SUM(W51:Z51) -> 762 | AB51: 169 | AC51: 176 | AD51: 207 | AE51: 240 | AF51: =SUM(AB51:AE51) -> 792 | AG51: 208 | AH51: 216 | AI51: 214 | AJ51: 209 | AK51: =SUM(AG51:AJ51) -> 847
B52: BELIZE | C52: n/a | D52: n/a | E52: n/a | F52: n/a | G52: n/a | H52: 231 | I52: 376 | J52: 376 | K52: 366 | L52: =SUM(H52:K52) -> 1349 | M52: 380 | N52: 357 | O52: 323 | P52: 390 | Q52: =SUM(M52:P52) -> 1450 | R52: 324 | S52: ='[2]Fee Schedule '!$L$43 -> 398 | T52: ='[1]Fee Schedule '!$L$43 -> 411 | U52: 445 | V52: =SUM(R52:U52) -> 1578 | W52: 410 | X52: 181 | Y52: 453 | Z52: 463 | AA52: =SUM(W52:Z52) -> 1507 | AB52: 371 | AC52: 438 | AD52: 453 | AE52: 445 | AF52: =SUM(AB52:AE52) -> 1707 | AG52: 346 | AH52: 374 | AI52: 410 | AJ52: 436 | AK52: =SUM(AG52:AJ52) -> 1566
B53: CHINA | C53: n/a | D53: n/a | E53: n/a | F53: n/a | G53: n/a | H53: 69 | I53: 120 | J53: 116 | K53: 133 | L53: =SUM(H53:K53) -> 438 | M53: 124 | N53: 143 | O53: 125 | P53: 137 | Q53: =SUM(M53:P53) -> 529 | R53: 106 | S53: ='[2]Fee Schedule '!$E$49 -> 113 | T53: ='[1]Fee Schedule '!$E$49 -> 93 | U53: 110 | V53: =SUM(R53:U53) -> 422 | W53: 36 | X53: 9 | Y53: 55 | Z53: 60 | AA53: =SUM(W53:Z53) -> 160 | AB53: 54 | AC53: 19 | AD53: 25 | AE53: 26 | AF53: =SUM(AB53:AE53) -> 124 | AG53: 19 | AH53: 23 | AI53: 37 | AJ53: 31 | AK53: =SUM(AG53:AJ53) -> 110
B54: CUBA | C54: n/a | D54: n/a | E54: n/a | F54: n/a | G54: n/a | H54: 1197 | I54: 1494 | J54: 1614 | K54: 1945 | L54: =SUM(H54:K54) -> 6250 | M54: 1910 | N54: 2100 | O54: 2097 | P54: 2384 | Q54: =SUM(M54:P54) -> 8491 | R54: 2470 | S54: ='[2]Fee Schedule '!$F$49 -> 2701 | T54: ='[1]Fee Schedule '!$F$49 -> 2486 | U54: 2059 | V54: =SUM(R54:U54) -> 9716 | W54: 1165 | X54: 0 | Y54: 0 | Z54: 0 | AA54: =SUM(W54:Z54) -> 1165 | AB54: 0 | AC54: 0 | AD54: 0 | AE54: 0 | AF54: =SUM(AB54:AE54) -> 0 | AG54: 0 | AH54: 0 | AI54: 0 | AJ54: 0 | AK54: =SUM(AG54:AJ54) -> 0
B55: KENYA | C55: n/a | D55: n/a | E55: n/a | F55: n/a | G55: n/a | H55: 207 | I55: 245 | J55: 255 | K55: 274 | L55: =SUM(H55:K55) -> 981 | M55: 266 | N55: 278 | O55: 266 | P55: 302 | Q55: =SUM(M55:P55) -> 1112 | R55: 362 | S55: ='[2]Fee Schedule '!$G$49 -> 415 | T55: ='[1]Fee Schedule '!$G$49 -> 353 | U55: 409 | V55: =SUM(R55:U55) -> 1539 | W55: 463 | X55: 126 | Y55: 284 | Z55: 341 | AA55: =SUM(W55:Z55) -> 1214 | AB55: 336 | AC55: 328 | AD55: 357 | AE55: 393 | AF55: =SUM(AB55:AE55) -> 1414 | AG55: 364 | AH55: 402 | AI55: 415 | AJ55: 487 | AK55: =SUM(AG55:AJ55) -> 1668
B56: MEXICO | C56: n/a | D56: n/a | E56: n/a | F56: n/a | G56: n/a | H56: 325 | I56: 352 | J56: 354 | K56: 359 | L56: =SUM(H56:K56) -> 1390 | M56: 326 | N56: 295 | O56: 316 | P56: 464 | Q56: =SUM(M56:P56) -> 1401 | R56: 543 | S56: ='[2]Fee Schedule '!$H$49 -> 542 | T56: ='[1]Fee Schedule '!$H$49 -> 497 | U56: 502 | V56: =SUM(R56:U56) -> 2084 | W56: 478 | X56: 215 | Y56: 476 | Z56: 564 | AA56: =SUM(W56:Z56) -> 1733 | AB56: 522 | AC56: 567 | AD56: 523 | AE56: 516 | AF56: =SUM(AB56:AE56) -> 2128 | AG56: 441 | AH56: 457 | AI56: 515 | AJ56: 528 | AK56: =SUM(AG56:AJ56) -> 1941
B57: NEPAL | C57: n/a | D57: n/a | E57: n/a | F57: n/a | G57: n/a | H57: 51 | I57: 137 | J57: 149 | K57: 147 | L57: =SUM(H57:K57) -> 484 | M57: 202 | N57: 262 | O57: 264 | P57: 296 | Q57: =SUM(M57:P57) -> 1024 | R57: 302 | S57: ='[2]Fee Schedule '!$I$49 -> 307 | T57: ='[1]Fee Schedule '!$I$49 -> 287 | U57: 305 | V57: =SUM(R57:U57) -> 1201 | W57: 282 | X57: 76 | Y57: 189 | Z57: 245 | AA57: =SUM(W57:Z57) -> 792 | AB57: 250 | AC57: 161 | AD57: 218 | AE57: 263 | AF57: =SUM(AB57:AE57) -> 892 | AG57: 202 | AH57: 258 | AI57: 285 | AJ57: 290 | AK57: =SUM(AG57:AJ57) -> 1035
B58: PERU | C58: n/a | D58: n/a | E58: n/a | F58: n/a | G58: n/a | H58: 197 | I58: 181 | J58: 156 | K58: 171 | L58: =SUM(H58:K58) -> 705 | M58: 192 | N58: 195 | O58: 188 | P58: 211 | Q58: =SUM(M58:P58) -> 786 | R58: 225 | S58: ='[2]Fee Schedule '!$J$49 -> 236 | T58: ='[1]Fee Schedule '!$J$49 -> 214 | U58: 246 | V58: =SUM(R58:U58) -> 921 | W58: 237 | X58: 80 | Y58: 138 | Z58: 156 | AA58: =SUM(W58:Z58) -> 611 | AB58: 134 | AC58: 145 | AD58: 116 | AE58: 114 | AF58: =SUM(AB58:AE58) -> 509 | AG58: 131 | AH58: 164 | AI58: 175 | AJ58: 200 | AK58: =SUM(AG58:AJ58) -> 670
B59: ZIMBABWE | C59: n/a | D59: n/a | E59: n/a | F59: n/a | G59: n/a | H59: 80 | I59: 113 | J59: 123 | K59: 132 | L59: =SUM(H59:K59) -> 448 | M59: 128 | N59: 126 | O59: 89 | P59: 121 | Q59: =SUM(M59:P59) -> 464 | R59: 156 | S59: ='[2]Fee Schedule '!$K$49 -> 167 | T59: ='[1]Fee Schedule '!$K$49 -> 153 | U59: 212 | V59: =SUM(R59:U59) -> 688 | W59: 203 | X59: 73 | Y59: 180 | Z59: 203 | AA59: =SUM(W59:Z59) -> 659 | AB59: 154 | AC59: 181 | AD59: 250 | AE59: 67 | AF59: =SUM(AB59:AE59) -> 652 | AG59: 213 | AH59: 206 | AI59: 225 | AJ59: 300 | AK59: =SUM(AG59:AJ59) -> 944
B60: OTHER | C60: 23918 | D60: 20007 | E60: 13293 | F60: 17228 | G60: 20574 | H60: 3466 | I60: 3083 | J60: 3128 | K60: 3259 | L60: =SUM(H60:K60) -> 12936 | M60: 3215 | N60: 3293 | O60: 2887 | P60: 3350 | Q60: =SUM(M60:P60) -> 12745 | R60: 3318 | S60: ='[2]Fee Schedule '!$L$49 -> 3409 | T60: ='[1]Fee Schedule '!$L$49 -> 3218 | U60: 4050 | V60: =SUM(R60:U60) -> 13995 | W60: 3413 | X60: 1444 | Y60: 3309 | Z60: 3238 | AA60: =SUM(W60:Z60) -> 11404 | AB60: 2867 | AC60: 2860 | AD60: 2872 | AE60: 3317 | AF60: =SUM(AB60:AE60) -> 11916 | AG60: 2607 | AH60: 2831 | AI60: 2949 | AJ60: 3437 | AK60: =SUM(AG60:AJ60) -> 11824
B61: TOTAL TRANSACTIONS | C61: =SUM(C37:C60) -> 629696 | D61: =SUM(D37:D60) -> 641145 | E61: =SUM(E37:E60) -> 621887 | F61: 605665 | G61: =SUM(G37:G60) -> 669878 | H61: =SUM(H37:H60) -> 171250 | I61: =SUM(I37:I60) -> 184803 | J61: =SUM(J37:J60) -> 176913 | K61: =SUM(K37:K60) -> 183705 | L61: =SUM(L37:L60) -> 716671 | M61: =SUM(M37:M60) -> 177704 | N61: =SUM(N37:N60) -> 181448 | ... AJ61: =SUM(AJ37:AJ60) -> 187493 | AK61: =SUM(AG61:AJ61) -> 699028
B62: VALUE IN US$ (<CI$500) | C62: 105860228 | D62: 1.0638718e+08 | E62: 1.0730618e+08 | F62: 103290506 | G62: 117427576 | H62: 29756900 | I62: 30877042 | J62: 31770850 | K62: 32923805 | L62: =SUM(H62:K62) -> 1.253286e+08 | M62: 31057514 | N62: 32670524 | O62: 32519928 | P62: 35848583 | Q62: =SUM(M62:P62) -> 1.3209655e+08 | R62: 34648947 | S62: ='[2]Fee Schedule '!$C$37 -> 35990317 | T62: ='[1]Fee Schedule '!$C$37 -> 35872317 | U62: 39010043 | V62: =SUM(R62:U62) -> 1.4552162e+08 | W62: 34854285 | X62: 15997926 | Y62: 36427594 | Z62: 37556016 | AA62: =SUM(W62:Z62) -> 1.2483582e+08 | AB62: 33570672 | AC62: 28345264 | AD62: 33674586 | AE62: 36825835 | AF62: =SUM(AB62:AE62) -> 1.3241636e+08 | AG62: 34326841 | AH62: 37768604 | AI62: 37703002 | AJ62: 40666663 | AK62: =SUM(AG62:AJ62) -> 1.5046511e+08
B63: GRAND TOTAL | C63: =C62+C32 -> 178729209 | D63: =D62+D32 -> 1.7463503e+08 | E63: =E32+E62 -> 1.7991119e+08 | F63: =F32+F62 -> 169545865 | G63: 199340814 | H63: =H32+H62 -> 51063541 | I63: =I32+I62 -> 53560617 | J63: =J32+J62 -> 54917641 | K63: =K32+K62 -> 58181910 | L63: =L32+L62 -> 2.1772371e+08 | M63: =M32+M62 -> 55760931 | N63: =N32+N62 -> 58872612 | O63: =O32+O62 -> 58958566 | ... AE63: =AE32+AE62 -> 75367864 | AF63: =+AF62+AF32 -> 2.7815549e+08 | AG63: =AG32+AG62 -> 68950387 | AH63: =AH32+AH62 -> 75828211 | AI63: =AI32+AI62 -> 75899389 | AJ63: =AJ32+AJ62 -> 82206783 | AK63: =AK32+AK62 -> 3.0288477e+08
B64: * aggregated information does not include one reporting entity.
B65: n/a - data not collected
B66: Source: Money Service Providers (MSP's) licensed by Cayman Islands Monetary Authority (CIMA).
B67: Updated -December 2021

Sheet Trans INFLOWS
B2: CAYMAN ISLANDS REMITTANCE REPORT BY NUMBER OF TRANSACTIONS, BY COUNTRY & VALUE (in US$)
B3: (Workers' remittances transmitted by the remittance companies licensed as Money Service Providers)
B4: REMITTANCE INFLOWS BY TRANSACTIONS FOR ALL COUNTRIES (Actual Amounts)
B5: ALL COUNTRIES | C5: Year 2012 | D5: Year 2013 | E5: Year 2014* | F5: Year 2015 | G5: Year 2016 | H5: 2017Q1 | I5: 2017Q2 | J5: 2017Q3 | K5: 2017Q4 | L5: Year 2017 | M5: 2018Q1 | N5: 2018Q2 | O5: 2018Q3 | P5: 2018Q4 | Q5: Year 2018 | R5: 2019Q1 | S5: 2019Q2 | T5: 2019Q3 | U5: 2019Q4 | V5: Year 2019 | W5: 2020Q1 | X5: 2020Q2 | Y5: 2020Q3 | Z5: 2020Q4 | AA5: Year 2020 | AB5: 2021Q1 | AC5: 2021Q2 | AD5: 2021Q3 | AE5: 2021Q4 | AF5: Year 2021 | AG5: 2022Q1 | AH5: 2022Q2 | AI5: 2022Q3 | AJ5: 2022Q4 | AK5: Year 2022
B6: TOTAL TRANSACTIONS | C6: 15330 | D6: 17772 | E6: 18707 | F6: 15944 | G6: 20955 | H6: 5497 | I6: 6089 | J6: 6792 | K6: 6486 | L6: =SUM(H6:K6) -> 24864 | M6: 6148 | N6: 6594 | O6: 6775 | P6: 6809 | Q6: =SUM(M6:P6) -> 26326 | R6: 6319 | S6: 7110 | T6: 7096 | U6: 6697 | V6: =SUM(R6:U6) -> 27222 | W6: 6047 | X6: 4256 | Y6: 4862 | Z6: 5401 | AA6: =SUM(W6:Z6) -> 20566 | AB6: 5695 | AC6: 5822 | AD6: 6414 | AE6: 6923 | AF6: =SUM(AB6:AE6) -> 24854 | AG6: ='[3]Remittance Activities'!$B$31 -> 5799 | AH6: 6065 | AI6: 6705 | AJ6: 6636 | AK6: =SUM(AG6:AJ6) -> 25205
B8: REMITTANCE INFLOWS BY COUNTRY and VALUE (Actual Amounts)
B10: COUNTRY | C10: Year 2012 | D10: Year 2013 | E10: Year 2014* | F10: Year 2015 | G10: Year 2016 | H10: 2017Q1 | I10: 2017Q2 | J10: 2017Q3 | K10: 2017Q4 | L10: Year 2017 | M10: 2018Q1 | N10: 2018Q2 | O10: 2018Q3 | P10: 2018Q4 | Q10: Year 2018 | R10: 2019Q1 | S10: 2019Q2 | T10: 2019Q3 | U10: 2019Q4 | V10: Year 2019 | W10: 2020Q1 | X10: 2020Q2 | Y10: 2020Q3 | Z10: 2020Q4 | AA10: Year 2020 | AB10: 2021Q1 | AC10: 2021Q2 | AD10: 2021Q3 | AE10: 2021Q4 | AF10: Year 2021 | AG10: 2022Q1 | AH10: 2022Q2 | AI10: 2022Q3 | AJ10: 2022Q4 | AK10: Year 2022
B11: JAMAICA | C11: 1259922 | D11: 1196086 | E11: 951576.57 | F11: 825503 | G11: 748502.12 | H11: 230833 | I11: 221084.36 | J11: 229708.15 | K11: 249260.4 | L11: =SUM(H11:K11) -> 930885.91 | M11: 245028.03 | N11: 277722.52 | O11: 240766 | P11: 277961.1 | Q11: =SUM(M11:P11) -> 1041477.7 | R11: 284080.32 | S11: 233145.06 | T11: 258258.06 | U11: 175394.6 | V11: =SUM(R11:U11) -> 950878.04 | W11: 167005.19 | X11: 87077.35 | Y11: 161439.34 | Z11: 154287.11 | AA11: =SUM(W11:Z11) -> 569808.99 | AB11: 194338.05 | AC11: 260917.42 | AD11: 311606.2 | AE11: 338587.85 | AF11: =SUM(AB11:AE11) -> 1105449.5 | AG11: ='[3]Remittance Activities'!$E$31 -> 322030.19 | AH11: 348499.85 | AI11: 370678.19 | AJ11: 425086.06 | AK11: =SUM(AG11:AJ11) -> 1466294.3
B12: HONDURAS | C12: 122361 | D12: 129767 | E12: 105945.43 | F12: 85267 | G12: 112709.09 | H12: 27469 | I12: 21409.35 | J12: 25656.21 | K12: 30752.61 | L12: =SUM(H12:K12) -> 105287.17 | M12: 32478.68 | N12: 21200.77 | O12: 26840 | P12: 31622.81 | Q12: =SUM(M12:P12) -> 112142.26 | R12: 27809.8 | S12: 25895.83 | T12: 26781.24 | U12: 35088.549 | V12: =SUM(R12:U12) -> 115575.42 | W12: 29188.23 | X12: 4834.63 | Y12: 13147.03 | Z12: 9106.48 | AA12: =SUM(W12:Z12) -> 56276.37 | AB12: 19735.3 | AC12: 33746.34 | AD12: 32921.97 | AE12: 27857.77 | AF12: =SUM(AB12:AE12) -> 114261.38 | AG12: ='[3]Remittance Activities'!$F$31 -> 22325.46 | AH12: 22043.65 | AI12: 20473.769 | AJ12: 34948.291 | AK12: =SUM(AG12:AJ12) -> 99791.17
B13: PHILIPPINES | C13: 75979 | D13: 81026 | E13: 79820.17 | F13: 92836 | G13: 136908.62 | H13: 37152 | I13: 22185.32 | J13: 30648.41 | K13: 36748.93 | L13: =SUM(H13:K13) -> 126734.66 | M13: 33065.73 | N13: 41536.72 | O13: 32465 | P13: 44586.75 | Q13: =SUM(M13:P13) -> 151654.2 | R13: 46080.99 | S13: 49111.03 | T13: 70772.22 | U13: 83640.9 | V13: =SUM(R13:U13) -> 249605.14 | W13: 57007.12 | X13: 4638.79 | Y13: 9809.87 | Z13: 23032.7 | AA13: =SUM(W13:Z13) -> 94488.48 | AB13: 24869.13 | AC13: 26961.27 | AD13: 43064.51 | AE13: 62152.7 | AF13: =SUM(AB13:AE13) -> 157047.61 | AG13: ='[3]Remittance Activities'!$G$31 -> 74619.45 | AH13: 59637.12 | AI13: 78739.555 | AJ13: 72764.22 | AK13: =SUM(AG13:AJ13) -> 285760.35
B14: DOMINICAN REPUBLIC | C14: 41199 | D14: 50279 | E14: 40527.22 | F14: 52365 | G14: 79713.48 | H14: 6744 | I14: 3066.29 | J14: 11581.84 | K14: 6238.52 | L14: =SUM(H14:K14) -> 27630.65 | M14: 5194.01 | N14: 3841.32 | O14: 6145 | P14: 10189.87 | Q14: =SUM(M14:P14) -> 25370.2 | R14: 7476.03 | S14: 14083.76 | T14: 14322.68 | U14: 11419.14 | V14: =SUM(R14:U14) -> 47301.61 | W14: 9994.41 | X14: 0 | Y14: 3456.18 | Z14: 1569.45 | AA14: =SUM(W14:Z14) -> 15020.04 | AB14: 4737.91 | AC14: 6315.41 | AD14: 6756.38 | AE14: 5657.93 | AF14: =SUM(AB14:AE14) -> 23467.63 | AG14: ='[3]Remittance Activities'!$H$31 -> 18979.6 | AH14: 10762.88 | AI14: 13580.27 | AJ14: 8640.04 | AK14: =SUM(AG14:AJ14) -> 51962.79
B15: NICARAGUA | C15: 32879 | D15: 36665 | E15: 24351.23 | F15: 25789 | G15: 17128.36 | H15: 2795 | I15: 3344.72 | J15: 4087.84 | K15: 4297.48 | L15: =SUM(H15:K15) -> 14525.04 | M15: 6119.18 | N15: 2296.26 | O15: 9029 | P15: 7730.47 | Q15: =SUM(M15:P15) -> 25174.91 | R15: 10902.06 | S15: 8016.01 | T15: 19878.16 | U15: 15670.7 | V15: =SUM(R15:U15) -> 54466.93 | W15: 3183.15 | X15: 91.42 | Y15: 606.69 | Z15: 2871.2 | AA15: =SUM(W15:Z15) -> 6752.46 | AB15: 3507 | AC15: 6228.22 | AD15: 6084.13 | AE15: 4437.18 | AF15: =SUM(AB15:AE15) -> 20256.53 | AG15: ='[3]Remittance Activities'!$I$31 -> 3924.61 | AH15: 10556.25 | AI15: 9429.47 | AJ15: 12805.32 | AK15: =SUM(AG15:AJ15) -> 36715.65
B16: COLUMBIA | C16: 73122 | D16: 97018 | E16: 75808.27 | F16: 28687 | G16: 21958.29 | H16: 5676 | I16: 19805.05 | J16: 7576.71 | K16: 12743.72 | L16: =SUM(H16:K16) -> 45801.48 | M16: 20923.72 | N16: 9886.9 | O16: 20307 | P16: 13969.14 | Q16: =SUM(M16:P16) -> 65086.76 | R16: 4660.84 | S16: 4542.15 | T16: 6123.54 | U16: 8881.09 | V16: =SUM(R16:U16) -> 24207.62 | W16: 4257.13 | X16: 2700.1 | Y16: 9133.2 | Z16: 17045.34 | AA16: =SUM(W16:Z16) -> 33135.77 | AB16: 5957.74 | AC16: 11874.73 | AD16: 10882.55 | AE16: 11109.99 | AF16: =SUM(AB16:AE16) -> 39825.01 | AG16: ='[3]Remittance Activities'!$J$31 -> 5502.54 | AH16: 6203.4 | AI16: 8121.32 | AJ16: 3841.96 | AK16: =SUM(AG16:AJ16) -> 23669.22
B17: GUYANA | C17: 11719 | D17: 14391 | E17: 16574.13 | F17: 7918 | G17: 20873.3 | H17: 8908 | I17: 3253.61 | J17: 5076.71 | K17: 12693.18 | L17: =SUM(H17:K17) -> 29931.5 | M17: 3936.3 | N17: 4425.03 | O17: 3624 | P17: 2805.41 | Q17: =SUM(M17:P17) -> 14790.74 | R17: 3158.33 | S17: 11281.45 | T17: 3425.21 | U17: 2742.6538 | V17: =SUM(R17:U17) -> 20607.644 | W17: 3197.64 | X17: 592.22 | Y17: 1149.38 | Z17: 2174.9 | AA17: =SUM(W17:Z17) -> 7114.14 | AB17: 2004.67 | AC17: 1490.96 | AD17: 791.91 | AE17: 3098.59 | AF17: =SUM(AB17:AE17) -> 7386.13 | AG17: ='[3]Remittance Activities'!$K$31 -> 1864.6 | AH17: 6284.97 | AI17: 2539.7339 | AJ17: 3679.6529 | AK17: =SUM(AG17:AJ17) -> 14368.957
B18: TRINIDAD & TOBAGO | C18: 38308 | D18: 69897 | E18: 79862.4 | F18: 83189 | G18: 48797.29 | H18: 13416 | I18: 20915.27 | J18: 14862.3 | K18: 25256.51 | L18: =SUM(H18:K18) -> 74450.08 | M18: 20260.83 | N18: 17741.3 | O18: 17354 | P18: 20932.38 | Q18: =SUM(M18:P18) -> 76288.51 | R18: 11279.47 | S18: 27056.15 | T18: 30304.08 | U18: 13689.179 | V18: =SUM(R18:U18) -> 82328.879 | W18: 20238.94 | X18: 3912.56 | Y18: 8744.92 | Z18: 6705.96 | AA18: =SUM(W18:Z18) -> 39602.38 | AB18: 5915.39 | AC18: 15199.6 | AD18: 18043.45 | AE18: 13549.47 | AF18: =SUM(AB18:AE18) -> 52707.91 | AG18: ='[3]Remittance Activities'!$L$31 -> 13301.54 | AH18: 19127.94 | AI18: 17557.407 | AJ18: 12913.46 | AK18: =SUM(AG18:AJ18) -> 62900.347
B19: INDIA | C19: 0 | D19: 0 | E19: 0 | F19: 0 | G19: 0 | H19: 0 | I19: 0 | J19: 0 | K19: 0 | L19: =SUM(H19:K19) -> 0 | M19: 0 | N19: 0 | O19: 0 | P19: 0 | Q19: =SUM(M19:P19) -> 0 | R19: 0 | S19: 0 | T19: 0 | U19: 0 | V19: =SUM(R19:U19) -> 0 | W19: 0 | X19: 0 | Y19: 0 | Z19: 0 | AA19: =SUM(W19:Z19) -> 0 | AB19: 0 | AC19: 0 | AD19: 0 | AE19: 0 | AF19: =SUM(AB19:AE19) -> 0 | AG19: ='[3]Remittance Activities'!$E$37 -> 1687.08 | AH19: 0 | AI19: 0 | AJ19: 0 | AK19: =SUM(AG19:AJ19) -> 1687.08
B20: UNITED KINGDOM | C20: 463743 | D20: 667883 | E20: 547945.43 | F20: 448071 | G20: 506693.42 | H20: 105298 | I20: 110998.57 | J20: 148668.78 | K20: 157810.25 | L20: =SUM(H20:K20) -> 522775.6 | M20: 98614.6 | N20: 120751.28 | O20: 136301 | P20: 152147.88 | Q20: =SUM(M20:P20) -> 507814.76 | R20: 108992.42 | S20: 118533.94 | T20: 115487.82 | U20: 106942.63 | V20: =SUM(R20:U20) -> 449956.81 | W20: 86290.46 | X20: 81595.46 | Y20: 99091.58 | Z20: 208283.26 | AA20: =SUM(W20:Z20) -> 475260.76 | AB20: 151172.56 | AC20: 124943.96 | AD20: 243638 | AE20: 177326.34 | AF20: =SUM(AB20:AE20) -> 697080.86 | AG20: ='[3]Remittance Activities'!$F$37 -> 183405.6 | AH20: 170971.23 | AI20: 158000.5 | AJ20: 145538.19 | AK20: =SUM(AG20:AJ20) -> 657915.52
B21: UNITED STATES | C21: 2415709 | D21: 3077253 | E21: 3021535.9 | F21: 3252040 | G21: 3311120 | H21: 861903 | I21: 938460.03 | J21: 1029044.9 | K21: 1022723 | L21: =SUM(H21:K21) -> 3852130.9 | M21: 901495.41 | N21: 1018760.9 | O21: 1015652 | P21: 1002645.3 | Q21: =SUM(M21:P21) -> 3938553.6 | R21: 912357.92 | S21: 973212.81 | T21: 966859.66 | U21: 927513.16 | V21: =SUM(R21:U21) -> 3779943.6 | W21: 787139.47 | X21: 710077.82 | Y21: 896532.98 | Z21: 1001397 | AA21: =SUM(W21:Z21) -> 3395147.3 | AB21: 1134948.8 | AC21: 1226358.2 | AD21: 1271690.9 | AE21: 1432107.9 | AF21: =SUM(AB21:AE21) -> 5065105.8 | AG21: ='[3]Remittance Activities'!$G$37 -> 1054496.1 | AH21: 1304980.4 | AI21: 1488487.8 | AJ21: 1459870.9 | AK21: =SUM(AG21:AJ21) -> 5307835.2
B22: CANADA | C22: n/a | D22: 687246 | E22: 689183.28 | F22: 517747 | G22: 459812.17 | H22: 122252 | I22: 152390.51 | J22: 124816.5 | K22: 114608.85 | L22: =SUM(H22:K22) -> 514067.86 | M22: 99524.16 | N22: 113091.54 | O22: 150817 | P22: 124095.75 | Q22: =SUM(M22:P22) -> 487528.45 | R22: 118840.62 | S22: 137877.18 | T22: 136705.95 | U22: 113743.76 | V22: =SUM(R22:U22) -> 507167.51 | W22: 108641.38 | X22: 78968.31 | Y22: 95154.55 | Z22: 119887.47 | AA22: =SUM(W22:Z22) -> 402651.71 | AB22: 162161.17 | AC22: 124120.28 | AD22: 155838.28 | AE22: 154687.94 | AF22: =SUM(AB22:AE22) -> 596807.67 | AG22: ='[3]Remittance Activities'!$H$37 -> 162591.48 | AH22: 139630.45 | AI22: 126451.41 | AJ22: 145289.35 | AK22: =SUM(AG22:AJ22) -> 573962.69
B23: COSTA RICA | C23: n/a | D23: 19887 | E23: 26075.33 | F23: 17578 | G23: 9562.68 | H23: 446 | I23: 6608.6 | J23: 2627.77 | K23: 7582.92 | L23: =SUM(H23:K23) -> 17265.29 | M23: 5029.08 | N23: 1842.65 | O23: 5668 | P23: 3163.31 | Q23: =SUM(M23:P23) -> 15703.04 | R23: 2663.27 | S23: 3518.93 | T23: 3030 | U23: 4715.76 | V23: =SUM(R23:U23) -> 13927.96 | W23: 0 | X23: 4119.11 | Y23: 585.24 | Z23: 100 | AA23: =SUM(W23:Z23) -> 4804.35 | AB23: 7592.49 | AC23: 3261.49 | AD23: 1523.73 | AE23: 498.96 | AF23: =SUM(AB23:AE23) -> 12876.67 | AG23: ='[3]Remittance Activities'!$I$37 -> 3574.44 | AH23: 1927.53 | AI23: 4994.02 | AJ23: 1918.56 | AK23: =SUM(AG23:AJ23) -> 12414.55
B24: BARBADOS | C24: n/a | D24: 52558 | E24: 27565.37 | F24: 18038 | G24: 17155.54 | H24: 7000 | I24: 3384.29 | J24: 11870.38 | K24: 15761.25 | L24: =SUM(H24:K24) -> 38015.92 | M24: 3348.97 | N24: 2867.72 | O24: 2141 | P24: 4795.65 | Q24: =SUM(M24:P24) -> 13153.34 | R24: 6826.37 | S24: 7265.73 | T24: 6264.64 | U24: 5265.31 | V24: =SUM(R24:U24) -> 25622.05 | W24: 8212.3 | X24: 0 | Y24: 3384.57 | Z24: 1063.82 | AA24: =SUM(W24:Z24) -> 12660.69 | AB24: 13155.77 | AC24: 4878.59 | AD24: 3855.22 | AE24: 7144.19 | AF24: =SUM(AB24:AE24) -> 29033.77 | AG24: ='[3]Remittance Activities'!$J$37 -> 10638.13 | AH24: 1960.56 | AI24: 15420.02 | AJ24: 13370.612 | AK24: =SUM(AG24:AJ24) -> 41389.322
B25: PANAMA | C25: n/a | D25: 12376 | E25: 17126.41 | F25: 9892 | G25: 13079.93 | H25: 5587 | I25: 4816.05 | J25: 3751.05 | K25: 6391.08 | L25: =SUM(H25:K25) -> 20545.18 | M25: 10764.11 | N25: 6789.64 | O25: 9798 | P25: 5929.95 | Q25: =SUM(M25:P25) -> 33281.7 | R25: 9668.47 | S25: 11676.47 | T25: 15046.33 | U25: 4463.3262 | V25: =SUM(R25:U25) -> 40854.596 | W25: 9068.59 | X25: 4783.55 | Y25: 4595.13 | Z25: 2714.4 | AA25: =SUM(W25:Z25) -> 21161.67 | AB25: 578.5 | AC25: 242.36 | AD25: 1495.62 | AE25: 2009.55 | AF25: =SUM(AB25:AE25) -> 4326.03 | AG25: ='[3]Remittance Activities'!$K$37 -> 8131.82 | AH25: 1249.6 | AI25: 291 | AJ25: 1839.2793 | AK25: =SUM(AG25:AJ25) -> 11511.699
B26: BELIZE | C26: n/a | D26: n/a | E26: n/a | F26: n/a | G26: n/a | H26: 895 | I26: 1139.28 | J26: 4294.94 | K26: 918.05 | L26: =SUM(H26:K26) -> 7247.27 | M26: 2019.91 | N26: 1571.27 | O26: 2903 | P26: 1276.3 | Q26: =SUM(M26:P26) -> 7770.48 | R26: 3539.51 | S26: 1783.51 | T26: 1649.99 | U26: 4280.45 | V26: =SUM(R26:U26) -> 11253.46 | W26: 4188.87 | X26: 659.22 | Y26: 1257.86 | Z26: 2034.94 | AA26: =SUM(W26:Z26) -> 8140.89 | AB26: 918.08 | AC26: 2631.37 | AD26: 672.91 | AE26: 313.32 | AF26: =SUM(AB26:AE26) -> 4535.68 | AG26: ='[3]Remittance Activities'!$L$37 -> 1250.64 | AH26: 1075.27 | AI26: 870.03 | AJ26: 2435.6332 | AK26: =SUM(AG26:AJ26) -> 5631.5732
B27: CHINA | C27: n/a | D27: n/a | E27: n/a | F27: n/a | G27: n/a | H27: 611 | I27: 5505.72 | J27: 0 | K27: 317.45 | L27: =SUM(H27:K27) -> 6434.17 | M27: 197.8 | N27: 378.79 | O27: 757 | P27: 1186.8 | Q27: =SUM(M27:P27) -> 2520.39 | R27: 0 | S27: 692.3 | T27: 1341.08 | U27: 2541.74 | V27: =SUM(R27:U27) -> 4575.12 | W27: 100 | X27: 0 | Y27: 486 | Z27: 0 | AA27: =SUM(W27:Z27) -> 586 | AB27: 0 | AC27: 476.19 | AD27: 0 | AE27: 0 | AF27: =SUM(AB27:AE27) -> 476.19 | AG27: ='[3]Remittance Activities'!$E$43 -> 0 | AH27: 1305.64 | AI27: 0 | AJ27: 0 | AK27: =SUM(AG27:AJ27) -> 1305.64
B28: CUBA | C28: n/a | D28: n/a | E28: n/a | F28: n/a | G28: n/a | H28: 0 | I28: 0 | J28: 0 | K28: 0 | L28: =SUM(H28:K28) -> 0 | M28: 0 | N28: 0 | O28: 0 | P28: 0 | Q28: =SUM(M28:P28) -> 0 | R28: 0 | S28: 0 | T28: 0 | U28: 0 | V28: =SUM(R28:U28) -> 0 | W28: 0 | X28: 0 | Y28: 0 | Z28: 0 | AA28: =SUM(W28:Z28) -> 0 | AB28: 0 | AC28: 0 | AD28: 0 | AE28: 0 | AF28: =SUM(AB28:AE28) -> 0 | AG28: ='[3]Remittance Activities'!$F$43 -> 0 | AH28: 0 | AI28: 0 | AJ28: 0 | AK28: =SUM(AG28:AJ28) -> 0
B29: KENYA | C29: n/a | D29: n/a | E29: n/a | F29: n/a | G29: n/a | H29: 0 | I29: 3399.59 | J29: 101.21 | K29: 4022.19 | L29: =SUM(H29:K29) -> 7522.99 | M29: 3636.44 | N29: 150 | O29: 1115 | P29: 1165.19 | Q29: =SUM(M29:P29) -> 6066.63 | R29: 533.76 | S29: 203.29 | T29: 8898.77 | U29: 274.89 | V29: =SUM(R29:U29) -> 9910.71 | W29: 239.7 | X29: 0 | Y29: 3285.59 | Z29: 3110.25 | AA29: =SUM(W29:Z29) -> 6635.54 | AB29: 0 | AC29: 0 | AD29: 2566.78 | AE29: 4348.48 | AF29: =SUM(AB29:AE29) -> 6915.26 | AG29: ='[3]Remittance Activities'!$G$43 -> 684.63 | AH29: 0 | AI29: 2107.33 | AJ29: 7704.74 | AK29: =SUM(AG29:AJ29) -> 10496.7
B30: MEXICO | C30: n/a | D30: n/a | E30: n/a | F30: n/a | G30: n/a | H30: 5601 | I30: 404.91 | J30: 0 | K30: 2411 | L30: =SUM(H30:K30) -> 8416.91 | M30: 3398.85 | N30: 0 | O30: 2521 | P30: 0 | Q30: =SUM(M30:P30) -> 5919.85 | R30: 2279.77 | S30: 0 | T30: 0 | U30: 552.94 | V30: =SUM(R30:U30) -> 2832.71 | W30: 0 | X30: 700.92 | Y30: 595.23 | Z30: 0 | AA30: =SUM(W30:Z30) -> 1296.15 | AB30: 0 | AC30: 50 | AD30: 0 | AE30: 1673.82 | AF30: =SUM(AB30:AE30) -> 1723.82 | AG30: ='[3]Remittance Activities'!$H$43 -> 0 | AH30: 204.68 | AI30: 1244.81 | AJ30: 1065.26 | AK30: =SUM(AG30:AJ30) -> 2514.75
B31: NEPAL | C31: n/a | D31: n/a | E31: n/a | F31: n/a | G31: n/a | H31: 0 | I31: 0 | J31: 0 | K31: 0 | L31: =SUM(H31:K31) -> 0 | M31: 0 | N31: 0 | O31: 0 | P31: 0 | Q31: =SUM(M31:P31) -> 0 | R31: 0 | S31: 145.5 | T31: 1639.76 | U31: 2840.8 | V31: =SUM(R31:U31) -> 4626.06 | W31: 9668.33 | X31: 145.5 | Y31: 3260.42 | Z31: 1755.7 | AA31: =SUM(W31:Z31) -> 14829.95 | AB31: 2716 | AC31: 1309.5 | AD31: 3065.2 | AE31: 5003.41 | AF31: =SUM(AB31:AE31) -> 12094.11 | AG31: ='[3]Remittance Activities'!$I$43 -> 388 | AH31: 1195.32 | AI31: 0 | AJ31: 0 | AK31: =SUM(AG31:AJ31) -> 1583.32
B32: PERU | C32: n/a | D32: n/a | E32: n/a | F32: n/a | G32: n/a | H32: 2311 | I32: 2854.83 | J32: 0 | K32: 500 | L32: =SUM(H32:K32) -> 5665.83 | M32: 6928.75 | N32: 2790.79 | O32: 1000 | P32: 4535.3 | Q32: =SUM(M32:P32) -> 15254.84 | R32: 776 | S32: 300 | T32: 0 | U32: 0 | V32: =SUM(R32:U32) -> 1076 | W32: 300 | X32: 0 | Y32: 0 | Z32: 0 | AA32: =SUM(W32:Z32) -> 300 | AB32: 0 | AC32: 0 | AD32: 0 | AE32: 0 | AF32: =SUM(AB32:AE32) -> 0 | AG32: ='[3]Remittance Activities'!$J$43 -> 0 | AH32: 0 | AI32: 514.58 | AJ32: 485 | AK32: =SUM(AG32:AJ32) -> 999.58
B33: ZIMBABWE | C33: n/a | D33: n/a | E33: n/a | F33: n/a | G33: n/a | H33: 776 | I33: 620.8 | J33: 0 | K33: 0 | L33: =SUM(H33:K33) -> 1396.8 | M33: 0 | N33: 1066.04 | O33: 0 | P33: 0 | Q33: =SUM(M33:P33) -> 1066.04 | R33: 38.8 | S33: 34.52 | T33: 1404.45 | U33: 575.47 | V33: =SUM(R33:U33) -> 2053.24 | W33: 2045.75 | X33: 1208.09 | Y33: 502.54 | Z33: 2073.72 | AA33: =SUM(W33:Z33) -> 5830.1 | AB33: 765.33 | AC33: 442.15 | AD33: 2232.64 | AE33: 176.88 | AF33: =SUM(AB33:AE33) -> 3617 | AG33: ='[3]Remittance Activities'!$K$43 -> 1354.18 | AH33: 119.43 | AI33: 0 | AJ33: 0 | AK33: =SUM(AG33:AJ33) -> 1473.61
B34: OTHER | C34: 1347765 | D34: 1009527 | E34: 782515 | F34: 608091 | G34: 1027951.8 | H34: 241134 | I34: 342980.69 | J34: 436575.87 | K34: 391292.59 | L34: =SUM(H34:K34) -> 1411983.1 | M34: 347938.15 | N34: 384084.89 | O34: 372861 | P34: 393038.61 | Q34: =SUM(M34:P34) -> 1497922.6 | R34: 353974.61 | S34: 434665.32 | T34: 458998.93 | U34: 477910.79 | V34: =SUM(R34:U34) -> 1725549.6 | W34: 406674.74 | X34: 188053.65 | Y34: 337698.3 | Z34: 269113.02 | AA34: =SUM(W34:Z34) -> 1201539.7 | AB34: 259086.66 | AC34: 363657.92 | AD34: 355979.26 | AE34: 423489.44 | AF34: =SUM(AB34:AE34) -> 1402213.3 | AG34: ='[3]Remittance Activities'!$L$43 -> 444420.45 | AH34: 273988.69 | AI34: 285685.81 | AJ34: 296259.99 | AK34: =SUM(AG34:AJ34) -> 1300354.9
B35: VALUE IN US$ | C35: =SUM(C11:C34) -> 5882706 | D35: =SUM(D11:D34) -> 7201859 | E35: =SUM(E11:E34) -> 6486412.1 | F35: =SUM(F11:F34) -> 6073011 | G35: =SUM(G11:G34) -> 6531966.2 | H35: =SUM(H11:H34) -> 1686807 | I35: =SUM(I11:I34) -> 1888627.8 | J35: =SUM(J11:J34) -> 2090949.6 | ... AG35: =SUM(AG11:AG34) -> 2335170.5 | AH35: 2381724.9 | AI35: 2605187 | AJ35: 2650456.6 | AK35: =SUM(AG35:AJ35) -> 9972539
B36: * aggregated information does not include one reporting entity.
B37: n/a - data not collected
B38: Source: Money Service Providers (MSP's) licensed by Cayman Islands Monetary Authority (CIMA).
B39: Updated -December 2022

Sheet Tri-Year Comparison
I1: 1 | S1: 1 | AC1: 1 | AM1: 1
B2: OUTFLOWS | I2: 2 | L2: INFLOWS | S2: 2 | V2: TRANS OUTFLOWS | AC2: 2 | AF2: TRANS INFLOWS | AM2: 2
I3: 3 | S3: 3 | AC3: 3 | AM3: 3
I4: 4 | S4: 4 | AC4: 4 | AM4: 4
AC5: 5 | AF5: 2020Q4 | AG5: 2021Q4 | AH5: 2022Q4 | AI5: 17/18 Diff | AJ5: 18/19 Diff | AM5: 5
U6: COUNTRY | V6: 2020Q4 | W6: 2021Q4 | X6: 2022Q4 | Y6: 17/18 Diff | Z6: 18/19 Diff | AF6: 5401 | AG6: 6923 | AH6: 6636 | AI6: =AG6-AF6 -> 1522 | AJ6: =AH6-AG6 -> -287 | AK6: =AI6/AF6 -> 0.28179967 | AL6: =AJ6/AG6 -> -0.041456016
A7: COUNTRY | B7: 2020Q4 | C7: 2021Q4 | D7: 2022Q4 | E7: 17/18 Diff | F7: 18/19 Diff | K7: COUNTRY | L7: 2020Q4 | M7: 2021Q4 | N7: 2022Q4 | O7: 17/18 Diff | P7: 18/19 Diff | U7: JAMAICA | V7: 18067 | W7: 19282 | X7: 20810 | Y7: =W7-V7 -> 1215 | Z7: =X7-W7 -> 1528 | AA7: =Y7/V7 -> 0.067249682 | AB7: =Z7/W7 -> 0.079244892 | AC7: =_xlfn.RANK.EQ(V7,V$7:V$29,0) -> 1
A8: JAMAICA | B8: 44128445 | C8: 45495936 | D8: 50169944 | E8: =C8-B8 -> 1367491.8 | F8: =D8-C8 -> 4674007.3 | G8: =E8/B8 -> 0.030988896 | H8: =F8/C8 -> 0.10273461 | I8: =_xlfn.RANK.EQ(B8,B$8:B$30,0) -> 1 | K8: JAMAICA | L8: 154287.11 | M8: 338587.85 | N8: 425086.06 | O8: =M8-L8 -> 184300.74 | P8: =N8-M8 -> 86498.209 | Q8: =O8/L8 -> 1.194531 | R8: =P8/M8 -> 0.25546755 | S8: =_xlfn.RANK.EQ(L8,L$8:L$30,0) -> 3 | U8: HONDURAS | V8: 1638 | W8: 1781 | X8: 1742 | Y8: =W8-V8 -> 143 | Z8: =X8-W8 -> -39 | AA8: =Y8/V8 -> 0.087301587 | AB8: =Z8/W8 -> -0.02189781 | AC8: =_xlfn.RANK.EQ(V8,V$7:V$29,0) -> 3
A9: HONDURAS | B9: 5301720.5 | C9: 5459451.8 | D9: 5639942.6 | E9: =C9-B9 -> 157731.31 | F9: =D9-C9 -> 180490.79 | G9: =E9/B9 -> 0.029750967 | H9: =F9/C9 -> 0.03306024 | I9: =_xlfn.RANK.EQ(B9,B$8:B$30,0) -> 3 | K9: HONDURAS | L9: 9106.48 | M9: 27857.77 | N9: 34948.291 | O9: =M9-L9 -> 18751.29 | P9: =N9-M9 -> 7090.5212 | Q9: =O9/L9 -> 2.059115 | R9: =P9/M9 -> 0.2545258 | S9: =_xlfn.RANK.EQ(L9,L$8:L$30,0) -> 7 | U9: PHILIPPINES | V9: 6070 | W9: 6411 | X9: 6807 | Y9: =W9-V9 -> 341 | Z9: =X9-W9 -> 396 | AA9: =Y9/V9 -> 0.056177924 | AB9: =Z9/W9 -> 0.061768835 | AC9: =_xlfn.RANK.EQ(V9,V$7:V$29,0) -> 2
A10: PHILIPPINES | B10: 11731488 | C10: 12101997 | D10: 13115506 | E10: =C10-B10 -> 370509.28 | F10: =D10-C10 -> 1013509.2 | G10: =E10/B10 -> 0.031582463 | H10: =F10/C10 -> 0.083747265 | I10: =_xlfn.RANK.EQ(B10,B$8:B$30,0) -> 2 | K10: PHILIPPINES | L10: 23032.7 | M10: 62152.7 | N10: 72764.22 | O10: =M10-L10 -> 39120 | P10: =N10-M10 -> 10611.52 | Q10: =O10/L10 -> 1.6984548 | R10: =P10/M10 -> 0.17073305 | S10: =_xlfn.RANK.EQ(L10,L$8:L$30,0) -> 5 | U10: DOMINICAN REPUBLIC | V10: 653 | W10: 657 | X10: 794 | Y10: =W10-V10 -> 4 | Z10: =X10-W10 -> 137 | AA10: =Y10/V10 -> 0.0061255743 | AB10: =Z10/W10 -> 0.20852359 | AC10: =_xlfn.RANK.EQ(V10,V$7:V$29,0) -> 5 | AE10: COUNTRY | AF10: 2020Q4 | AG10: 2021Q4 | AH10: 2022Q4 | AI10: 17/18 Diff | AJ10: 18/19 Diff
A11: DOMINICAN REPUBLIC | B11: 1426159.4 | C11: 1438534 | D11: 1643727.7 | E11: =C11-B11 -> 12374.67 | F11: =D11-C11 -> 205193.64 | G11: =E11/B11 -> 0.0086769194 | H11: =F11/C11 -> 0.1426408 | I11: =_xlfn.RANK.EQ(B11,B$8:B$30,0) -> 6 | K11: DOMINICAN REPUBLIC | L11: 1569.45 | M11: 5657.93 | N11: 8640.04 | O11: =M11-L11 -> 4088.48 | P11: =N11-M11 -> 2982.11 | Q11: =O11/L11 -> 2.60504 | R11: =P11/M11 -> 0.52706732 | S11: =_xlfn.RANK.EQ(L11,L$8:L$30,0) -> 16 | U11: NICARAGUA | V11: 539 | W11: 404 | X11: 539 | Y11: =W11-V11 -> -135 | Z11: =X11-W11 -> 135 | AA11: =Y11/V11 -> -0.25046382 | AB11: =Z11/W11 -> 0.33415842 | AC11: =_xlfn.RANK.EQ(V11,V$7:V$29,0) -> 6 | AE11: JAMAICA | AF11: 154287.11 | AG11: 338587.85 | AH11: 425086.06 | AI11: =AG11-AF11 -> 184300.74 | AJ11: =AH11-AG11 -> 86498.209 | AK11: =AI11/AF11 -> 1.194531 | AL11: =AJ11/AG11 -> 0.25546755 | AM11: =_xlfn.RANK.EQ(AF11,AF$11:AF$33,0) -> 3
A12: NICARAGUA | B12: 1843939.6 | C12: 1721893.6 | D12: 2032665.8 | E12: =C12-B12 -> -122045.94 | F12: =D12-C12 -> 310772.22 | G12: =E12/B12 -> -0.066187603 | H12: =F12/C12 -> 0.18048282 | I12: =_xlfn.RANK.EQ(B12,B$8:B$30,0) -> 5 | K12: NICARAGUA | L12: 2871.2 | M12: 4437.18 | N12: 12805.32 | O12: =M12-L12 -> 1565.98 | P12: =N12-M12 -> 8368.14 | Q12: =O12/L12 -> 0.54540958 | R12: =P12/M12 -> 1.885914 | S12: =_xlfn.RANK.EQ(L12,L$8:L$30,0) -> 10 | U12: COLUMBIA | V12: 343 | W12: 287 | X12: 316 | Y12: =W12-V12 -> -56 | Z12: =X12-W12 -> 29 | AA12: =Y12/V12 -> -0.16326531 | AB12: =Z12/W12 -> 0.1010453 | AC12: =_xlfn.RANK.EQ(V12,V$7:V$29,0) -> 7 | AE12: HONDURAS | AF12: 9106.48 | AG12: 27857.77 | AH12: 34948.291 | AI12: =AG12-AF12 -> 18751.29 | AJ12: =AH12-AG12 -> 7090.5212 | AK12: =AI12/AF12 -> 2.059115 | AL12: =AJ12/AG12 -> 0.2545258 | AM12: =_xlfn.RANK.EQ(AF12,AF$11:AF$33,0) -> 7
A13: COLOMBIA | B13: 925342.66 | C13: 751331.18 | D13: 819075.09 | E13: =C13-B13 -> -174011.48 | F13: =D13-C13 -> 67743.913 | G13: =E13/B13 -> -0.18805086 | H13: =F13/C13 -> 0.090165182 | I13: =_xlfn.RANK.EQ(B13,B$8:B$30,0) -> 7 | K13: COLOMBIA | L13: 17045.34 | M13: 11109.99 | N13: 3841.96 | O13: =M13-L13 -> -5935.35 | P13: =N13-M13 -> -7268.03 | Q13: =O13/L13 -> -0.34820954 | R13: =P13/M13 -> -0.65418871 | S13: =_xlfn.RANK.EQ(L13,L$8:L$30,0) -> 6 | U13: GUYANA | V13: 234 | W13: 225 | X13: 198 | Y13: =W13-V13 -> -9 | Z13: =X13-W13 -> -27 | AA13: =Y13/V13 -> -0.038461538 | AB13: =Z13/W13 -> -0.12 | AC13: =_xlfn.RANK.EQ(V13,V$7:V$29,0) -> 9 | AE13: PHILIPPINES | AF13: 23032.7 | AG13: 62152.7 | AH13: 72764.22 | AI13: =AG13-AF13 -> 39120 | AJ13: =AH13-AG13 -> 10611.52 | AK13: =AI13/AF13 -> 1.6984548 | AL13: =AJ13/AG13 -> 0.17073305 | AM13: =_xlfn.RANK.EQ(AF13,AF$11:AF$33,0) -> 5
A14: GUYANA | B14: 610326.97 | C14: 568144.74 | D14: 506928.36 | E14: =C14-B14 -> -42182.23 | F14: =D14-C14 -> -61216.385 | G14: =E14/B14 -> -0.06911415 | H14: =F14/C14 -> -0.10774787 | I14: =_xlfn.RANK.EQ(B14,B$8:B$30,0) -> 8 | K14: GUYANA | L14: 2174.9 | M14: 3098.59 | N14: 3679.6529 | O14: =M14-L14 -> 923.69 | P14: =N14-M14 -> 581.06293 | Q14: =O14/L14 -> 0.42470458 | R14: =P14/M14 -> 0.18752495 | S14: =_xlfn.RANK.EQ(L14,L$8:L$30,0) -> 12 | U14: TRINIDAD & TOBAGO | V14: 46 | W14: 28 | X14: 22 | Y14: =W14-V14 -> -18 | Z14: =X14-W14 -> -6 | AA14: =Y14/V14 -> -0.39130435 | AB14: =Z14/W14 -> -0.21428571 | AC14: =_xlfn.RANK.EQ(V14,V$7:V$29,0) -> 16 | AE14: DOMINICAN REPUBLIC | AF14: 1569.45 | AG14: 5657.93 | AH14: 8640.04 | AI14: =AG14-AF14 -> 4088.48 | AJ14: =AH14-AG14 -> 2982.11 | AK14: =AI14/AF14 -> 2.60504 | AL14: =AJ14/AG14 -> 0.52706732 | AM14: =_xlfn.RANK.EQ(AF14,AF$11:AF$33,0) -> 16
A15: TRINIDAD & TOBAGO | B15: 130994.29 | C15: 95832.65 | D15: 110145.35 | E15: =C15-B15 -> -35161.64 | F15: =D15-C15 -> 14312.704 | G15: =E15/B15 -> -0.26842117 | H15: =F15/C15 -> 0.14935102 | I15: =_xlfn.RANK.EQ(B15,B$8:B$30,0) -> 17 | K15: TRINIDAD & TOBAGO | L15: 6705.96 | M15: 13549.47 | N15: 12913.46 | O15: =M15-L15 -> 6843.51 | P15: =N15-M15 -> -636.00976 | Q15: =O15/L15 -> 1.0205116 | R15: =P15/M15 -> -0.046939825 | S15: =_xlfn.RANK.EQ(L15,L$8:L$30,0) -> 8 | U15: INDIA | V15: 241 | W15: 209 | X15: 228 | Y15: =W15-V15 -> -32 | Z15: =X15-W15 -> 19 | AA15: =Y15/V15 -> -0.13278008 | AB15: =Z15/W15 -> 0.090909091 | AC15: =_xlfn.RANK.EQ(V15,V$7:V$29,0) -> 8 | AE15: NICARAGUA | AF15: 2871.2 | AG15: 4437.18 | AH15: 12805.32 | AI15: =AG15-AF15 -> 1565.98 | AJ15: =AH15-AG15 -> 8368.14 | AK15: =AI15/AF15 -> 0.54540958 | AL15: =AJ15/AG15 -> 1.885914 | AM15: =_xlfn.RANK.EQ(AF15,AF$11:AF$33,0) -> 10
A16: INDIA | B16: 437880.38 | C16: 382562.68 | D16: 419157.46 | E16: =C16-B16 -> -55317.7 | F16: =D16-C16 -> 36594.778 | G16: =E16/B16 -> -0.12633062 | H16: =F16/C16 -> 0.095656948 | I16: =_xlfn.RANK.EQ(B16,B$8:B$30,0) -> 9 | K16: INDIA | L16: 0 | M16: 0 | N16: 0 | O16: =M16-L16 -> 0 | P16: =N16-M16 -> 0 | Q16: 0 | R16: 0 | S16: =_xlfn.RANK.EQ(L16,L$8:L$30,0) -> 19 | U16: UNITED KINGDOM | V16: 99 | W16: 91 | X16: 92 | Y16: =W16-V16 -> -8 | Z16: =X16-W16 -> 1 | AA16: =Y16/V16 -> -0.080808081 | AB16: =Z16/W16 -> 0.010989011 | AC16: =_xlfn.RANK.EQ(V16,V$7:V$29,0) -> 14 | AE16: COLUMBIA | AF16: 17045.34 | AG16: 11109.99 | AH16: 3841.96 | AI16: =AG16-AF16 -> -5935.35 | AJ16: =AH16-AG16 -> -7268.03 | AK16: =AI16/AF16 -> -0.34820954 | AL16: =AJ16/AG16 -> -0.65418871 | AM16: =_xlfn.RANK.EQ(AF16,AF$11:AF$33,0) -> 6
A17: UNITED KINGDOM | B17: 256283.77 | C17: 249933.96 | D17: 241357.81 | E17: =C17-B17 -> -6349.81 | F17: =D17-C17 -> -8576.148 | G17: =E17/B17 -> -0.024776481 | H17: =F17/C17 -> -0.034313656 | I17: =_xlfn.RANK.EQ(B17,B$8:B$30,0) -> 13 | K17: UNITED KINGDOM | L17: 208283.26 | M17: 177326.34 | N17: 145538.19 | O17: =M17-L17 -> -30956.92 | P17: =N17-M17 -> -31788.148 | Q17: =O17/L17 -> -0.14862894 | R17: =P17/M17 -> -0.17926354 | S17: =_xlfn.RANK.EQ(L17,L$8:L$30,0) -> 2 | U17: UNITED STATES | V17: 1575 | W17: 1587 | X17: 1569 | Y17: =W17-V17 -> 12 | Z17: =X17-W17 -> -18 | AA17: =Y17/V17 -> 0.0076190476 | AB17: =Z17/W17 -> -0.011342155 | AC17: =_xlfn.RANK.EQ(V17,V$7:V$29,0) -> 4 | AE17: GUYANA | AF17: 2174.9 | AG17: 3098.59 | AH17: 3679.6529 | AI17: =AG17-AF17 -> 923.69 | AJ17: =AH17-AG17 -> 581.06293 | AK17: =AI17/AF17 -> 0.42470458 | AL17: =AJ17/AG17 -> 0.18752495 | AM17: =_xlfn.RANK.EQ(AF17,AF$11:AF$33,0) -> 12
A18: UNITED STATES | B18: 3616271.4 | C18: 3479354.2 | D18: 3498429.5 | E18: =C18-B18 -> -136917.14 | F18: =D18-C18 -> 19075.261 | G18: =E18/B18 -> -0.037861412 | H18: =F18/C18 -> 0.0054824142 | I18: =_xlfn.RANK.EQ(B18,B$8:B$30,0) -> 4 | K18: UNITED STATES | L18: 1001397 | M18: 1432107.9 | N18: 1459870.9 | O18: =M18-L18 -> 430710.88 | P18: =N18-M18 -> 27763.024 | Q18: =O18/L18 -> 0.43011 | R18: =P18/M18 -> 0.019386126 | S18: =_xlfn.RANK.EQ(L18,L$8:L$30,0) -> 1 | U18: CANADA | V18: 200 | W18: 208 | X18: 223 | Y18: =W18-V18 -> 8 | Z18: =X18-W18 -> 15 | AA18: =Y18/V18 -> 0.04 | AB18: =Z18/W18 -> 0.072115385 | AC18: =_xlfn.RANK.EQ(V18,V$7:V$29,0) -> 10 | AE18: TRINIDAD & TOBAGO | AF18: 6705.96 | AG18: 13549.47 | AH18: 12913.46 | AI18: =AG18-AF18 -> 6843.51 | AJ18: =AH18-AG18 -> -636.00976 | AK18: =AI18/AF18 -> 1.0205116 | AL18: =AJ18/AG18 -> -0.046939825 | AM18: =_xlfn.RANK.EQ(AF18,AF$11:AF$33,0) -> 8
A19: CANADA | B19: 420152.27 | C19: 446250.74 | D19: 473720.76 | E19: =C19-B19 -> 26098.47 | F19: =D19-C19 -> 27470.019 | G19: =E19/B19 -> 0.062116694 | H19: =F19/C19 -> 0.061557362 | I19: =_xlfn.RANK.EQ(B19,B$8:B$30,0) -> 10 | K19: CANADA | L19: 119887.47 | M19: 154687.94 | N19: 145289.35 | O19: =M19-L19 -> 34800.47 | P19: =N19-M19 -> -9398.5861 | Q19: =O19/L19 -> 0.29027612 | R19: =P19/M19 -> -0.060758364 | S19: =_xlfn.RANK.EQ(L19,L$8:L$30,0) -> 4 | U19: COSTA RICA | V19: 133 | W19: 107 | X19: 100 | Y19: =W19-V19 -> -26 | Z19: =X19-W19 -> -7 | AA19: =Y19/V19 -> -0.19548872 | AB19: =Z19/W19 -> -0.065420561 | AC19: =_xlfn.RANK.EQ(V19,V$7:V$29,0) -> 12 | AE19: INDIA | AF19: 0 | AG19: 0 | AH19: 0 | AI19: =AG19-AF19 -> 0 | AJ19: =AH19-AG19 -> 0 | AK19: 0 | AL19: 0 | AM19: =_xlfn.RANK.EQ(AF19,AF$11:AF$33,0) -> 19
A20: COSTA RICA | B20: 304465.75 | C20: 255311.82 | D20: 275128.02 | E20: =C20-B20 -> -49153.93 | F20: =D20-C20 -> 19816.2 | G20: =E20/B20 -> -0.16144322 | H20: =F20/C20 -> 0.077615679 | I20: =_xlfn.RANK.EQ(B20,B$8:B$30,0) -> 12 | K20: COSTA RICA | L20: 100 | M20: 498.96 | N20: 1918.56 | O20: =M20-L20 -> 398.96 | P20: =N20-M20 -> 1419.6 | Q20: =O20/L20 -> 3.9896 | R20: =P20/M20 -> 2.8451178 | S20: =_xlfn.RANK.EQ(L20,L$8:L$30,0) -> 18 | U20: BARBADOS | V20: 25 | W20: 38 | X20: 35 | Y20: =W20-V20 -> 13 | Z20: =X20-W20 -> -3 | AA20: =Y20/V20 -> 0.52 | AB20: =Z20/W20 -> -0.078947368 | AC20: =_xlfn.RANK.EQ(V20,V$7:V$29,0) -> 21 | AE20: UNITED KINGDOM | AF20: 208283.26 | AG20: 177326.34 | AH20: 145538.19 | AI20: =AG20-AF20 -> -30956.92 | AJ20: =AH20-AG20 -> -31788.148 | AK20: =AI20/AF20 -> -0.14862894 | AL20: =AJ20/AG20 -> -0.17926354 | AM20: =_xlfn.RANK.EQ(AF20,AF$11:AF$33,0) -> 2
A21: BARBADOS | B21: 79527.63 | C21: 81943.04 | D21: 82056.55 | E21: =C21-B21 -> 2415.41 | F21: =D21-C21 -> 113.50951 | G21: =E21/B21 -> 0.03037196 | H21: =F21/C21 -> 0.0013852246 | I21: =_xlfn.RANK.EQ(B21,B$8:B$30,0) -> 19 | K21: BARBADOS | L21: 1063.82 | M21: 7144.19 | N21: 13370.612 | O21: =M21-L21 -> 6080.37 | P21: =N21-M21 -> 6226.4222 | Q21: =O21/L21 -> 5.7156004 | R21: =P21/M21 -> 0.87153648 | S21: =_xlfn.RANK.EQ(L21,L$8:L$30,0) -> 17 | U21: PANAMA | V21: 16 | W21: 20 | X21: 29 | Y21: =W21-V21 -> 4 | Z21: =X21-W21 -> 9 | AA21: =Y21/V21 -> 0.25 | AB21: =Z21/W21 -> 0.45 | AC21: =_xlfn.RANK.EQ(V21,V$7:V$29,0) -> 22 | AE21: UNITED STATES | AF21: 1001397 | AG21: 1432107.9 | AH21: 1459870.9 | AI21: =AG21-AF21 -> 430710.88 | AJ21: =AH21-AG21 -> 27763.024 | AK21: =AI21/AF21 -> 0.43011 | AL21: =AJ21/AG21 -> 0.019386126 | AM21: =_xlfn.RANK.EQ(AF21,AF$11:AF$33,0) -> 1
A22: PANAMA | B22: 64538.53 | C22: 74901.76 | D22: 75683.364 | E22: =C22-B22 -> 10363.23 | F22: =D22-C22 -> 781.60366 | G22: =E22/B22 -> 0.16057431 | H22: =F22/C22 -> 0.010435051 | I22: =_xlfn.RANK.EQ(B22,B$8:B$30,0) -> 21 | K22: PANAMA | L22: 2714.4 | M22: 2009.55 | N22: 1839.2793 | O22: =M22-L22 -> -704.85 | P22: =N22-M22 -> -170.27073 | Q22: =O22/L22 -> -0.25967065 | R22: =P22/M22 -> -0.084730776 | S22: =_xlfn.RANK.EQ(L22,L$8:L$30,0) -> 11 | U22: BELIZE | V22: 46 | W22: 121 | X22: 60 | Y22: =W22-V22 -> 75 | Z22: =X22-W22 -> -61 | AA22: =Y22/V22 -> 1.6304348 | AB22: =Z22/W22 -> -0.50413223 | AC22: =_xlfn.RANK.EQ(V22,V$7:V$29,0) -> 16 | AE22: CANADA | AF22: 119887.47 | AG22: 154687.94 | AH22: 145289.35 | AI22: =AG22-AF22 -> 34800.47 | AJ22: =AH22-AG22 -> -9398.5861 | AK22: =AI22/AF22 -> 0.29027612 | AL22: =AJ22/AG22 -> -0.060758364 | AM22: =_xlfn.RANK.EQ(AF22,AF$11:AF$33,0) -> 4
A23: BELIZE | B23: 156831.63 | C23: 165855.25 | D23: 173151.58 | E23: =C23-B23 -> 9023.62 | F23: =D23-C23 -> 7296.3337 | G23: =E23/B23 -> 0.05753699 | H23: =F23/C23 -> 0.043992178 | I23: =_xlfn.RANK.EQ(B23,B$8:B$30,0) -> 16 | K23: BELIZE | L23: 2034.94 | M23: 313.32 | N23: 2435.6332 | O23: =M23-L23 -> -1721.62 | P23: =N23-M23 -> 2122.3132 | Q23: =O23/L23 -> -0.84602986 | R23: =P23/M23 -> 6.7736281 | S23: =_xlfn.RANK.EQ(L23,L$8:L$30,0) -> 14 | U23: CHINA | V23: 40 | W23: 27 | X23: 26 | Y23: =W23-V23 -> -13 | Z23: =X23-W23 -> -1 | AA23: =Y23/V23 -> -0.325 | AB23: =Z23/W23 -> -0.037037037 | AC23: =_xlfn.RANK.EQ(V23,V$7:V$29,0) -> 18 | AE23: COSTA RICA | AF23: 100 | AG23: 498.96 | AH23: 1918.56 | AI23: =AG23-AF23 -> 398.96 | AJ23: =AH23-AG23 -> 1419.6 | AK23: =AI23/AF23 -> 3.9896 | AL23: =AJ23/AG23 -> 2.8451178 | AM23: =_xlfn.RANK.EQ(AF23,AF$11:AF$33,0) -> 18
A24: CHINA | B24: 75132.12 | C24: 46711.96 | D24: 39682.58 | E24: =C24-B24 -> -28420.16 | F24: =D24-C24 -> -7029.38 | G24: =E24/B24 -> -0.37826911 | H24: =F24/C24 -> -0.15048352 | I24: =_xlfn.RANK.EQ(B24,B$8:B$30,0) -> 20 | K24: CHINA | L24: 0 | M24: 0 | N24: 0 | O24: =M24-L24 -> 0 | P24: =N24-M24 -> 0 | Q24: =O24/L24 -> #DIV/0! | R24: =P24/M24 -> #DIV/0! | S24: =_xlfn.RANK.EQ(L24,L$8:L$30,0) -> 19 | U24: CUBA | V24: 0 | W24: 0 | X24: 0 | Y24: =W24-V24 -> 0 | Z24: =X24-W24 -> 0 | AA24: =Y24/V24 -> #DIV/0! | AB24: =Z24/W24 -> #DIV/0! | AC24: =_xlfn.RANK.EQ(V24,V$7:V$29,0) -> 23 | AE24: BARBADOS | AF24: 1063.82 | AG24: 7144.19 | AH24: 13370.612 | AI24: =AG24-AF24 -> 6080.37 | AJ24: =AH24-AG24 -> 6226.4222 | AK24: =AI24/AF24 -> 5.7156004 | AL24: =AJ24/AG24 -> 0.87153648 | AM24: =_xlfn.RANK.EQ(AF24,AF$11:AF$33,0) -> 17
A25: CUBA | B25: 0 | C25: 0 | D25: 0 | E25: =C25-B25 -> 0 | F25: =D25-C25 -> 0 | G25: =E25/B25 -> #DIV/0! | H25: =F25/C25 -> #DIV/0! | I25: =_xlfn.RANK.EQ(B25,B$8:B$30,0) -> 23 | K25: CUBA | L25: 0 | M25: 0 | N25: 0 | O25: =M25-L25 -> 0 | P25: =N25-M25 -> 0 | Q25: 0 | R25: 0 | S25: =_xlfn.RANK.EQ(L25,L$8:L$30,0) -> 19 | U25: KENYA | V25: 33 | W25: 67 | X25: 81 | Y25: =W25-V25 -> 34 | Z25: =X25-W25 -> 14 | AA25: =Y25/V25 -> 1.030303 | AB25: =Z25/W25 -> 0.20895522 | AC25: =_xlfn.RANK.EQ(V25,V$7:V$29,0) -> 20 | AE25: PANAMA | AF25: 2714.4 | AG25: 2009.55 | AH25: 1839.2793 | AI25: =AG25-AF25 -> -704.85 | AJ25: =AH25-AG25 -> -170.27073 | AK25: =AI25/AF25 -> -0.25967065 | AL25: =AJ25/AG25 -> -0.084730776 | AM25: =_xlfn.RANK.EQ(AF25,AF$11:AF$33,0) -> 11
A26: KENYA | B26: 103774.7 | C26: 153254.3 | D26: 205916.79 | E26: =C26-B26 -> 49479.6 | F26: =D26-C26 -> 52662.492 | G26: =E26/B26 -> 0.47679829 | H26: =F26/C26 -> 0.34362815 | I26: =_xlfn.RANK.EQ(B26,B$8:B$30,0) -> 18 | K26: KENYA | L26: 3110.25 | M26: 4348.48 | N26: 7704.74 | O26: =M26-L26 -> 1238.23 | P26: =N26-M26 -> 3356.26 | Q26: =O26/L26 -> 0.39811269 | R26: =P26/M26 -> 0.77182372 | S26: =_xlfn.RANK.EQ(L26,L$8:L$30,0) -> 9 | U26: MEXICO | V26: 115 | W26: 147 | X26: 185 | Y26: =W26-V26 -> 32 | Z26: =X26-W26 -> 38 | AA26: =Y26/V26 -> 0.27826087 | AB26: =Z26/W26 -> 0.2585034 | AC26: =_xlfn.RANK.EQ(V26,V$7:V$29,0) -> 13 | AE26: BELIZE | AF26: 2034.94 | AG26: 313.32 | AH26: 2435.6332 | AI26: =AG26-AF26 -> -1721.62 | AJ26: =AH26-AG26 -> 2122.3132 | AK26: =AI26/AF26 -> -0.84602986 | AL26: =AJ26/AG26 -> 6.7736281 | AM26: =_xlfn.RANK.EQ(AF26,AF$11:AF$33,0) -> 14
A27: MEXICO | B27: 183537.31 | C27: 223406.78 | D27: 357101.59 | E27: =C27-B27 -> 39869.47 | F27: =D27-C27 -> 133694.81 | G27: =E27/B27 -> 0.21722815 | H27: =F27/C27 -> 0.59843669 | I27: =_xlfn.RANK.EQ(B27,B$8:B$30,0) -> 15 | K27: MEXICO | L27: 0 | M27: 1673.82 | N27: 1065.26 | O27: =M27-L27 -> 1673.82 | P27: =N27-M27 -> -608.56 | Q27: =O27/L27 -> #DIV/0! | R27: =P27/M27 -> -0.36357553 | S27: =_xlfn.RANK.EQ(L27,L$8:L$30,0) -> 19 | U27: NEPAL | V27: 170 | W27: 174 | X27: 259 | Y27: =W27-V27 -> 4 | Z27: =X27-W27 -> 85 | AA27: =Y27/V27 -> 0.023529412 | AB27: =Z27/W27 -> 0.48850575 | AC27: =_xlfn.RANK.EQ(V27,V$7:V$29,0) -> 11 | AE27: CHINA | AF27: 0 | AG27: 0 | AH27: 0 | AI27: =AG27-AF27 -> 0 | AJ27: =AH27-AG27 -> 0 | AK27: =AI27/AF27 -> #DIV/0! | AL27: =AJ27/AG27 -> #DIV/0! | AM27: =_xlfn.RANK.EQ(AF27,AF$11:AF$33,0) -> 19
A28: NEPAL | B28: 378513.68 | C28: 374459.45 | D28: 431836.28 | E28: =C28-B28 -> -4054.23 | F28: =D28-C28 -> 57376.826 | G28: =E28/B28 -> -0.010710921 | H28: =F28/C28 -> 0.15322574 | I28: =_xlfn.RANK.EQ(B28,B$8:B$30,0) -> 11 | K28: NEPAL | L28: 1755.7 | M28: 5003.41 | N28: 0 | O28: =M28-L28 -> 3247.71 | P28: =N28-M28 -> -5003.41 | Q28: 0 | R28: 0 | S28: =_xlfn.RANK.EQ(L28,L$8:L$30,0) -> 15 | U28: PERU | V28: 57 | W28: 50 | X28: 96 | Y28: =W28-V28 -> -7 | Z28: =X28-W28 -> 46 | AA28: =Y28/V28 -> -0.12280702 | AB28: =Z28/W28 -> 0.92 | AC28: =_xlfn.RANK.EQ(V28,V$7:V$29,0) -> 15 | AE28: CUBA | AF28: 0 | AG28: 0 | AH28: 0 | AI28: =AG28-AF28 -> 0 | AJ28: =AH28-AG28 -> 0 | AK28: 0 | AL28: 0 | AM28: =_xlfn.RANK.EQ(AF28,AF$11:AF$33,0) -> 19
A29: PERU | B29: 28361.28 | C29: 7416.58 | D29: 167472.61 | E29: =C29-B29 -> -20944.7 | F29: =D29-C29 -> 160056.03 | G29: =E29/B29 -> -0.73849629 | H29: =F29/C29 -> 21.580841 | I29: =_xlfn.RANK.EQ(B29,B$8:B$30,0) -> 22 | K29: PERU | L29: 0 | M29: 0 | N29: 485 | O29: =M29-L29 -> 0 | P29: =N29-M29 -> 485 | Q29: =O29/L29 -> #DIV/0! | R29: =P29/M29 -> #DIV/0! | S29: =_xlfn.RANK.EQ(L29,L$8:L$30,0) -> 19 | U29: ZIMBABWE | V29: 40 | W29: 33 | X29: 74 | Y29: =W29-V29 -> -7 | Z29: =X29-W29 -> 41 | AA29: =Y29/V29 -> -0.175 | AB29: =Z29/W29 -> 1.2424242 | AC29: =_xlfn.RANK.EQ(V29,V$7:V$29,0) -> 18 | AE29: KENYA | AF29: 3110.25 | AG29: 4348.48 | AH29: 7704.74 | AI29: =AG29-AF29 -> 1238.23 | AJ29: =AH29-AG29 -> 3356.26 | AK29: 1 | AL29: =AJ29/AG29 -> 0.77182372 | AM29: =_xlfn.RANK.EQ(AF29,AF$11:AF$33,0) -> 9
A30: ZIMBABWE | B30: 226670.06 | C30: 172657.83 | D30: 177353.55 | E30: =C30-B30 -> -54012.23 | F30: =D30-C30 -> 4695.7241 | G30: =E30/B30 -> -0.23828568 | H30: =F30/C30 -> 0.027196705 | I30: =_xlfn.RANK.EQ(B30,B$8:B$30,0) -> 14 | K30: ZIMBABWE | L30: 2073.72 | M30: 176.88 | N30: 0 | O30: =M30-L30 -> -1896.84 | P30: =N30-M30 -> -176.88 | Q30: =O30/L30 -> -0.91470401 | R30: 1 | S30: =_xlfn.RANK.EQ(L30,L$8:L$30,0) -> 13 | U30: OTHER | V30: 722 | W30: 593 | X30: 818 | Y30: =W30-V30 -> -129 | Z30: =X30-W30 -> 225 | AA30: =Y30/V30 -> -0.17867036 | AB30: =Z30/W30 -> 0.37942664 | AE30: MEXICO | AF30: 0 | AG30: 1673.82 | AH30: 1065.26 | AI30: =AG30-AF30 -> 1673.82 | AJ30: =AH30-AG30 -> -608.56 | AK30: =AI30/AF30 -> #DIV/0! | AL30: =AJ30/AG30 -> -0.36357553 | AM30: =_xlfn.RANK.EQ(AF30,AF$11:AF$33,0) -> 19
A31: OTHER | B31: 1685575.3 | C31: 1620721.8 | D31: 1550799.4 | E31: =C31-B31 -> -64853.51 | F31: =D31-C31 -> -69922.435 | G31: =E31/B31 -> -0.038475593 | H31: =F31/C31 -> -0.043142774 | K31: OTHER | L31: 269113.02 | M31: 423489.44 | N31: 296259.99 | O31: =M31-L31 -> 154376.42 | P31: =N31-M31 -> -127229.45 | Q31: =O31/L31 -> 0.57364902 | R31: =P31/M31 -> -0.30043121 | U31: TOTAL TRANSACTIONS | V31: =SUM(V7:V30) -> 31102 | W31: =SUM(W7:W30) -> 32547 | X31: =SUM(X7:X30) -> 35103 | Y31: =W31-V31 -> 1445 | Z31: =X31-W31 -> 2556 | AA31: =Y31/V31 -> 0.046460035 | AB31: =Z31/W31 -> 0.078532584 | AE31: NEPAL | AF31: 1755.7 | AG31: 5003.41 | AH31: 0 | AI31: =AG31-AF31 -> 3247.71 | AJ31: =AH31-AG31 -> -5003.41 | AK31: 0 | AL31: 0 | AM31: =_xlfn.RANK.EQ(AF31,AF$11:AF$33,0) -> 15
A32: TOTALS | B32: =SUM(B8:B31) -> 74115932 | C32: =SUM(C8:C31) -> 75367864 | D32: =SUM(D8:D31) -> 82206783 | E32: =C32-B32 -> 1251932.2 | F32: =D32-C32 -> 6838919 | G32: =E32/B32 -> 0.016891539 | H32: =F32/C32 -> 0.090740517 | K32: TOTALS | L32: =SUM(L8:L31) -> 1828326.8 | M32: =SUM(M8:M31) -> 2675231.7 | N32: =SUM(N8:N31) -> 2650456.6 | O32: =M32-L32 -> 846904.97 | P32: =N32-M32 -> -24775.159 | Q32: =O32/L32 -> 0.46321314 | R32: =P32/M32 -> -0.0092609394 | U32: VALUE IN US$ (>CI$500) | V32: 36559916 | W32: 38542029 | X32: 41540120 | Y32: =W32-V32 -> 1982113.5 | Z32: =X32-W32 -> 2998091.2 | AA32: =Y32/V32 -> 0.054215482 | AB32: =Z32/W32 -> 0.077787581 | AE32: PERU | AF32: 0 | AG32: 0 | AH32: 485 | AI32: =AG32-AF32 -> 0 | AJ32: =AH32-AG32 -> 485 | AK32: =AI32/AF32 -> #DIV/0! | AL32: =AJ32/AG32 -> #DIV/0! | AM32: =_xlfn.RANK.EQ(AF32,AF$11:AF$33,0) -> 19
AE33: ZIMBABWE | AF33: 2073.72 | AG33: 176.88 | AH33: 0 | AI33: =AG33-AF33 -> -1896.84 | AJ33: =AH33-AG33 -> -176.88 | AK33: =AI33/AF33 -> -0.91470401 | AL33: 0 | AM33: =_xlfn.RANK.EQ(AF33,AF$11:AF$33,0) -> 13
AE34: OTHER | AF34: 269113.02 | AG34: 423489.44 | AH34: 296259.99 | AI34: =AG34-AF34 -> 154376.42 | AJ34: =AH34-AG34 -> -127229.45 | AK34: =AI34/AF34 -> 0.57364902 | AL34: =AJ34/AG34 -> -0.30043121
A35: COUNTRY | B35: 2020Q4 | C35: 2021Q4 | D35: 2022Q4 | E35: 17/18 Diff | F35: 18/19 Diff | K35: COUNTRY | L35: 2020Q4 | M35: 2021Q4 | N35: 2022Q4 | O35: 17/18 Diff | P35: 18/19 Diff | AE35: VALUE IN US$ | AF35: =SUM(AF11:AF34) -> 1828326.8 | AG35: =SUM(AG11:AG34) -> 2675231.7 | AH35: 2605187 | AI35: =AG35-AF35 -> 846904.97 | AJ35: =AH35-AG35 -> -70044.67 | AK35: =AI35/AF35 -> 0.46321314 | AL35: =AJ35/AG35 -> -0.026182655
A36: JAMAICA | B36: =B8/B$32 -> 0.59539756 | C36: =C8/C$32 -> 0.60365166 | D36: =D8/D$32 -> 0.61028959 | E36: =C36-B36 -> 0.0082541075 | F36: =D36-C36 -> 0.0066379251 | I36: =_xlfn.RANK.EQ(B36,B$36:B$58,0) -> 1 | K36: JAMAICA | L36: =L8/L$32 -> 0.084387055 | M36: =M8/M$32 -> 0.12656393 | N36: =N8/N$32 -> 0.1603822 | O36: =M36-L36 -> 0.042176879 | P36: =N36-M36 -> 0.033818268 | S36: =_xlfn.RANK.EQ(L36,L$36:L$58,0) -> 3 | U36: COUNTRY | V36: 2020Q4 | W36: 2021Q4 | X36: 2022Q4 | Y36: 17/18 Diff | Z36: 18/19 Diff
A37: HONDURAS | B37: =B9/B$32 -> 0.071532805 | C37: =C9/C$32 -> 0.072437396 | D37: =D9/D$32 -> 0.068606779 | E37: =C37-B37 -> 0.000904591 | F37: =D37-C37 -> -0.0038306169 | I37: =_xlfn.RANK.EQ(B37,B$36:B$58,0) -> 3 | K37: HONDURAS | L37: =L9/L$32 -> 0.0049807727 | M37: =M9/M$32 -> 0.010413218 | N37: =N9/N$32 -> 0.013185763 | O37: =M37-L37 -> 0.0054324449 | P37: =N37-M37 -> 0.0027725451 | S37: =_xlfn.RANK.EQ(L37,L$36:L$58,0) -> 7 | U37: JAMAICA | V37: 119945 | W37: 115690 | X37: 125312 | Y37: =W37-V37 -> -4255 | Z37: =X37-W37 -> 9622 | AA37: =Y37/V37 -> -0.035474593 | AB37: =Z37/W37 -> 0.083170542 | AC37: =_xlfn.RANK.EQ(V37,V$37:V$59,0) -> 1
A38: PHILIPPINES | B38: =B10/B$32 -> 0.15828564 | C38: =C10/C$32 -> 0.16057238 | D38: =D10/D$32 -> 0.15954287 | E38: =C38-B38 -> 0.0022867358 | F38: =D38-C38 -> -0.0010295053 | I38: =_xlfn.RANK.EQ(B38,B$36:B$58,0) -> 2 | K38: PHILIPPINES | L38: =L10/L$32 -> 0.012597693 | M38: =M10/M$32 -> 0.023232642 | N38: =N10/N$32 -> 0.027453466 | O38: =M38-L38 -> 0.010634948 | P38: =N38-M38 -> 0.0042208247 | S38: =_xlfn.RANK.EQ(L38,L$36:L$58,0) -> 5 | U38: HONDURAS | V38: 15423 | W38: 14948 | X38: 14854 | Y38: =W38-V38 -> -475 | Z38: =X38-W38 -> -94 | AA38: =Y38/V38 -> -0.030798159 | AB38: =Z38/W38 -> -0.0062884667 | AC38: =_xlfn.RANK.EQ(V38,V$37:V$59,0) -> 3
A39: DOMINICAN REPUBLIC | B39: =B11/B$32 -> 0.019242278 | C39: =C11/C$32 -> 0.019086836 | D39: =D11/D$32 -> 0.019995037 | E39: =C39-B39 -> -0.00015544234 | F39: =D39-C39 -> 0.00090820147 | I39: =_xlfn.RANK.EQ(B39,B$36:B$58,0) -> 6 | K39: DOMINICAN REPUBLIC | L39: =L11/L$32 -> 0.00085840783 | M39: =M11/M$32 -> 0.0021149308 | N39: =N11/N$32 -> 0.0032598308 | O39: =M39-L39 -> 0.001256523 | P39: =N39-M39 -> 0.0011449 | S39: =_xlfn.RANK.EQ(L39,L$36:L$58,0) -> 16 | U39: PHILIPPINES | V39: 18077 | W39: 19051 | X39: 20581 | Y39: =W39-V39 -> 974 | Z39: =X39-W39 -> 1530 | AA39: =Y39/V39 -> 0.053880622 | AB39: =Z39/W39 -> 0.080310745 | AC39: =_xlfn.RANK.EQ(V39,V$37:V$59,0) -> 2
A40: NICARAGUA | B40: =B12/B$32 -> 0.024879125 | C40: =C12/C$32 -> 0.022846523 | D40: =D12/D$32 -> 0.024726255 | E40: =C40-B40 -> -0.0020326026 | F40: =D40-C40 -> 0.0018797318 | I40: =_xlfn.RANK.EQ(B40,B$36:B$58,0) -> 5 | K40: NICARAGUA | L40: =L12/L$32 -> 0.0015703976 | M40: =M12/M$32 -> 0.0016586152 | N40: =N12/N$32 -> 0.0048313638 | O40: =M40-L40 -> 8.8217569e-05 | P40: =N40-M40 -> 0.0031727486 | S40: =_xlfn.RANK.EQ(L40,L$36:L$58,0) -> 10 | U40: DOMINICAN REPUBLIC | V40: 2470 | W40: 2326 | X40: 2618 | Y40: =W40-V40 -> -144 | Z40: =X40-W40 -> 292 | AA40: =Y40/V40 -> -0.058299595 | AB40: =Z40/W40 -> 0.1255374 | AC40: =_xlfn.RANK.EQ(V40,V$37:V$59,0) -> 6 | AF40: 0.62901275 | AG40: 0.59539756 | AH40: =AF40-AG40 -> 0.033615196
A41: COLOMBIA | B41: =B13/B$32 -> 0.012485071 | C41: =C13/C$32 -> 0.0099688533 | D41: =D13/D$32 -> 0.009963595 | E41: =C41-B41 -> -0.0025162175 | F41: =D41-C41 -> -5.2582891e-06 | I41: =_xlfn.RANK.EQ(B41,B$36:B$58,0) -> 7 | K41: COLOMBIA | L41: =L13/L$32 -> 0.0093229178 | M41: =M13/M$32 -> 0.0041529075 | N41: =N13/N$32 -> 0.0014495465 | O41: =M41-L41 -> -0.0051700103 | P41: =N41-M41 -> -0.0027033611 | S41: =_xlfn.RANK.EQ(L41,L$36:L$58,0) -> 6 | U41: NICARAGUA | V41: 5230 | W41: 5461 | X41: 6296 | Y41: =W41-V41 -> 231 | Z41: =X41-W41 -> 835 | AA41: =Y41/V41 -> 0.04416826 | AB41: =Z41/W41 -> 0.1529024 | AC41: =_xlfn.RANK.EQ(V41,V$37:V$59,0) -> 5
A42: GUYANA | B42: =B14/B$32 -> 0.0082347608 | C42: =C14/C$32 -> 0.007538289 | D42: =D14/D$32 -> 0.0061665028 | E42: =C42-B42 -> -0.0006964718 | F42: =D42-C42 -> -0.0013717862 | I42: =_xlfn.RANK.EQ(B42,B$36:B$58,0) -> 8 | K42: GUYANA | L42: =L14/L$32 -> 0.0011895576 | M42: =M14/M$32 -> 0.0011582511 | N42: =N14/N$32 -> 0.0013883091 | O42: =M42-L42 -> -3.1306541e-05 | P42: =N42-M42 -> 0.00023005802 | S42: =_xlfn.RANK.EQ(L42,L$36:L$58,0) -> 12 | U42: COLUMBIA | V42: 2169 | W42: 1725 | X42: 2042 | Y42: =W42-V42 -> -444 | Z42: =X42-W42 -> 317 | AA42: =Y42/V42 -> -0.20470263 | AB42: =Z42/W42 -> 0.18376812 | AC42: =_xlfn.RANK.EQ(V42,V$37:V$59,0) -> 7
A43: TRINIDAD & TOBAGO | B43: =B15/B$32 -> 0.0017674242 | C43: =C15/C$32 -> 0.001271532 | D43: =D15/D$32 -> 0.0013398573 | E43: =C43-B43 -> -0.00049589219 | F43: =D43-C43 -> 6.8325261e-05 | I43: =_xlfn.RANK.EQ(B43,B$36:B$58,0) -> 17 | K43: TRINIDAD & TOBAGO | L43: =L15/L$32 -> 0.0036678127 | M43: =M15/M$32 -> 0.0050647837 | N43: =N15/N$32 -> 0.0048721645 | O43: =M43-L43 -> 0.001396971 | P43: =N43-M43 -> -0.00019261924 | S43: =_xlfn.RANK.EQ(L43,L$36:L$58,0) -> 8 | U43: GUYANA | V43: 1256 | W43: 1010 | X43: 961 | Y43: =W43-V43 -> -246 | Z43: =X43-W43 -> -49 | AA43: =Y43/V43 -> -0.19585987 | AB43: =Z43/W43 -> -0.048514851 | AC43: =_xlfn.RANK.EQ(V43,V$37:V$59,0) -> 8 | AF43: 1828326.8 | AG43: 1653916.6 | AH43: =AF43-AG43 -> 174410.15
A44: INDIA | B44: =B16/B$32 -> 0.0059080466 | C44: =C16/C$32 -> 0.005075939 | D44: =D16/D$32 -> 0.0050988184 | E44: =C44-B44 -> -0.00083210762 | F44: =D44-C44 -> 2.2879411e-05 | I44: =_xlfn.RANK.EQ(B44,B$36:B$58,0) -> 9 | K44: INDIA | L44: =L16/L$32 -> 0 | M44: =M16/M$32 -> 0 | N44: =N16/N$32 -> 0 | O44: =M44-L44 -> 0 | P44: =N44-M44 -> 0 | S44: =_xlfn.RANK.EQ(L44,L$36:L$58,0) -> 19 | U44: TRINIDAD & TOBAGO | V44: 345 | W44: 330 | X44: 396 | Y44: =W44-V44 -> -15 | Z44: =X44-W44 -> 66 | AA44: =Y44/V44 -> -0.043478261 | AB44: =Z44/W44 -> 0.2 | AC44: =_xlfn.RANK.EQ(V44,V$37:V$59,0) -> 15
A45: UNITED KINGDOM | B45: =B17/B$32 -> 0.0034578769 | C45: =C17/C$32 -> 0.0033161874 | D45: =D17/D$32 -> 0.0029359842 | E45: =C45-B45 -> -0.00014168953 | F45: =D45-C45 -> -0.00038020324 | I45: =_xlfn.RANK.EQ(B45,B$36:B$58,0) -> 13 | K45: UNITED KINGDOM | L45: =L17/L$32 -> 0.11392015 | M45: =M17/M$32 -> 0.066284479 | N45: =N17/N$32 -> 0.054910612 | O45: =M45-L45 -> -0.047635673 | P45: =N45-M45 -> -0.011373867 | S45: =_xlfn.RANK.EQ(L45,L$36:L$58,0) -> 2 | U45: INDIA | V45: 461 | W45: 386 | X45: 361 | Y45: =W45-V45 -> -75 | Z45: =X45-W45 -> -25 | AA45: =Y45/V45 -> -0.1626898 | AB45: =Z45/W45 -> -0.064766839 | AC45: =_xlfn.RANK.EQ(V45,V$37:V$59,0) -> 14
A46: UNITED STATES | B46: =B18/B$32 -> 0.048792092 | C46: =C18/C$32 -> 0.046164958 | D46: =D18/D$32 -> 0.042556458 | E46: =C46-B46 -> -0.0026271347 | F46: =D46-C46 -> -0.0036084996 | I46: =_xlfn.RANK.EQ(B46,B$36:B$58,0) -> 4 | K46: UNITED STATES | L46: =L18/L$32 -> 0.54771229 | M46: =M18/M$32 -> 0.53532107 | N46: =N18/N$32 -> 0.5507998 | O46: =M46-L46 -> -0.012391218 | P46: =N46-M46 -> 0.015478725 | S46: =_xlfn.RANK.EQ(L46,L$36:L$58,0) -> 1 | U46: UNITED KINGDOM | V46: 539 | W46: 582 | X46: 507 | Y46: =W46-V46 -> 43 | Z46: =X46-W46 -> -75 | AA46: =Y46/V46 -> 0.079777365 | AB46: =Z46/W46 -> -0.12886598 | AC46: =_xlfn.RANK.EQ(V46,V$37:V$59,0) -> 12
A47: CANADA | B47: =B19/B$32 -> 0.0056688523 | C47: =C19/C$32 -> 0.0059209684 | D47: =D19/D$32 -> 0.0057625507 | E47: =C47-B47 -> 0.00025211609 | F47: =D47-C47 -> -0.00015841764 | I47: =_xlfn.RANK.EQ(B47,B$36:B$58,0) -> 10 | K47: CANADA | L47: =L19/L$32 -> 0.065572234 | M47: =M19/M$32 -> 0.057822258 | N47: =N19/N$32 -> 0.054816727 | O47: =M47-L47 -> -0.0077499758 | P47: =N47-M47 -> -0.0030055314 | S47: =_xlfn.RANK.EQ(L47,L$36:L$58,0) -> 4 | U47: UNITED STATES | V47: 6648 | W47: 5913 | X47: 6202 | Y47: =W47-V47 -> -735 | Z47: =X47-W47 -> 289 | AA47: =Y47/V47 -> -0.11055957 | AB47: =Z47/W47 -> 0.048875359 | AC47: =_xlfn.RANK.EQ(V47,V$37:V$59,0) -> 4
A48: COSTA RICA | B48: =B20/B$32 -> 0.0041079663 | C48: =C20/C$32 -> 0.0033875422 | D48: =D20/D$32 -> 0.00334678 | E48: =C48-B48 -> -0.00072042409 | F48: =D48-C48 -> -4.0762164e-05 | I48: =_xlfn.RANK.EQ(B48,B$36:B$58,0) -> 12 | K48: COSTA RICA | L48: =L20/L$32 -> 5.4694819e-05 | M48: =M20/M$32 -> 0.00018651095 | N48: =N20/N$32 -> 0.00072386019 | O48: =M48-L48 -> 0.00013181613 | P48: =N48-M48 -> 0.00053734925 | S48: =_xlfn.RANK.EQ(L48,L$36:L$58,0) -> 18 | U48: CANADA | V48: 645 | W48: 642 | X48: 692 | Y48: =W48-V48 -> -3 | Z48: =X48-W48 -> 50 | AA48: =Y48/V48 -> -0.0046511628 | AB48: =Z48/W48 -> 0.07788162 | AC48: =_xlfn.RANK.EQ(V48,V$37:V$59,0) -> 9
A49: BARBADOS | B49: =B21/B$32 -> 0.0010730167 | C49: =C21/C$32 -> 0.0010872411 | D49: =D21/D$32 -> 0.00099817249 | E49: =C49-B49 -> 1.4224444e-05 | F49: =D49-C49 -> -8.9068615e-05 | I49: =_xlfn.RANK.EQ(B49,B$36:B$58,0) -> 19 | K49: BARBADOS | L49: =L21/L$32 -> 0.00058185442 | M49: =M21/M$32 -> 0.0026704939 | N49: =N21/N$32 -> 0.0050446449 | O49: =M49-L49 -> 0.0020886395 | P49: =N49-M49 -> 0.002374151 | S49: =_xlfn.RANK.EQ(L49,L$36:L$58,0) -> 17 | U49: COSTA RICA | V49: 592 | W49: 525 | X49: 610 | Y49: =W49-V49 -> -67 | Z49: =X49-W49 -> 85 | AA49: =Y49/V49 -> -0.11317568 | AB49: =Z49/W49 -> 0.16190476 | AC49: =_xlfn.RANK.EQ(V49,V$37:V$59,0) -> 10
A50: PANAMA | B50: =B22/B$32 -> 0.0008707781 | C50: =C22/C$32 -> 0.00099381561 | D50: =D22/D$32 -> 0.00092064622 | E50: =C50-B50 -> 0.00012303752 | F50: =D50-C50 -> -7.3169398e-05 | I50: =_xlfn.RANK.EQ(B50,B$36:B$58,0) -> 21 | K50: PANAMA | L50: =L22/L$32 -> 0.0014846362 | M50: =M22/M$32 -> 0.00075116858 | N50: =N22/N$32 -> 0.00069394809 | O50: =M50-L50 -> -0.00073346758 | P50: =N50-M50 -> -5.7220485e-05 | S50: =_xlfn.RANK.EQ(L50,L$36:L$58,0) -> 11 | U50: BARBADOS | V50: 183 | W50: 138 | X50: 143 | Y50: =W50-V50 -> -45 | Z50: =X50-W50 -> 5 | AA50: =Y50/V50 -> -0.24590164 | AB50: =Z50/W50 -> 0.036231884 | AC50: =_xlfn.RANK.EQ(V50,V$37:V$59,0) -> 20
A51: BELIZE | B51: =B23/B$32 -> 0.0021160313 | C51: =C23/C$32 -> 0.0022006097 | D51: =D23/D$32 -> 0.0021062931 | E51: =C51-B51 -> 8.4578387e-05 | F51: =D51-C51 -> -9.4316518e-05 | I51: =_xlfn.RANK.EQ(B51,B$36:B$58,0) -> 16 | K51: BELIZE | L51: =L23/L$32 -> 0.0011130067 | M51: =M23/M$32 -> 0.00011711883 | N51: =N23/N$32 -> 0.00091894853 | O51: =M51-L51 -> -0.00099588792 | P51: =N51-M51 -> 0.00080182971 | S51: =_xlfn.RANK.EQ(L51,L$36:L$58,0) -> 14 | U51: PANAMA | V51: 214 | W51: 240 | X51: 209 | Y51: =W51-V51 -> 26 | Z51: =X51-W51 -> -31 | AA51: =Y51/V51 -> 0.12149533 | AB51: =Z51/W51 -> -0.12916667 | AC51: =_xlfn.RANK.EQ(V51,V$37:V$59,0) -> 18
A52: CHINA | B52: =B24/B$32 -> 0.0010137108 | C52: =C24/C$32 -> 0.00061978617 | D52: =D24/D$32 -> 0.00048271662 | E52: =C52-B52 -> -0.00039392462 | F52: =D52-C52 -> -0.00013706956 | I52: =_xlfn.RANK.EQ(B52,B$36:B$58,0) -> 20 | K52: CHINA | L52: =L24/L$32 -> 0 | M52: =M24/M$32 -> 0 | N52: =N24/N$32 -> 0 | O52: =M52-L52 -> 0 | P52: =N52-M52 -> 0 | S52: =_xlfn.RANK.EQ(L52,L$36:L$58,0) -> 19 | U52: BELIZE | V52: 463 | W52: 445 | X52: 436 | Y52: =W52-V52 -> -18 | Z52: =X52-W52 -> -9 | AA52: =Y52/V52 -> -0.03887689 | AB52: =Z52/W52 -> -0.020224719 | AC52: =_xlfn.RANK.EQ(V52,V$37:V$59,0) -> 13
A53: CUBA | B53: =B25/B$32 -> 0 | C53: =C25/C$32 -> 0 | D53: =D25/D$32 -> 0 | E53: =C53-B53 -> 0 | F53: =D53-C53 -> 0 | I53: =_xlfn.RANK.EQ(B53,B$36:B$58,0) -> 23 | K53: CUBA | L53: =L25/L$32 -> 0 | M53: =M25/M$32 -> 0 | N53: =N25/N$32 -> 0 | O53: =M53-L53 -> 0 | P53: =N53-M53 -> 0 | S53: =_xlfn.RANK.EQ(L53,L$36:L$58,0) -> 19 | U53: CHINA | V53: 60 | W53: 26 | X53: 31 | Y53: =W53-V53 -> -34 | Z53: =X53-W53 -> 5 | AA53: =Y53/V53 -> -0.56666667 | AB53: =Z53/W53 -> 0.19230769 | AC53: =_xlfn.RANK.EQ(V53,V$37:V$59,0) -> 22
A54: KENYA | B54: =B26/B$32 -> 0.0014001672 | C54: =C26/C$32 -> 0.0020334171 | D54: =D26/D$32 -> 0.0025048638 | E54: =C54-B54 -> 0.00063324981 | F54: =D54-C54 -> 0.00047144671 | I54: =_xlfn.RANK.EQ(B54,B$36:B$58,0) -> 18 | K54: KENYA | L54: =L26/L$32 -> 0.0017011456 | M54: =M26/M$32 -> 0.0016254592 | N54: =N26/N$32 -> 0.0029069482 | O54: =M54-L54 -> -7.5686401e-05 | P54: =N54-M54 -> 0.001281489 | S54: =_xlfn.RANK.EQ(L54,L$36:L$58,0) -> 9 | U54: CUBA | V54: 0 | W54: 0 | X54: 0 | Y54: =W54-V54 -> 0 | Z54: =X54-W54 -> 0 | AA54: =Y54/V54 -> #DIV/0! | AB54: =Z54/W54 -> #DIV/0! | AC54: =_xlfn.RANK.EQ(V54,V$37:V$59,0) -> 23
A55: MEXICO | B55: =B27/B$32 -> 0.0024763543 | C55: =C27/C$32 -> 0.002964218 | D55: =D27/D$32 -> 0.0043439432 | E55: =C55-B55 -> 0.00048786367 | F55: =D55-C55 -> 0.0013797252 | I55: =_xlfn.RANK.EQ(B55,B$36:B$58,0) -> 15 | K55: MEXICO | L55: =L27/L$32 -> 0 | M55: =M27/M$32 -> 0.0006256729 | N55: =N27/N$32 -> 0.00040191566 | O55: =M55-L55 -> 0.0006256729 | P55: =N55-M55 -> -0.00022375724 | S55: =_xlfn.RANK.EQ(L55,L$36:L$58,0) -> 19 | U55: KENYA | V55: 341 | W55: 393 | X55: 487 | Y55: =W55-V55 -> 52 | Z55: =X55-W55 -> 94 | AA55: =Y55/V55 -> 0.15249267 | AB55: =Z55/W55 -> 0.23918575 | AC55: =_xlfn.RANK.EQ(V55,V$37:V$59,0) -> 16
... A58: ZIMBABWE | B58: =B30/B$32 -> 0.0030583176 | C58: =C30/C$32 -> 0.002290868 | D58: =D30/D$32 -> 0.0021574078 | E58: =C58-B58 -> -0.00076744959 | F58: =D58-C58 -> -0.00013346024 | I58: =_xlfn.RANK.EQ(B58,B$36:B$58,0) -> 14 | K58: ZIMBABWE | L58: =L30/L$32 -> 0.0011342174 | M58: =M30/M$32 -> 6.6117637e-05 | N58: =N30/N$32 -> 0 | O58: =M58-L58 -> -0.0010680998 | P58: =N58-M58 -> -6.6117637e-05 | S58: =_xlfn.RANK.EQ(L58,L$36:L$58,0) -> 13 | U58: PERU | V58: 156 | W58: 114 | X58: 200 | Y58: =W58-V58 -> -42 | Z58: =X58-W58 -> 86 | AA58: =Y58/V58 -> -0.26923077 | AB58: =Z58/W58 -> 0.75438596 | AC58: =_xlfn.RANK.EQ(V58,V$37:V$59,0) -> 21
A59: OTHER | B59: =B31/B$32 -> 0.022742416 | C59: =C31/C$32 -> 0.02150415 | D59: =D31/D$32 -> 0.018864616 | E59: =C59-B59 -> -0.0012382661 | F59: =D59-C59 -> -0.0026395337 | K59: OTHER | L59: =L31/L$32 -> 0.14719088 | M59: =M31/M$32 -> 0.1583001 | N59: =N31/N$32 -> 0.11177697 | O59: =M59-L59 -> 0.011109218 | P59: =N59-M59 -> -0.04652313 | U59: ZIMBABWE | V59: 203 | W59: 67 | X59: 300 | Y59: =W59-V59 -> -136 | Z59: =X59-W59 -> 233 | AA59: =Y59/V59 -> -0.66995074 | AB59: =Z59/W59 -> 3.4776119 | AC59: =_xlfn.RANK.EQ(V59,V$37:V$59,0) -> 19
A60: TOTALS | B60: =SUM(B36:B59) -> 1 | C60: =SUM(C36:C59) -> 1 | D60: =SUM(D36:D59) -> 1 | E60: =C60-B60 -> 0 | F60: =D60-C60 -> 0 | K60: TOTALS | L60: =SUM(L36:L59) -> 1 | M60: =SUM(M36:M59) -> 1 | N60: =SUM(N36:N59) -> 1 | O60: =M60-L60 -> 0 | P60: =N60-M60 -> 0 | U60: OTHER | V60: 3238 | W60: 3317 | X60: 3437 | Y60: =W60-V60 -> 79 | Z60: =X60-W60 -> 120 | AA60: =Y60/V60 -> 0.024397776 | AB60: =Z60/W60 -> 0.036177269
U61: TOTAL TRANSACTIONS | V61: =SUM(V37:V60) -> 179467 | W61: =SUM(W37:W60) -> 174108 | X61: =SUM(X37:X60) -> 187493 | Y61: =W61-V61 -> -5359 | Z61: =X61-W61 -> 13385
U62: VALUE IN US$ (<CI$500) | V62: 37556016 | W62: 36825835 | X62: 40666663 | Y62: =W62-V62 -> -730181.31 | Z62: =X62-W62 -> 3840827.8 | AA62: =Y62/V62 -> -0.019442459 | AB62: =Z62/W62 -> 0.1042971
U63: GRAND TOTAL | V63: =V32+V62 -> 74115932 | W63: =W32+W62 -> 75367864 | X63: =X32+X62 -> 82206783 | Y63: =W63-V63 -> 1251932.2 | Z63: =X63-W63 -> 6838919 | AA63: =Y63/V63 -> 0.016891539 | AB63: =Z63/W63 -> 0.090740517
